Workbook
Name _Hlk178671600: 'Osiągnięcie celów 2016-2027'!$E$45
Name pompa_ciepła___wiatr: #REF!
Name pompa_ciepła___wiatr: #REF!
Name pompa_ciepła___wiatr: #REF!

Sheet emisja
A1: nowe źródło ciepła | B1: zastępowane źródło | C1: moc (kWt) | D1: uzysk (GJ/kWt) | E1: produkcja (GJ) | F1: wskaźnik emisji (kg CO2/GJ) | G1: ograniczenie emisji (Mg CO2/rok)
A2: pompa ciepła | B2: gaz ziemny | C2: =SUMIFS(#REF!,#REF!,$A$2,#REF!,B2) -> #REF! | D2: =#REF! -> #REF! | E2: =C2*$D$2 -> #REF! | F2: =#REF! -> #REF! | G2: =E2*F2/1000 -> #REF! | H2: =SUM(G2:G8) -> #REF!
B3: olej opałowy | C3: =SUMIFS(#REF!,#REF!,$A$2,#REF!,B3) -> #REF! | E3: =C3*$D$2 -> #REF! | F3: =#REF! -> #REF! | G3: =E3*F3/1000 -> #REF!
B4: węgiel | C4: =SUMIFS(#REF!,#REF!,$A$2,#REF!,B4) -> #REF! | E4: =C4*$D$2 -> #REF! | F4: =#REF! -> #REF! | G4: =E4*F4/1000 -> #REF!
B5: energia elektryczna | C5: =SUMIFS(#REF!,#REF!,$A$2,#REF!,B5) -> #REF! | E5: =C5*$D$2 -> #REF! | F5: =#REF! -> #REF! | G5: =E5*F5/1000 -> #REF!
B6: gaz płynny | C6: =SUMIFS(#REF!,#REF!,$A$2,#REF!,B6) -> #REF! | E6: =C6*$D$2 -> #REF! | F6: =#REF! -> #REF! | G6: =E6*F6/1000 -> #REF!
B7: ciepło sieciowe | C7: =SUMIFS(#REF!,#REF!,$A$2,#REF!,B7) -> #REF! | E7: =C7*$D$2 -> #REF! | F7: =#REF! -> #REF! | G7: =E7*F7/1000 -> #REF!
B8: inne | C8: =SUMIFS(#REF!,#REF!,$A$2,#REF!,B8) -> #REF! | E8: =C8*$D$2 -> #REF! | F8: =#REF! -> #REF! | G8: =E8*F8/1000 -> #REF!
A9: kolektory słoneczne | B9: gaz ziemny | C9: =SUMIFS(#REF!,#REF!,$A$9,#REF!,B9) -> #REF! | D9: =#REF! -> #REF! | E9: =C9*$D$9 -> #REF! | F9: =#REF! -> #REF! | G9: =E9*F9/1000 -> #REF! | H9: =SUM(G9:G15) -> #REF!
B10: olej opałowy | C10: =SUMIFS(#REF!,#REF!,$A$9,#REF!,B10) -> #REF! | E10: =C10*$D$9 -> #REF! | F10: =#REF! -> #REF! | G10: =E10*F10/1000 -> #REF!
B11: węgiel | C11: =SUMIFS(#REF!,#REF!,$A$9,#REF!,B11) -> #REF! | E11: =C11*$D$9 -> #REF! | F11: =#REF! -> #REF! | G11: =E11*F11/1000 -> #REF!
B12: energia elektryczna | C12: =SUMIFS(#REF!,#REF!,$A$9,#REF!,B12) -> #REF! | E12: =C12*$D$9 -> #REF! | F12: =#REF! -> #REF! | G12: =E12*F12/1000 -> #REF!
B13: gaz płynny | C13: =SUMIFS(#REF!,#REF!,$A$9,#REF!,B13) -> #REF! | E13: =C13*$D$9 -> #REF! | F13: =#REF! -> #REF! | G13: =E13*F13/1000 -> #REF!
B14: ciepło sieciowe | C14: =SUMIFS(#REF!,#REF!,$A$9,#REF!,B14) -> #REF! | E14: =C14*$D$9 -> #REF! | F14: =#REF! -> #REF! | G14: =E14*F14/1000 -> #REF!
B15: inne | C15: =SUMIFS(#REF!,#REF!,$A$9,#REF!,B15) -> #REF! | E15: =C15*$D$9 -> #REF! | F15: =#REF! -> #REF! | G15: =E15*F15/1000 -> #REF!
A16: biomasa | B16: gaz ziemny | C16: =SUMIFS(#REF!,#REF!,$A$16,#REF!,B16) -> #REF! | D16: =#REF! -> #REF! | E16: =C16*$D$16 -> #REF! | F16: =#REF! -> #REF! | G16: =E16*F16/1000 -> #REF! | H16: =SUM(G16:G22) -> #REF!
B17: olej opałowy | C17: =SUMIFS(#REF!,#REF!,$A$16,#REF!,B17) -> #REF! | E17: =C17*$D$16 -> #REF! | F17: =#REF! -> #REF! | G17: =E17*F17/1000 -> #REF!
B18: węgiel | C18: =SUMIFS(#REF!,#REF!,$A$16,#REF!,B18) -> #REF! | E18: =C18*$D$16 -> #REF! | F18: =#REF! -> #REF! | G18: =E18*F18/1000 -> #REF!
B19: energia elektryczna | C19: =SUMIFS(#REF!,#REF!,$A$16,#REF!,B19) -> #REF! | E19: =C19*$D$16 -> #REF! | F19: =#REF! -> #REF! | G19: =E19*F19/1000 -> #REF!
B20: gaz płynny | C20: =SUMIFS(#REF!,#REF!,$A$16,#REF!,B20) -> #REF! | E20: =C20*$D$16 -> #REF! | F20: =#REF! -> #REF! | G20: =E20*F20/1000 -> #REF!
B21: ciepło sieciowe | C21: =SUMIFS(#REF!,#REF!,$A$16,#REF!,B21) -> #REF! | E21: =C21*$D$16 -> #REF! | F21: =#REF! -> #REF! | G21: =E21*F21/1000 -> #REF!
B22: inne | C22: =SUMIFS(#REF!,#REF!,$A$16,#REF!,B22) -> #REF! | E22: =C22*$D$16 -> #REF! | F22: =#REF! -> #REF! | G22: =E22*F22/1000 -> #REF!
A23: mikrokogeneracja | B23: gaz ziemny | C23: =SUMIFS(#REF!,#REF!,$A$23,#REF!,B23) -> #REF! | D23: =#REF! -> #REF! | E23: =C23*$D$23 -> #REF! | F23: =#REF! -> #REF! | G23: =E23*F23/1000 -> #REF! | H23: =SUM(G23:G29) -> #REF!
B24: olej opałowy | C24: =SUMIFS(#REF!,#REF!,$A$23,#REF!,B24) -> #REF! | E24: =C24*$D$23 -> #REF! | F24: =#REF! -> #REF! | G24: =E24*F24/1000 -> #REF!
B25: węgiel | C25: =SUMIFS(#REF!,#REF!,$A$23,#REF!,B25) -> #REF! | E25: =C25*$D$23 -> #REF! | F25: =#REF! -> #REF! | G25: =E25*F25/1000 -> #REF!
B26: energia elektryczna | C26: =SUMIFS(#REF!,#REF!,$A$23,#REF!,B26) -> #REF! | E26: =C26*$D$23 -> #REF! | F26: =#REF! -> #REF! | G26: =E26*F26/1000 -> #REF!
B27: gaz płynny | C27: =SUMIFS(#REF!,#REF!,$A$23,#REF!,B27) -> #REF! | E27: =C27*$D$23 -> #REF! | F27: =#REF! -> #REF! | G27: =E27*F27/1000 -> #REF!
B28: ciepło sieciowe | C28: =SUMIFS(#REF!,#REF!,$A$23,#REF!,B28) -> #REF! | E28: =C28*$D$23 -> #REF! | F28: =#REF! -> #REF! | G28: =E28*F28/1000 -> #REF!
B29: inne | C29: =SUMIFS(#REF!,#REF!,$A$23,#REF!,B29) -> #REF! | E29: =C29*$D$23 -> #REF! | F29: =#REF! -> #REF! | G29: =E29*F29/1000 -> #REF!

Sheet Z
A1: Założenia do obliczeń oraz listy wybieralne | N1: Oświetlenie wskaźniki | U1: =0.330833*3.6 -> 1.1909988 | V1: Mg/CO2 na MWh
J2: Wskaźniki ciepła woda | O2: MWh/m2*rok | P2: podst. W/m2 | Q2: podst [MWh/m2*rok] | R2: rozszerz. | S2: rozszerz. | T2: pełny | U2: pełny | V2: to [h/rok]
A3: Źródło ciepła | B3: Wartości opałowe* [GJ/Mg] | C3: Koszt w zł uzyskania 1 GJ ciepła z danego nośnika** | E3: Lata budowy | F3: % powierzchni | G3: wsp.energochł. zakres [kWh/m2*rok] | H3: Wsp. energochł. rzeczywisty [kWh/m2*rok] | J3: V | K3: szkoły, urzędy | L3: 6.5 | N3: urz | O3: =Q3 -> 0.0375 | P3: 15 | Q3: =P3*$V$3/1000000 -> 0.0375 | R3: 20 | S3: =R3*$V$3/1000000 -> 0.05 | T3: 25 | U3: =T3*$V$3/1000000 -> 0.0625 | V3: 2500
A4: węgiel | B4: 22.63 | C4: 41 | E4: Do 1 966 | F4: 0.2 | G4: 270-350 | H4: 290 | J4: V | K4: gosp.dom. | L4: 35 | N4: szk | O4: =Q4 -> 0.03 | P4: 15 | Q4: =P4*$V$4/1000000 -> 0.03 | R4: 20 | S4: =R4*$V$4/1000000 -> 0.04 | T4: 25 | U4: =T4*$V$4/1000000 -> 0.05 | V4: 2000
A5: gaz | B5: 0.0400356 | C5: 70 | E5: 1967-1985 | F5: 0.22 | G5: 240-280 | H5: 250 | J5: L | K5: osoby | L5: 0 | N5: szpit | O5: =Q5 -> 0.075 | P5: 15 | Q5: =P5*$V$5/1000000 -> 0.075 | R5: 25 | S5: =R5*$V$5/1000000 -> 0.125 | T5: 35 | U5: =3.6*T5*$V$5/1000000 -> 0.63 | V5: 5000 | BA5: =IF(V5="energia el.",(IF(U5>=50,AJ5,AC5+AW5*Z!$J$46))) -> FALSE
A6: drewno | B6: 15 | C6: 38 | E6: 1986-1992 | F6: 0.1 | G6: 160-200 | H6: 175 | J6: Cw | K6: 4.19 | L6: 4.19 | N6: sport,rekr | O6: =Q6 -> 0.02 | P6: 10 | Q6: =P6*$V$6/1000000 -> 0.02 | R6: 20 | S6: =R6*$V$6/1000000 -> 0.04 | T6: 30 | U6: =T6*$V$6/1000000 -> 0.06 | V6: 2000
A7: pelet | B7: 18 | C7: 54 | E7: 1993-1996 | F7: 0.06 | G7: 120-160 | H7: 130 | J7: tuz | K7: czas uzytkowania | L7: 365 | N7: usługi | O7: =Q7 -> 0.0375 | P7: 15 | Q7: =P7*$V$7/1000000 -> 0.0375 | R7: 25 | S7: =R7*$V$7/1000000 -> 0.0625 | T7: 35 | U7: =T7*$V$7/1000000 -> 0.0875 | V7: 2500
A8: olej opałowy | B8: =40.19*0.86 -> 34.5634 | C8: 90 | E8: Od 1997 | F8: 0.42 | G8: 90-120 | H8: 115 | J8: kt | K8: mnoznik korekcyjny | L8: 1 | N8: Jeśli tak wskaż typ | P8: mnożnik
A9: sieć ciepłownicza | B9: - | C9: - | E9: 0 | F9: 0 | G9: 0 | H9: 0 | J9: gest | K9: 1000 kg/m3 | L9: 1000 | N9: kocioł gazowy | P9: =1-G13 -> 0.6
A10: energia el. | B10: - | C10: 138 | J10: delta t | K10: = 55-10 | L10: =55-10 -> 45 | N10: kocioł olejowy | P10: =1-G14 -> 0.8
A11: *żródło KOBIZE 2015, uśrednione na podstawie obliczeń własnych, dla gazu współczynnik konwersji [GJ/m3] wg PGNiG, dla oleju [GJ/m3] | J11: wsp. Wykorzyst. | L11: 0.9 | N11: nowoczesny kocioł węglowy | P11: =1-G15 -> 1
A12: **obliczono po przyjęciu uśrednionych sprawności urządzeń grzewczych oraz średnich cen nośników energii wg cenników dostawców | F12: Termomoderni-zacja | G12: Zmniejszenie zużycia energii | H12: Mnożnik | J12: kWh/rok | K12: Q= | L12: =L4*L6*L9*L10*L8*L7/(1000*3600) -> 669.09063 | N12: kolektory słoneczne
F13: kompletna | G13: 0.4 | H13: =1-G13 -> 0.6 | J13: MWh/rok | L13: =L12/1000 -> 0.66909063 | N13: wiatrak przydomowy | O13: Oźe
F14: częściowa | G14: 0.2 | H14: =1-G14 -> 0.8 | J14: GJ/rok | L14: =L13*3.6 -> 2.4087263 | N14: ogniwa fotowoltaiczne | O14: tak
F15: brak | G15: 0 | H15: =1-G15 -> 1 | J15: GJ/rok | K15: Qgosp.dom.= | L15: =L14*L11 -> 2.1678536 | N15: pompa ciepła | O15: nie
K16: Qszkoły,urzędy= | L16: =L15*L3/L4 -> 0.40260139 | N16: GWC
A18: Zanieczyszczenie | B18: Wskaźniki emisji (źródła <50kW)
B19: miano | C19: Paliwo stałe | E19: Gaz ziemny | F19: Olej opałowy | G19: Biomasa drewno | N19: kocioł na biomasę
C20: (z wyłączeniem biomasy) | N20: kolektory słoneczne
C21: Kotły starej generacji | D21: Kotły automatyczne nowej generacji | G21: Kotły starej generacji | H21: Kotły automatyczne nowej generacji | N21: wiatrak przydomowy
A22: Pył PM 10, | B22: g/GJ | C22: 225 | D22: 78 | E22: 0.5 | F22: 3 | G22: 480 | H22: 34 | N22: ogniwa fotowoltaiczne
A23: Pył PM 2,5 | B23: g/GJ | C23: 201 | D23: 70 | E23: 0.5 | F23: 3 | G23: 470 | H23: 33 | N23: pompa ciepła
A24: CO2 | B24: kg/GJ | C24: 93.74 | D24: 93.74 | E24: 55.82 | F24: 76.59 | G24: 0 | H24: 0 | N24: kocioł węglowy | O24: Ocielenie stropu | Q24: Ocieplenie ścian | S24: Okna
A25: Benzo(a)piren | B25: mg/GJ | C25: 270 | D25: 0.079 | E25: no | F25: 10 | G25: 121 | H25: 10 | N25: kocioł gazowy | O25: tak | P25: tak | Q25: tak | S25: nowe
A26: SO2 | B26: g/GJ | C26: 900 | D26: 450 | E26: 0.5 | F26: 140 | G26: 11 | H26: 11 | N26: Typ budynku | O26: nie | P26: nie | Q26: nie | S26: stare
A27: NOx | B27: g/GJ | C27: 158 | D27: 165 | E27: 50 | F27: 70 | G27: 80 | H27: 91 | N27: wolnostojący | O27: częściowe | P27: częściowe | Q27: częściowe | S27: częściowa wymiana
N28: szeregowiec
A29: Zanieczyszczenie | B29: Wskaźniki emisji (źródła >50kW) | N29: bliźniak
B30: miano | C30: Paliwo stałe | E30: Gaz ziemny | F30: Olej opałowy | G30: Biomasa drewno
C31: (z wyłączeniem biomasy) | M31: tak
C32: Kotły starej generacji | D32: Kotły automatyczne nowej generacji | G32: Kotły starej generacji | H32: Kotły automatyczne nowej generacji | M32: nie
A33: Pył PM 10, | B33: g/GJ | C33: 190 | D33: 78 | E33: 0.5 | F33: 3 | G33: 76 | H33: 34
A34: Pył PM 2,5 | B34: g/GJ | C34: 170 | D34: 70 | E34: 0.5 | F34: 3 | G34: 76 | H34: 33
A35: CO2 | B35: kg/GJ | C35: 93.74 | D35: 93.74 | E35: 55.82 | F35: 76.59 | G35: 0 | H35: 0
A36: Benzo(a)piren | B36: mg/GJ | C36: 100 | D36: 0.079 | E36: no | F36: 10 | G36: 50 | H36: 10
A37: SO2 | B37: g/GJ | C37: 900 | D37: 450 | E37: 0.5 | F37: 140 | G37: 20 | H37: 11
A38: NOx | B38: g/GJ | C38: 160 | D38: 165 | E38: 70 | F38: 70 | G38: 150 | H38: 91
A41: Wskaźniki emisji dla kotłów <50 kW
A42: poniżej 50 kW | C42: węgiel | D42: gaz | E42: drewno | F42: pelet | G42: Olej opałowy | H42: mpec | I42: prąd [SEAP] | J42: prąd [SEAP] Mg/MWh | L42: Zanieczyszczenie | M42: Wskaźniki emisji
A43: Zanieczyszenie | B43: Mg/GJ | I43: 0 | M43: miano | N43: Paliwo stałe | P43: Gaz ziemny | Q43: Olej opałowy | R43: Biomasa drewno
...

Sheet Wskaźniki emisji, założenia
A1: Wskaźniki emisji dla poszczególnych rodzajów paliw i typów kotłów wg normy PN EN 303-5:2012
A2: Niekreślony typ pieca, Paliwo - gaz,olej opałowy oraz ogrzewanie elektryczne i sieciowe
B3: PM10 [g / GJ] | C3: PM2,5 [g / GJ] | D3: CO2 [g / GJ] | E3: BaP [g / GJ] | F3: SO2 [g / GJ] | G3: Nox [g / GJ] | H3: CO [g / GJ]
A4: Ogrzewanie gazowe | B4: 1.2 | C4: 1.2 | D4: 52000 | E4: 5.6e-07 | F4: 0.3 | G4: 51 | H4: 26
A5: Ogrzewanie olejowe | B5: 1.9 | C5: 1.9 | D5: 76000 | E5: 8e-05 | F5: 70 | G5: 51 | H5: 57
A6: Ogrzewanie elektryczne | B6: 0 | C6: 0 | D6: 230833 | E6: 0 | F6: 0 | G6: 0 | H6: 0
A7: Miejska sieć ciepłownicza | B7: 0 | C7: 0 | D7: 93740 | E7: 0 | F7: 0 | G7: 0 | H7: 0
A8: Indywidualny piec C.O., Paliwo - Węgiel
B9: PM10 [g / GJ] | C9: PM2,5 [g / GJ] | D9: CO2 [g / GJ] | E9: BaP [g / GJ] | F9: SO2 [g / GJ] | G9: Nox [g / GJ] | H9: CO [g / GJ]
A10: zasilanie ręczne kotły pozaklasowe | B10: 404 | C10: 398 | D10: 91000 | E10: 0.23 | F10: 400 | G10: 110 | H10: 4600
A11: zasilanie automatyczne kotły pozaklasowe | B11: 240 | C11: 220 | D11: 95000 | E11: 0.15 | F11: 282.8 | G11: 150 | H11: 2000
A12: zasilanie ręczne, kotły - klasa 3 | B12: 200 | C12: 150 | D12: 91000 | E12: 0.2 | F12: 400 | G12: 110 | H12: 2466.78
A13: zasilanie ręczne, kotły - klasa 4 | B13: 49.5 | C13: 47.03 | D13: 91000 | E13: 0.084 | F13: 200 | G13: 110 | H13: 860
A14: zasilanie ręczne, kotły - klasa 5 | B14: 23.68 | C14: 23.33 | D14: 104000 | E14: 0.045 | F14: 0 | G14: 202 | H14: 345.35
A15: zasilanie ręczne, kotły - klasa Ecodesign | B15: 23.68 | C15: 23.33 | D15: 104000 | E15: 0.045 | F15: 0 | G15: 202 | H15: 345.35
A16: zasilanie automatyczne kotły - klasa 3 | B16: 49.34 | C16: 48.6 | D16: 92000 | E16: 0.075 | F16: 282.8 | G16: 340 | H16: 1140
A17: zasilanie automatyczne kotły - klasa 4 | B17: 23.68 | C17: 23.33 | D17: 92000 | E17: 0.045 | F17: 200 | G17: 340 | H17: 670
A18: zasilanie automatyczne kotły - klasa 5 | B18: 15.79 | C18: 15.55 | D18: 92000 | E18: 0.011 | F18: 0 | G18: 190 | H18: 246.88
A19: zasilanie automatyczne kotły - Ecodesign | B19: 15.79 | C19: 15.55 | D19: 92000 | E19: 0.011 | F19: 0 | G19: 190 | H19: 246.88
A20: Indywidualny piec C.O., Paliwo - Biomasa/Drewno
A21: zasilanie ręczne kotły pozaklasowe | B21: 760 | C21: 740 | D21: 0 | E21: 0.121 | F21: 11 | G21: 80 | H21: 4000
A22: zasilanie automatycznie kotły pozaklasowe | B22: 760 | C22: 740 | D22: 0 | E22: 0.121 | F22: 11 | G22: 80 | H22: 4000
A23: zasilanie ręczne, kotły - klasa 3 | B23: 108 | C23: 102.6 | D23: 0 | E23: 0.02 | F23: 10 | G23: 80 | H23: 2850
A24: zasilanie ręczne, kotły - klasa 4 | B24: 49.5 | C24: 47.03 | D24: 0 | E24: 0.069 | F24: 10 | G24: 110 | H24: 592.03
A25: zasilanie ręczne, kotły - klasa 5 | B25: 36 | C25: 34.2 | D25: 0 | E25: 0.05 | F25: 10 | G25: 130 | H25: 440
A26: zasilanie ręczne, kotły - klasa Ecodesign | B26: 36 | C26: 34.2 | D26: 0 | E26: 0.05 | F26: 10 | G26: 130 | H26: 440
A27: zasilanie automatyczne kotły - klasa 3 | B27: 49.5 | C27: 47.03 | D27: 0 | E27: 0.038 | F27: 20 | G27: 115 | H27: 670
A28: zasilanie automatyczne kotły - klasa 4 | B28: 23.68 | C28: 23.33 | D28: 0 | E28: 0.0074 | F28: 20 | G28: 341 | H28: 493.36
A29: zasilanie automatyczne kotły - klasa 5 | B29: 18 | C29: 17.1 | D29: 0 | E29: 0.005 | F29: 0 | G29: 100 | H29: 246.88
A30: zasilanie automatyczne kotły - Ecodesign | B30: 18 | C30: 17.1 | D30: 0 | E30: 0.005 | F30: 0 | G30: 100 | H30: 246.88
A31: Piec kaflowy, Paliwo - Węgiel
A32: Sprawność cieplna poniżej 80 proc. | B32: 424 | C32: 106 | D32: 104000 | E32: 0.26 | F32: 450 | G32: 100 | H32: 5250
A33: Sprawność cieplna co najmniej 80 proc | B33: 424 | C33: 106 | D33: 104000 | E33: 0.26 | F33: 450 | G33: 100 | H33: 5250
A34: Wyposażony w urządzenie redukujące emisję | B34: 106 | C34: 26.5 | D34: 104000 | E34: 0.26 | F34: 450 | G34: 100 | H34: 5250
A35: Spełniający wymagania ekoprojektu | B35: 17.6 | C35: 4.4 | D35: 92000 | E35: 0.011 | F35: 0 | G35: 170 | H35: 830
A36: Koza (na drewno, węgiel), Paliwo - Węgiel
A37: Sprawność cieplna poniżej 80 proc. | B37: 424 | C37: 106 | D37: 104000 | E37: 0.26 | F37: 450 | G37: 100 | H37: 5250
A38: Sprawność cieplna co najmniej 80 proc | B38: 424 | C38: 106 | D38: 104000 | E38: 0.26 | F38: 450 | G38: 100 | H38: 5250
A39: Wyposażony w urządzenie redukujące emisję | B39: 106 | C39: 26.5 | D39: 104000 | E39: 0.26 | F39: 450 | G39: 100 | H39: 5250
A40: Spełniający wymagania ekoprojektu | B40: 17.6 | C40: 4.4 | D40: 92000 | E40: 0.011 | F40: 0 | G40: 170 | H40: 830
...

Sheet Bud.gminne 2015 
A1: Baza emisji zanieczyszczeń dla sektora budynków i urządzeń komunalnych (gminnych) wraz ze zużyciem energii końcowej
A2: Dane za rok 2015 niewynikające z obliczeń pochodzą z PGN 2016
A3: Lp | B3: Nazwa budynku, adres | C3: Rok budowy | D3: Powierzchnia ogrzewana (m2) | E3: Termomodernizacja | F3: Źródło ciepła | G3: Ilość zużywanego nośnika rocznie [Mg] w przyp. gazu i oleju [m3] | H3: Typ kotła | I3: Zużycie energii na co i cwu [GJ] | J3: PM 10 [Mg/rok] | K3: PM 2,5 [Mg/rok] | L3: CO2 [Mg/rok] | M3: BaP [Mg/rok] | N3: S02 [Mg/rok] | O3: N0x [Mg/rok] | P3: CO [Mg/rok] | Q3: Zużycie energii elektr. łącznie [MWh/rok] | R3: OZE | S3: Dane dot. OZE
A4: 1 | B4: 2 | C4: 3 | D4: 4 | E4: 5 | F4: 6 | G4: 7 | I4: 8 | Q4: 9 | R4: 10
A5: 1 | B5: Budynek Urzędu Gminy, budynek OSP - dzierżawiony przez Gminę | C5: 1933 | D5: 760 | E5: częściowa | H5: zasilanie automatyczne kotły pozaklasowe | I5: =IF(F5="węgiel",G5*#REF!,IF(F5="gaz",G5*#REF!,IF(F5="biomasa",G5*#REF!,IF(F5="pelet",G5*#REF!,IF(F5="olej opałowy",G5*#REF!,IF(F5="sieć ciepłownicza",0,0)))))) -> 0 | J5: =I5*'Wskaźniki emisji, założenia'!$B$10/1000000 -> 0 | K5: =I5*'Wskaźniki emisji, założenia'!$C$10/1000000 -> 0 | L5: =I5*'Wskaźniki emisji, założenia'!$D$10/1000000 -> 0 | M5: =I5*'Wskaźniki emisji, założenia'!$E$10/1000000 -> 0 | N5: =I5*'Wskaźniki emisji, założenia'!$F$10/1000000 -> 0 | O5: =I5*'Wskaźniki emisji, założenia'!$G$10/1000000 -> 0 | P5: =I5*'Wskaźniki emisji, założenia'!$H$10/1000000 -> 0 | R5: brak
A6: 2 | B6: Gminna Biblioteka Publiczna w Bystrej Podhalańskiej, GminnyOśrodek Pomocy Społecznej | C6: 1973 | D6: 500 | E6: częściowa | H6: zasilanie automatyczne kotły pozaklasowe | I6: =IF(F6="węgiel",G6*#REF!,IF(F6="gaz",G6*#REF!,IF(F6="biomasa",G6*#REF!,IF(F6="pelet",G6*#REF!,IF(F6="olej opałowy",G6*#REF!,IF(F6="sieć ciepłownicza",0,0)))))) -> 0 | J6: =I6*'Wskaźniki emisji, założenia'!$B$10/1000000 -> 0 | K6: =I6*'Wskaźniki emisji, założenia'!$C$10/1000000 -> 0 | L6: =I6*'Wskaźniki emisji, założenia'!$D$10/1000000 -> 0 | M6: =I6*'Wskaźniki emisji, założenia'!$E$10/1000000 -> 0 | N6: =I6*'Wskaźniki emisji, założenia'!$F$10/1000000 -> 0 | O6: =I6*'Wskaźniki emisji, założenia'!$G$10/1000000 -> 0 | P6: =I6*'Wskaźniki emisji, założenia'!$H$10/1000000 -> 0 | R6: brak
A7: 3 | B7: Przedszkole Publiczne w Bystrej Podh. | C7: 1965 | D7: 552.89 | E7: brak | H7: zasilanie automatyczne kotły pozaklasowe | I7: =IF(F7="węgiel",G7*#REF!,IF(F7="gaz",G7*#REF!,IF(F7="biomasa",G7*#REF!,IF(F7="pelet",G7*#REF!,IF(F7="olej opałowy",G7*#REF!,IF(F7="sieć ciepłownicza",0,0)))))) -> 0 | J7: =I7*'Wskaźniki emisji, założenia'!$B$10/1000000 -> 0 | K7: =I7*'Wskaźniki emisji, założenia'!$C$10/1000000 -> 0 | L7: =I7*'Wskaźniki emisji, założenia'!$D$10/1000000 -> 0 | M7: =I7*'Wskaźniki emisji, założenia'!$E$10/1000000 -> 0 | N7: =I7*'Wskaźniki emisji, założenia'!$F$10/1000000 -> 0 | O7: =I7*'Wskaźniki emisji, założenia'!$G$10/1000000 -> 0 | P7: =I7*'Wskaźniki emisji, założenia'!$H$10/1000000 -> 0 | R7: brak
A8: 4 | B8: Przedszkole Publiczne w Sidzinie | D8: 988.55 | E8: kompletna | H8: zasilanie automatyczne kotły pozaklasowe | I8: =IF(F8="węgiel",G8*#REF!,IF(F8="gaz",G8*#REF!,IF(F8="biomasa",G8*#REF!,IF(F8="pelet",G8*#REF!,IF(F8="olej opałowy",G8*#REF!,IF(F8="sieć ciepłownicza",0,0)))))) -> 0 | J8: =I8*'Wskaźniki emisji, założenia'!$B$10/1000000 -> 0 | K8: =I8*'Wskaźniki emisji, założenia'!$C$10/1000000 -> 0 | L8: =I8*'Wskaźniki emisji, założenia'!$D$10/1000000 -> 0 | M8: =I8*'Wskaźniki emisji, założenia'!$E$10/1000000 -> 0 | N8: =I8*'Wskaźniki emisji, założenia'!$F$10/1000000 -> 0 | O8: =I8*'Wskaźniki emisji, założenia'!$G$10/1000000 -> 0 | P8: =I8*'Wskaźniki emisji, założenia'!$H$10/1000000 -> 0 | R8: brak
A9: 5 | B9: Zespół Szkół im. Dzieci Zamojszczyzny w Sidzinie | C9: 1972 | D9: 3622.68 | E9: częściowa | H9: zasilanie automatyczne kotły pozaklasowe | I9: =IF(F9="węgiel",G9*#REF!,IF(F9="gaz",G9*#REF!,IF(F9="biomasa",G9*#REF!,IF(F9="pelet",G9*#REF!,IF(F9="olej opałowy",G9*#REF!,IF(F9="sieć ciepłownicza",0,0)))))) -> 0 | J9: =I9*'Wskaźniki emisji, założenia'!$B$10/1000000 -> 0 | K9: =I9*'Wskaźniki emisji, założenia'!$C$10/1000000 -> 0 | L9: =I9*'Wskaźniki emisji, założenia'!$D$10/1000000 -> 0 | M9: =I9*'Wskaźniki emisji, założenia'!$E$10/1000000 -> 0 | N9: =I9*'Wskaźniki emisji, założenia'!$F$10/1000000 -> 0 | O9: =I9*'Wskaźniki emisji, założenia'!$G$10/1000000 -> 0 | P9: =I9*'Wskaźniki emisji, założenia'!$H$10/1000000 -> 0 | R9: brak
A10: 6 | B10: Dom Nauczyciela Sidzina | C10: 1972 | D10: 388 | E10: brak | H10: zasilanie automatyczne kotły pozaklasowe | I10: =IF(F10="węgiel",G10*#REF!,IF(F10="gaz",G10*#REF!,IF(F10="biomasa",G10*#REF!,IF(F10="pelet",G10*#REF!,IF(F10="olej opałowy",G10*#REF!,IF(F10="sieć ciepłownicza",0,0)))))) -> 0 | J10: =I10*'Wskaźniki emisji, założenia'!$B$10/1000000 -> 0 | K10: =I10*'Wskaźniki emisji, założenia'!$C$10/1000000 -> 0 | L10: =I10*'Wskaźniki emisji, założenia'!$D$10/1000000 -> 0 | M10: =I10*'Wskaźniki emisji, założenia'!$E$10/1000000 -> 0 | N10: =I10*'Wskaźniki emisji, założenia'!$F$10/1000000 -> 0 | O10: =I10*'Wskaźniki emisji, założenia'!$G$10/1000000 -> 0 | P10: =I10*'Wskaźniki emisji, założenia'!$H$10/1000000 -> 0 | R10: brak
A11: 7 | B11: Zespół Szkół im. św. Jana Kantego w Bystrej Podh. | C11: 1959 | D11: 4025.73 | E11: brak | H11: zasilanie automatyczne kotły pozaklasowe | I11: =IF(F11="węgiel",G11*#REF!,IF(F11="gaz",G11*#REF!,IF(F11="biomasa",G11*#REF!,IF(F11="pelet",G11*#REF!,IF(F11="olej opałowy",G11*#REF!,IF(F11="sieć ciepłownicza",0,0)))))) -> 0 | J11: =I11*'Wskaźniki emisji, założenia'!$B$10/1000000 -> 0 | K11: =I11*'Wskaźniki emisji, założenia'!$C$10/1000000 -> 0 | L11: =I11*'Wskaźniki emisji, założenia'!$D$10/1000000 -> 0 | M11: =I11*'Wskaźniki emisji, założenia'!$E$10/1000000 -> 0 | N11: =I11*'Wskaźniki emisji, założenia'!$F$10/1000000 -> 0 | O11: =I11*'Wskaźniki emisji, założenia'!$G$10/1000000 -> 0 | P11: =I11*'Wskaźniki emisji, założenia'!$H$10/1000000 -> 0 | R11: brak
A12: 8 | B12: GMINNY OŚRODEK KULTURY PROMOCJI TURYSTYKI I SPORTU BYSTRA-SIDZINA W SIDZINIE, OSP w Sidzinie | D12: 780 | E12: kompletna | H12: zasilanie automatyczne kotły pozaklasowe | I12: =IF(F12="węgiel",G12*#REF!,IF(F12="gaz",G12*#REF!,IF(F12="biomasa",G12*#REF!,IF(F12="pelet",G12*#REF!,IF(F12="olej opałowy",G12*#REF!,IF(F12="sieć ciepłownicza",0,0)))))) -> 0 | J12: =I12*'Wskaźniki emisji, założenia'!$B$10/1000000 -> 0 | K12: =I12*'Wskaźniki emisji, założenia'!$C$10/1000000 -> 0 | L12: =I12*'Wskaźniki emisji, założenia'!$D$10/1000000 -> 0 | M12: =I12*'Wskaźniki emisji, założenia'!$E$10/1000000 -> 0 | N12: =I12*'Wskaźniki emisji, założenia'!$F$10/1000000 -> 0 | O12: =I12*'Wskaźniki emisji, założenia'!$G$10/1000000 -> 0 | P12: =I12*'Wskaźniki emisji, założenia'!$H$10/1000000 -> 0 | R12: brak
A13: 9 | B13: SKANSEN W SIDZINIE- MUZEUM KULTURY LUDOWEJ | D13: 24 | E13: brak | H13: zasilanie automatyczne kotły pozaklasowe | I13: =IF(F13="węgiel",G13*#REF!,IF(F13="gaz",G13*#REF!,IF(F13="biomasa",G13*#REF!,IF(F13="pelet",G13*#REF!,IF(F13="olej opałowy",G13*#REF!,IF(F13="sieć ciepłownicza",0,0)))))) -> 0 | J13: =I13*'Wskaźniki emisji, założenia'!$B$22/1000000 -> 0 | K13: =I13*'Wskaźniki emisji, założenia'!$C$22/1000000 -> 0 | L13: =I13*'Wskaźniki emisji, założenia'!$D$22/1000000 -> 0 | M13: =I13*'Wskaźniki emisji, założenia'!$E$22/1000000 -> 0 | N13: =I13*'Wskaźniki emisji, założenia'!$F$22/1000000 -> 0 | O13: =I13*'Wskaźniki emisji, założenia'!$G$22/1000000 -> 0 | P13: =I13*'Wskaźniki emisji, założenia'!$H$22/1000000 -> 0 | R13: brak
A14: 10 | B14: Ośrodek Zdrowia w Sidzinie | C14: 1979 | D14: 649 | E14: kompletna | H14: zasilanie automatyczne kotły pozaklasowe | I14: =IF(F14="węgiel",G14*#REF!,IF(F14="gaz",G14*#REF!,IF(F14="biomasa",G14*#REF!,IF(F14="pelet",G14*#REF!,IF(F14="olej opałowy",G14*#REF!,IF(F14="sieć ciepłownicza",0,0)))))) -> 0 | J14: =I14*'Wskaźniki emisji, założenia'!$B$10/1000000 -> 0 | K14: =I14*'Wskaźniki emisji, założenia'!$C$10/1000000 -> 0 | L14: =I14*'Wskaźniki emisji, założenia'!$D$10/1000000 -> 0 | M14: =I14*'Wskaźniki emisji, założenia'!$E$10/1000000 -> 0 | N14: =I14*'Wskaźniki emisji, założenia'!$F$10/1000000 -> 0 | O14: =I14*'Wskaźniki emisji, założenia'!$G$10/1000000 -> 0 | P14: =I14*'Wskaźniki emisji, założenia'!$H$10/1000000 -> 0 | R14: brak
A15: 11 | B15: Ośrodek Zdrowia w Bystrej Podhalańskiej, Niepubliczny Zakład Opieki Zdrowotnej "MEDICUS KULKA HOLDING"- Budynek Mienia komunalnego | C15: 2010 | D15: 506 | E15: kompletna | H15: zasilanie automatyczne kotły pozaklasowe | I15: =IF(F15="węgiel",G15*#REF!,IF(F15="gaz",G15*#REF!,IF(F15="biomasa",G15*#REF!,IF(F15="pelet",G15*#REF!,IF(F15="olej opałowy",G15*#REF!,IF(F15="sieć ciepłownicza",0,0)))))) -> 0 | J15: =I15*'Wskaźniki emisji, założenia'!$B$10/1000000 -> 0 | K15: =I15*'Wskaźniki emisji, założenia'!$C$10/1000000 -> 0 | L15: =I15*'Wskaźniki emisji, założenia'!$D$10/1000000 -> 0 | M15: =I15*'Wskaźniki emisji, założenia'!$E$10/1000000 -> 0 | N15: =I15*'Wskaźniki emisji, założenia'!$F$10/1000000 -> 0 | O15: =I15*'Wskaźniki emisji, założenia'!$G$10/1000000 -> 0 | P15: =I15*'Wskaźniki emisji, założenia'!$H$10/1000000 -> 0 | R15: brak
A16: 12 | B16: Budynek mieszkalny nr 636 Sidzina | C16: 1958 | D16: 173 | E16: brak | H16: zasilanie automatyczne kotły pozaklasowe | I16: =IF(F16="węgiel",G16*#REF!,IF(F16="gaz",G16*#REF!,IF(F16="biomasa",G16*#REF!,IF(F16="pelet",G16*#REF!,IF(F16="olej opałowy",G16*#REF!,IF(F16="sieć ciepłownicza",0,0)))))) -> 0 | J16: =I16*'Wskaźniki emisji, założenia'!$B$10/1000000 -> 0 | K16: =I16*'Wskaźniki emisji, założenia'!$C$10/1000000 -> 0 | L16: =I16*'Wskaźniki emisji, założenia'!$D$10/1000000 -> 0 | M16: =I16*'Wskaźniki emisji, założenia'!$E$10/1000000 -> 0 | N16: =I16*'Wskaźniki emisji, założenia'!$F$10/1000000 -> 0 | O16: =I16*'Wskaźniki emisji, założenia'!$G$10/1000000 -> 0 | P16: =I16*'Wskaźniki emisji, założenia'!$H$10/1000000 -> 0 | R16: brak
B17: budynek socjalny nr 449 Bystra | C17: 1966 | D17: 115 | E17: brak | H17: zasilanie automatyczne kotły pozaklasowe | I17: =IF(F17="węgiel",G17*#REF!,IF(F17="gaz",G17*#REF!,IF(F17="biomasa",G17*#REF!,IF(F17="pelet",G17*#REF!,IF(F17="olej opałowy",G17*#REF!,IF(F17="sieć ciepłownicza",0,0)))))) -> 0 | J17: =I17*'Wskaźniki emisji, założenia'!$B$10/1000000 -> 0 | K17: =I17*'Wskaźniki emisji, założenia'!$C$10/1000000 -> 0 | L17: =I17*'Wskaźniki emisji, założenia'!$D$10/1000000 -> 0 | M17: =I17*'Wskaźniki emisji, założenia'!$E$10/1000000 -> 0 | N17: =I17*'Wskaźniki emisji, założenia'!$F$10/1000000 -> 0 | O17: =I17*'Wskaźniki emisji, założenia'!$G$10/1000000 -> 0 | P17: =I17*'Wskaźniki emisji, założenia'!$H$10/1000000 -> 0 | R17: brak
A18: 13 | B18: budynek socjalny nr 449A | C18: 1966 | D18: 15 | E18: brak | I18: 8.73 | J18: =I18*'Wskaźniki emisji, założenia'!$B$10/1000000 -> 0.00352692 | K18: =I18*'Wskaźniki emisji, założenia'!$C$10/1000000 -> 0.00347454 | L18: =I18*'Wskaźniki emisji, założenia'!$D$10/1000000 -> 0.79443 | M18: =I18*'Wskaźniki emisji, założenia'!$E$10/1000000 -> 2.0079e-06 | N18: =I18*'Wskaźniki emisji, założenia'!$F$10/1000000 -> 0.003492 | O18: =I18*'Wskaźniki emisji, założenia'!$G$10/1000000 -> 0.0009603 | P18: =I18*'Wskaźniki emisji, założenia'!$H$10/1000000 -> 0.040158 | R18: brak
A19: 14 | B19: Bud.magazynu bez numeru-wynajmowany | D19: 440 | E19: brak | H19: zasilanie automatyczne kotły pozaklasowe | I19: =IF(F19="węgiel",G19*#REF!,IF(F19="gaz",G19*#REF!,IF(F19="biomasa",G19*#REF!,IF(F19="pelet",G19*#REF!,IF(F19="olej opałowy",G19*#REF!,IF(F19="sieć ciepłownicza",0,0)))))) -> 0 | J19: =I19*'Wskaźniki emisji, założenia'!$B$10/1000000 -> 0 | K19: =I19*'Wskaźniki emisji, założenia'!$C$10/1000000 -> 0 | L19: =I19*'Wskaźniki emisji, założenia'!$D$10/1000000 -> 0 | M19: =I19*'Wskaźniki emisji, założenia'!$E$10/1000000 -> 0 | N19: =I19*'Wskaźniki emisji, założenia'!$F$10/1000000 -> 0 | O19: =I19*'Wskaźniki emisji, założenia'!$G$10/1000000 -> 0 | P19: =I19*'Wskaźniki emisji, założenia'!$H$10/1000000 -> 0 | R19: brak
A20: 15 | B20: Zuzycie technologiczne (wod-kan) | I20: =IF(F20="węgiel",G20*#REF!,IF(F20="gaz",G20*#REF!,IF(F20="drewno",G20*#REF!,IF(F20="pelet",G20*#REF!,IF(F20="olej opałowy",G20*#REF!,IF(F20="sieć ciepłownicza",0,0)))))) -> 0 | R20: brak
I21: =SUM(I5:I20) -> 8.73 | J21: =SUM(J5:J20) -> 0.00352692 | K21: =SUM(K5:K20) -> 0.00347454 | L21: =SUM(L5:L20) -> 0.79443 | M21: =SUM(M5:M20) -> 2.0079e-06 | N21: =SUM(N5:N20) -> 0.003492 | O21: =SUM(O5:O20) -> 0.0009603 | P21: =SUM(P5:P20) -> 0.040158 | Q21: =SUM(Q5:Q20) -> 0 | R21: brak
B22: Podsumowanie
B23: Źródło ciepła | C23: Zużycie energii cieplnej, końcowej [GJ/rok]
B25: węgiel | C25: =SUMIFS($I$5:$I$20,'Bud.gminne 2015 '!$F$5:$F$20,'Bud.gminne 2015 '!B25) -> 0
B26: biomasa | C26: =SUMIFS($I$5:$I$20,'Bud.gminne 2015 '!$F$5:$F$20,'Bud.gminne 2015 '!B26) -> 0
B27: gaz | C27: =SUMIFS($I$5:$I$20,'Bud.gminne 2015 '!$F$5:$F$20,'Bud.gminne 2015 '!B27) -> 0
B28: olej opałowy | C28: =SUMIFS($I$5:$I$20,'Bud.gminne 2015 '!$F$5:$F$20,'Bud.gminne 2015 '!B28) -> 0
B29: energia el. | C29: =SUMIFS($I$5:$I$20,'Bud.gminne 2015 '!$F$5:$F$20,'Bud.gminne 2015 '!B29) -> 0
B30: kolektory słoneczne | C30: =SUMIFS($I$5:$I$20,'Bud.gminne 2015 '!$F$5:$F$20,'Bud.gminne 2015 '!B30) -> 0
B31: Suma: | C31: =SUM(C25:C30) -> 0

Sheet Oświetlenie, en.elektr. 2015
A1: Energia elektryczna wraz z oświetleniem ulicznym - emisja zanieczyszczeń wraz ze zużyciem
A2: Rok bazowy 2015
A3: Sektor | B3: Zużycie energii elektrycznej [GJ] | C3: Zużycie energii elektrycznej [MWh] | D3: Wskaźnik emisji CO2 [Mg/MWh] | E3: Emisja CO2 [Mg/rok]
A4: Oświetlenie | D4: ='Wskaźniki emisji, założenia'!C72 -> 0.812 | E4: =C4*D4 -> 0
A5: Budynki gminne | D5: ='Wskaźniki emisji, założenia'!C72 -> 0.812 | E5: =C5*D5 -> 0
A6: Mieszkalnictwo | D6: =D5 -> 0.812 | E6: =C6*D6 -> 0
A7: Działalność gospodarcza | D7: =D6 -> 0.812 | E7: =C7*D7 -> 0
A8: Suma: | B8: =SUM(B4:B7) -> 0 | C8: =SUM(C4:C7) -> 0 | E8: =SUM(E4:E7) -> 0

Sheet Mieszkalnictwo 2015
A1: Zużycie energii końcowej wraz z emisją zanieczyszczeń dla sektora budynków mieszkalnych w roku 2015
A2: Dane za rok 2015 niewynikające z obliczeń pochodzą z PGN 2016
A3: Ilość energi cieplnej z ankietyzacji sektora mieszkaniowego w 2015 roku:
A4: Źródło ciepła dla co oraz cwu | B4: Energia końcowa [GJ] | C4: [%]
A5: węgiel | C5: 0.51987234
A6: biomasa | C6: 0.45024138
A7: gaz | C7: 0.0087594002
A8: olej opałowy | C8: 0.0058268807
A9: energia elektryczna | C9: 0.005
A10: kolektory słoneczne | C10: 0.009
A11: pompy ciepła | C11: 0.0013
A12: Łącznie | C12: =SUM(C5:C11) -> 1
A14: Przeliczenie ilości energii cieplnej na cały sektor mieszkaniowy w gminie
A15: Powierzchnia mieszkalna - cały sektor [m2]
A16: Powierzchnia mieszkalna wg ankiet [m2] | C16: 1 | F16: Łączna emisja zanieczyszczeń w gminie w sektorze mieszkaniowym
A17: Zużycie energii wg ankiet [GJ/rok] | C17: =B12 -> 0 | F17: PM10 [g / GJ] | G17: PM2,5 [g / GJ] | H17: CO2 [g / GJ] | I17: BaP [g / GJ] | J17: SO2 [g / GJ] | K17: Nox [g / GJ] | L17: CO [g / GJ]
A18: Zużycie energii w gminie [GJ/rok] | C18: =C17/C16*C15 -> 0 | F18: =SUM(C34:C55)+SUM(J34:J55)+D59+D61 -> 0 | G18: =SUM(D34:D55)+SUM(K34:K55)+E59+E61 -> 0 | H18: =SUM(E34:E55)+SUM(L34:L55)+F59+F61 -> 0 | I18: =SUM(F34:F55)+SUM(M34:M55)+G59+G61 -> 0 | J18: =SUM(G34:G55)+SUM(N34:N55)+H59+H61 -> 0 | K18: =SUM(H34:H55)+SUM(O34:O55)+I59+I61 -> 0 | L18: =SUM(I34:I55)+SUM(P34:P55)+J59+J61 -> 0
A20: Źródło ciepła dla co oraz cwu | B20: Energia końcowa [GJ] | C20: [%]
A21: węgiel | B21: =$C$18*C21 -> 0 | C21: =C5 -> 0.51987234
A22: biomasa | B22: =$C$18*C22 -> 0 | C22: =C6 -> 0.45024138
A23: gaz | B23: =$C$18*C23 -> 0 | C23: =C7 -> 0.0087594002
A24: olej opałowy | B24: =$C$18*C24 -> 0 | C24: =C8 -> 0.0058268807
A25: energia elektryczna | B25: =$C$18*C25 -> 0 | C25: =C9 -> 0.005
A26: kolektory słoneczne | B26: =$C$18*C26 -> 0 | C26: =C10 -> 0.009
A27: pompy ciepła | B27: =$C$18*C27 -> 0 | C27: =C11 -> 0.0013
A28: Łącznie | B28: =SUM(B21:B27) -> 0 | C28: =SUM(C21:C27) -> 1
A30: Obliczenie odsetka poszczególnych rodzajów kotłów/palenisk na podstawie inwentaryzacji oraz łącznej emisji zanieczyszczeń z sektora mieszkaniowego
A31: Odsetek poszczególnych palenisk/kotłów | C31: Emisja z paliw węglowych w przeliczeniu na całą gminę | J31: Emisja z biomasy w przeliczeniu na całą gminę
C32: PM10 [g / GJ] | D32: PM2,5 [g / GJ] | E32: CO2 [g / GJ] | F32: BaP [g / GJ] | G32: SO2 [g / GJ] | H32: Nox [g / GJ] | I32: CO [g / GJ] | J32: PM10 [g / GJ] | K32: PM2,5 [g / GJ] | L32: CO2 [g / GJ] | M32: BaP [g / GJ] | N32: SO2 [g / GJ] | O32: Nox [g / GJ] | P32: CO [g / GJ]
A33: Indywidualny piec C.O., paliwo stałe
A34: pozaklasowe zasilanie ręczne kotły | B34: 0.64973833 | C34: =$B$34*$B$21*'Wskaźniki emisji, założenia'!B10/1000000 -> 0 | D34: =$B$34*$B$21*'Wskaźniki emisji, założenia'!C10/1000000 -> 0 | E34: =$B$34*$B$21*'Wskaźniki emisji, założenia'!D10/1000000 -> 0 | F34: =$B$34*$B$21*'Wskaźniki emisji, założenia'!E10/1000000 -> 0 | G34: =$B$34*$B$21*'Wskaźniki emisji, założenia'!F10/1000000 -> 0 | H34: =$B$34*$B$21*'Wskaźniki emisji, założenia'!G10/1000000 -> 0 | I34: =$B$34*$B$21*'Wskaźniki emisji, założenia'!H10/1000000 -> 0 | J34: ='Wskaźniki emisji, założenia'!B21/1000000*$B$34*$B$22 -> 0 | K34: ='Wskaźniki emisji, założenia'!C21/1000000*$B$34*$B$22 -> 0 | L34: ='Wskaźniki emisji, założenia'!D21/1000000*$B$34*$B$22 -> 0 | M34: ='Wskaźniki emisji, założenia'!E21/1000000*$B$34*$B$22 -> 0 | N34: ='Wskaźniki emisji, założenia'!F21/1000000*$B$34*$B$22 -> 0 | O34: ='Wskaźniki emisji, założenia'!G21/1000000*$B$34*$B$22 -> 0 | P34: ='Wskaźniki emisji, założenia'!H21/1000000*$B$34*$B$22 -> 0
A35: pozaklasowe zasilanie automatycznie kotły | B35: 0.005 | C35: =$B$35*$B$21*'Wskaźniki emisji, założenia'!B11/1000000 -> 0 | D35: =$B$35*$B$21*'Wskaźniki emisji, założenia'!C11/1000000 -> 0 | E35: =$B$35*$B$21*'Wskaźniki emisji, założenia'!D11/1000000 -> 0 | F35: =$B$35*$B$21*'Wskaźniki emisji, założenia'!E11/1000000 -> 0 | G35: =$B$35*$B$21*'Wskaźniki emisji, założenia'!F11/1000000 -> 0 | H35: =$B$35*$B$21*'Wskaźniki emisji, założenia'!G11/1000000 -> 0 | I35: =$B$35*$B$21*'Wskaźniki emisji, założenia'!H11/1000000 -> 0 | J35: ='Wskaźniki emisji, założenia'!B22/1000000*$B$35*$B$22 -> 0 | K35: ='Wskaźniki emisji, założenia'!C22/1000000*$B$35*$B$22 -> 0 | L35: ='Wskaźniki emisji, założenia'!D22/1000000*$B$35*$B$22 -> 0 | M35: ='Wskaźniki emisji, założenia'!E22/1000000*$B$35*$B$22 -> 0 | N35: ='Wskaźniki emisji, założenia'!F22/1000000*$B$35*$B$22 -> 0 | O35: ='Wskaźniki emisji, założenia'!G22/1000000*$B$35*$B$22 -> 0 | P35: ='Wskaźniki emisji, założenia'!H22/1000000*$B$35*$B$22 -> 0
A36: 3 klasa zasilanie ręczne, kotły | B36: 0.03 | C36: =$B$36*$B$21*'Wskaźniki emisji, założenia'!B12/1000000 -> 0 | D36: =$B$36*$B$21*'Wskaźniki emisji, założenia'!C12/1000000 -> 0 | E36: =$B$36*$B$21*'Wskaźniki emisji, założenia'!D12/1000000 -> 0 | F36: =$B$36*$B$21*'Wskaźniki emisji, założenia'!E12/1000000 -> 0 | G36: =$B$36*$B$21*'Wskaźniki emisji, założenia'!F12/1000000 -> 0 | H36: =$B$36*$B$21*'Wskaźniki emisji, założenia'!G12/1000000 -> 0 | I36: =$B$36*$B$21*'Wskaźniki emisji, założenia'!H12/1000000 -> 0 | J36: ='Wskaźniki emisji, założenia'!B23/1000000*$B$36*$B$22 -> 0 | K36: ='Wskaźniki emisji, założenia'!C23/1000000*$B$36*$B$22 -> 0 | L36: ='Wskaźniki emisji, założenia'!D23/1000000*$B$36*$B$22 -> 0 | M36: ='Wskaźniki emisji, założenia'!E23/1000000*$B$36*$B$22 -> 0 | N36: ='Wskaźniki emisji, założenia'!F23/1000000*$B$36*$B$22 -> 0 | O36: ='Wskaźniki emisji, założenia'!G23/1000000*$B$36*$B$22 -> 0 | P36: ='Wskaźniki emisji, założenia'!H23/1000000*$B$36*$B$22 -> 0
A37: 4 klasa zasilanie ręczne, kotły | B37: 0.01 | C37: =$B$37*$B$21*'Wskaźniki emisji, założenia'!B13/1000000 -> 0 | D37: =$B$37*$B$21*'Wskaźniki emisji, założenia'!C13/1000000 -> 0 | E37: =$B$37*$B$21*'Wskaźniki emisji, założenia'!D13/1000000 -> 0 | F37: =$B$37*$B$21*'Wskaźniki emisji, założenia'!E13/1000000 -> 0 | G37: =$B$37*$B$21*'Wskaźniki emisji, założenia'!F13/1000000 -> 0 | H37: =$B$37*$B$21*'Wskaźniki emisji, założenia'!G13/1000000 -> 0 | I37: =$B$37*$B$21*'Wskaźniki emisji, założenia'!H13/1000000 -> 0 | J37: ='Wskaźniki emisji, założenia'!B24/1000000*$B$37*$B$22 -> 0 | K37: ='Wskaźniki emisji, założenia'!C24/1000000*$B$37*$B$22 -> 0 | L37: ='Wskaźniki emisji, założenia'!D24/1000000*$B$37*$B$22 -> 0 | M37: ='Wskaźniki emisji, założenia'!E24/1000000*$B$37*$B$22 -> 0 | N37: ='Wskaźniki emisji, założenia'!F24/1000000*$B$37*$B$22 -> 0 | O37: ='Wskaźniki emisji, założenia'!G24/1000000*$B$37*$B$22 -> 0 | P37: ='Wskaźniki emisji, założenia'!H24/1000000*$B$37*$B$22 -> 0
A38: 5 klasa zasilanie ręczne, kotły | B38: 0.001 | C38: =$B$38*$B$21*'Wskaźniki emisji, założenia'!B14/1000000 -> 0 | D38: =$B$38*$B$21*'Wskaźniki emisji, założenia'!C14/1000000 -> 0 | E38: =$B$38*$B$21*'Wskaźniki emisji, założenia'!D14/1000000 -> 0 | F38: =$B$38*$B$21*'Wskaźniki emisji, założenia'!E14/1000000 -> 0 | G38: =$B$38*$B$21*'Wskaźniki emisji, założenia'!F14/1000000 -> 0 | H38: =$B$38*$B$21*'Wskaźniki emisji, założenia'!G14/1000000 -> 0 | I38: =$B$38*$B$21*'Wskaźniki emisji, założenia'!H14/1000000 -> 0 | J38: ='Wskaźniki emisji, założenia'!B25/1000000*$B$38*$B$22 -> 0 | K38: ='Wskaźniki emisji, założenia'!C25/1000000*$B$38*$B$22 -> 0 | L38: ='Wskaźniki emisji, założenia'!D25/1000000*$B$38*$B$22 -> 0 | M38: ='Wskaźniki emisji, założenia'!E25/1000000*$B$38*$B$22 -> 0 | N38: ='Wskaźniki emisji, założenia'!F25/1000000*$B$38*$B$22 -> 0 | O38: ='Wskaźniki emisji, założenia'!G25/1000000*$B$38*$B$22 -> 0 | P38: ='Wskaźniki emisji, założenia'!H25/1000000*$B$38*$B$22 -> 0
A39: Ecodesign zasilanie ręczne, kotły | B39: 0 | C39: =$B$39*$B$21*'Wskaźniki emisji, założenia'!B15/1000000 -> 0 | D39: =$B$39*$B$21*'Wskaźniki emisji, założenia'!C15/1000000 -> 0 | E39: =$B$39*$B$21*'Wskaźniki emisji, założenia'!D15/1000000 -> 0 | F39: =$B$39*$B$21*'Wskaźniki emisji, założenia'!E15/1000000 -> 0 | G39: =$B$39*$B$21*'Wskaźniki emisji, założenia'!F15/1000000 -> 0 | H39: =$B$39*$B$21*'Wskaźniki emisji, założenia'!G15/1000000 -> 0 | I39: =$B$39*$B$21*'Wskaźniki emisji, założenia'!H15/1000000 -> 0 | J39: ='Wskaźniki emisji, założenia'!B26/1000000*$B$39*$B$22 -> 0 | K39: ='Wskaźniki emisji, założenia'!C26/1000000*$B$39*$B$22 -> 0 | L39: ='Wskaźniki emisji, założenia'!D26/1000000*$B$39*$B$22 -> 0 | M39: ='Wskaźniki emisji, założenia'!E26/1000000*$B$39*$B$22 -> 0 | N39: ='Wskaźniki emisji, założenia'!F26/1000000*$B$39*$B$22 -> 0 | O39: ='Wskaźniki emisji, założenia'!G26/1000000*$B$39*$B$22 -> 0 | P39: ='Wskaźniki emisji, założenia'!H26/1000000*$B$39*$B$22 -> 0
A40: 3 klasa zasilanie automatyczne kotły | B40: 0.005 | C40: =$B$40*$B$21*'Wskaźniki emisji, założenia'!B16/1000000 -> 0 | D40: =$B$40*$B$21*'Wskaźniki emisji, założenia'!C16/1000000 -> 0 | E40: =$B$40*$B$21*'Wskaźniki emisji, założenia'!D16/1000000 -> 0 | F40: =$B$40*$B$21*'Wskaźniki emisji, założenia'!E16/1000000 -> 0 | G40: =$B$40*$B$21*'Wskaźniki emisji, założenia'!F16/1000000 -> 0 | H40: =$B$40*$B$21*'Wskaźniki emisji, założenia'!G16/1000000 -> 0 | I40: =$B$40*$B$21*'Wskaźniki emisji, założenia'!H16/1000000 -> 0 | J40: ='Wskaźniki emisji, założenia'!B27/1000000*$B$40*$B$22 -> 0 | K40: ='Wskaźniki emisji, założenia'!C27/1000000*$B$40*$B$22 -> 0 | L40: ='Wskaźniki emisji, założenia'!D27/1000000*$B$40*$B$22 -> 0 | M40: ='Wskaźniki emisji, założenia'!E27/1000000*$B$40*$B$22 -> 0 | N40: ='Wskaźniki emisji, założenia'!F27/1000000*$B$40*$B$22 -> 0 | O40: ='Wskaźniki emisji, założenia'!G27/1000000*$B$40*$B$22 -> 0 | P40: ='Wskaźniki emisji, założenia'!H27/1000000*$B$40*$B$22 -> 0
A41: 4 klasa zasilanie automatyczne kotły | B41: 0 | C41: =$B$41*$B$21*'Wskaźniki emisji, założenia'!B17/1000000 -> 0 | D41: =$B$41*$B$21*'Wskaźniki emisji, założenia'!C17/1000000 -> 0 | E41: =$B$41*$B$21*'Wskaźniki emisji, założenia'!D17/1000000 -> 0 | F41: =$B$41*$B$21*'Wskaźniki emisji, założenia'!E17/1000000 -> 0 | G41: =$B$41*$B$21*'Wskaźniki emisji, założenia'!F17/1000000 -> 0 | H41: =$B$41*$B$21*'Wskaźniki emisji, założenia'!G17/1000000 -> 0 | I41: =$B$41*$B$21*'Wskaźniki emisji, założenia'!H17/1000000 -> 0 | J41: ='Wskaźniki emisji, założenia'!B28/1000000*$B$41*$B$22 -> 0 | K41: ='Wskaźniki emisji, założenia'!C28/1000000*$B$41*$B$22 -> 0 | L41: ='Wskaźniki emisji, założenia'!D28/1000000*$B$41*$B$22 -> 0 | M41: ='Wskaźniki emisji, założenia'!E28/1000000*$B$41*$B$22 -> 0 | N41: ='Wskaźniki emisji, założenia'!F28/1000000*$B$41*$B$22 -> 0 | O41: ='Wskaźniki emisji, założenia'!G28/1000000*$B$41*$B$22 -> 0 | P41: ='Wskaźniki emisji, założenia'!H28/1000000*$B$41*$B$22 -> 0
A42: 5 klasa zasilanie automatyczne kotły | B42: 0.002 | C42: =$B$42*$B$21*'Wskaźniki emisji, założenia'!B18/1000000 -> 0 | D42: =$B$42*$B$21*'Wskaźniki emisji, założenia'!C18/1000000 -> 0 | E42: =$B$42*$B$21*'Wskaźniki emisji, założenia'!D18/1000000 -> 0 | F42: =$B$42*$B$21*'Wskaźniki emisji, założenia'!E18/1000000 -> 0 | G42: =$B$42*$B$21*'Wskaźniki emisji, założenia'!F18/1000000 -> 0 | H42: =$B$42*$B$21*'Wskaźniki emisji, założenia'!G18/1000000 -> 0 | I42: =$B$42*$B$21*'Wskaźniki emisji, założenia'!H18/1000000 -> 0 | J42: ='Wskaźniki emisji, założenia'!B29/1000000*$B$42*$B$22 -> 0 | K42: ='Wskaźniki emisji, założenia'!C29/1000000*$B$42*$B$22 -> 0 | L42: ='Wskaźniki emisji, założenia'!D29/1000000*$B$42*$B$22 -> 0 | M42: ='Wskaźniki emisji, założenia'!E29/1000000*$B$42*$B$22 -> 0 | N42: ='Wskaźniki emisji, założenia'!F29/1000000*$B$42*$B$22 -> 0 | O42: ='Wskaźniki emisji, założenia'!G29/1000000*$B$42*$B$22 -> 0 | P42: ='Wskaźniki emisji, założenia'!H29/1000000*$B$42*$B$22 -> 0
A43: Ecodesign zasilanie automatyczne kotły | B43: 0 | C43: =$B$43*$B$21*'Wskaźniki emisji, założenia'!B19/1000000 -> 0 | D43: =$B$43*$B$21*'Wskaźniki emisji, założenia'!C19/1000000 -> 0 | E43: =$B$43*$B$21*'Wskaźniki emisji, założenia'!D19/1000000 -> 0 | F43: =$B$43*$B$21*'Wskaźniki emisji, założenia'!E19/1000000 -> 0 | G43: =$B$43*$B$21*'Wskaźniki emisji, założenia'!F19/1000000 -> 0 | H43: =$B$43*$B$21*'Wskaźniki emisji, założenia'!G19/1000000 -> 0 | I43: =$B$43*$B$21*'Wskaźniki emisji, założenia'!H19/1000000 -> 0 | J43: ='Wskaźniki emisji, założenia'!B30/1000000*$B$43*$B$22 -> 0 | K43: ='Wskaźniki emisji, założenia'!C30/1000000*$B$43*$B$22 -> 0 | L43: ='Wskaźniki emisji, założenia'!D30/1000000*$B$43*$B$22 -> 0 | M43: ='Wskaźniki emisji, założenia'!E30/1000000*$B$43*$B$22 -> 0 | N43: ='Wskaźniki emisji, założenia'!F30/1000000*$B$43*$B$22 -> 0 | O43: ='Wskaźniki emisji, założenia'!G30/1000000*$B$43*$B$22 -> 0 | P43: ='Wskaźniki emisji, założenia'!H30/1000000*$B$43*$B$22 -> 0
...

Sheet Mieszkalne emisja, energia
A1: Zużycie energii końcowej wraz z emisją zanieczyszczeń dla sektora budynków mieszkalnych
A3: Zużycie energii cieplnej na podstawie inwentaryzacji w 2016 roku
A4: Źródło ciepła dla co oraz cwu | B4: Energia końcowa [GJ]
A5: węgiel | B5: =SUMIFS(#REF!,#REF!,A5) -> #REF! | G5: Łączna emisja zanieczyszczeń w gminie w sektorze mieszkaniowym
A6: biomasa | B6: =SUMIFS(#REF!,#REF!,A6) -> #REF! | G6: PM10 [g / GJ] | H6: PM2,5 [g / GJ] | I6: CO2 [g / GJ] | J6: BaP [g / GJ] | K6: SO2 [g / GJ] | L6: Nox [g / GJ] | M6: CO [g / GJ]
A7: gaz | B7: =SUMIFS(#REF!,#REF!,A7)+COUNTIFS(#REF!,'Mieszkalne emisja, energia'!A7)*#REF!*#REF! -> #REF! | G7: =SUM(D46:D73)+SUM(K46:K73) -> #REF! | H7: =SUM(E46:E73)+SUM(L46:L73) -> #REF! | I7: =SUM(F46:F73)+SUM(M46:M73)+B29*'Wskaźniki emisji, założenia'!C72 -> #REF! | J7: =SUM(G46:G73)+SUM(N46:N73) -> #REF! | K7: =SUM(H46:H73)+SUM(O46:O73) -> #REF! | L7: =SUM(I46:I73)+SUM(P46:P73) -> #REF! | M7: =SUM(J46:J73)+SUM(Q46:Q73) -> #REF!
A8: olej opałowy | B8: =SUMIFS(#REF!,#REF!,A8) -> #REF!
A9: energia el. | B9: =SUMIFS(#REF!,#REF!,A9) -> #REF!
A10: kolektory słoneczne | B10: =SUMIFS(#REF!,#REF!,A10)*1.8*520/1000*3.6 -> #REF!
A11: pompa ciepła | B11: =(#REF!+#REF!+#REF!+#REF!)*1*3.6 -> #REF!
A12: Łącznie | B12: =SUM(B5:B11) -> #REF!
A13: Przeliczenie ilości energii cieplnej na cały sektor mieszkaniowy w gminie
A14: Powierzchnia mieszkalna - cały sektor [m2] | C14: 249247
A15: Powierzchnia mieszkalna wg ankiet [m2] | C15: =SUM(#REF!) -> #REF!
A16: Zużycie energii wg ankiet [GJ/rok] | C16: =B12 -> #REF!
A17: Zużycie energii w gminie [GJ/rok] | C17: =C16/C15*C14 -> #REF!
A19: Źródło ciepła dla co oraz cwu | B19: Energia końcowa [GJ] | C19: [%]
A20: węgiel | B20: =B5/$B$12*$C$17 -> #REF! | C20: =B20/$B$27 -> #REF!
A21: biomasa | B21: =B6/$B$12*$C$17 -> #REF! | C21: =B21/$B$27 -> #REF!
A22: gaz | B22: =B7/$B$12*$C$17 -> #REF! | C22: =B22/$B$27 -> #REF!
A23: olej opałowy | B23: =B8/$B$12*$C$17 -> #REF! | C23: =B23/$B$27 -> #REF!
A24: energia elektryczna | B24: =B9/$B$12*$C$17 -> #REF! | C24: =B24/$B$27 -> #REF!
A25: kolektory słoneczne | B25: =B10/$B$12*$C$17 -> #REF! | C25: =B25/$B$27 -> #REF!
A26: pompa ciepła | B26: =B11/$B$12*$C$17 -> #REF! | C26: =B26/$B$27 -> #REF!
A27: Łącznie | B27: =SUM(B20:B26) -> #REF! | C27: =SUM(C20:C26) -> #REF!
A28: Zużycie energii elektrycznej w sektorze łącznie:
B29: =0.766*8283 -> 6344.778
A30: KOREKTA z uwagi na weryfikację ilości zużytego w gospodarstwach domowych gazu
A31: 22211.64 | B31: GJ/rok
A32: Źródło ciepła dla co oraz cwu | B32: Energia końcowa [GJ] | C32: [%]
A33: węgiel | B33: =C33*$B$27 -> #REF! | C33: =C20-C20/SUM($C$20+$C$21+$C$23+$C$24+$C$25+$C$26)*(($A$31/$B$27)-$C$22) -> #REF!
A34: biomasa | B34: =C34*$B$27 -> #REF! | C34: =C21-C21/SUM($C$20+$C$21+$C$23+$C$24+$C$25+$C$26)*(($A$31/$B$27)-$C$22) -> #REF!
A35: gaz | B35: =A31 -> 22211.64 | C35: =B35/$B$27 -> #REF!
A36: olej opałowy | B36: =C36*$B$27 -> #REF! | C36: =C23-C23/SUM($C$20+$C$21+$C$23+$C$24+$C$25+$C$26)*(($A$31/$B$27)-$C$22) -> #REF!
A37: energia elektryczna | B37: =C37*$B$27 -> #REF! | C37: =C24-C24/SUM($C$20+$C$21+$C$23+$C$24+$C$25+$C$26)*(($A$31/$B$27)-$C$22) -> #REF!
A38: kolektory słoneczne | B38: =C38*$B$27 -> #REF! | C38: =C25-C25/SUM($C$20+$C$21+$C$23+$C$24+$C$25+$C$26)*(($A$31/$B$27)-$C$22) -> #REF!
A39: pompa ciepła | B39: =C39*$B$27 -> #REF! | C39: =C26-C26/SUM($C$20+$C$21+$C$23+$C$24+$C$25+$C$26)*(($A$31/$B$27)-$C$22) -> #REF!
A40: Łącznie | B40: =SUM(B33:B39) -> #REF! | C40: =SUM(C33:C39) -> #REF!
A41: Obliczenie odsetka poszczególnych rodzajów kotłów/palenisk na podstawie inwentaryzacji oraz łącznej emisji zanieczyszczeń z sektora mieszkaniowego
A43: Ilość poszczególnych palenisk/kotłów na podstawie ankiet | D43: Emisja z paliw węglowych w przeliczeniu na całą gminę | K43: Emisja z biomasy w przeliczeniu na całą gminę
...

Sheet Działalność gospodarcza 2015
A1: Zużycie energii końcowej wraz z emisją zanieczyszczeń dla sektora budynków związanych z działalnością gospodarczą w roku 2015
A2: Z uwagi na brak danych dla sektora działalności gospodarczej oraz nieprzemysłowy charakter gminy założono zbliżoną strukturę zużycia paliw oraz kotłów/palenisk do sektora mieszkaniowego. Emisję zanieczyszczeń obliczono analogicznie jak dla sektora mieszkaniowego. Dane wyjściowe do obliczeń jest obliczona wg wskazników ilość energi końcowej, cieplnej oraz elektrycznej w sektorze.
A4: Dane za rok 2015 niewynikające z obliczeń pochodzą z PGN 2016
A5: Źródło ciepła dla co oraz cwu | B5: Energia końcowa [GJ] | C5: [%]
A6: węgiel | C6: 0.55
A7: biomasa | C7: 0.01 | F7: Łączna emisja zanieczyszczeń w gminie w sektorze mieszkaniowym
A8: gaz | C8: 0.431 | F8: PM10 [g / GJ] | G8: PM2,5 [g / GJ] | H8: CO2 [g / GJ] | I8: BaP [g / GJ] | J8: SO2 [g / GJ] | K8: Nox [g / GJ] | L8: CO [g / GJ]
A9: olej opałowy | C9: 0 | F9: =SUM(C18:C39)+SUM(J18:J39)+D43+D45 -> 0 | G9: =SUM(D18:D39)+SUM(K18:K39)+E43+E45 -> 0 | H9: =SUM(E18:E39)+SUM(L18:L39)+F43+F45 -> 0 | I9: =SUM(F18:F39)+SUM(M18:M39)+G43+G45 -> 0 | J9: =SUM(G18:G39)+SUM(N18:N39)+H43+H45 -> 0 | K9: =SUM(H18:H39)+SUM(O18:O39)+I43+I45 -> 0 | L9: =SUM(I18:I39)+SUM(P18:P39)+J43+J45 -> 0
A10: energia elektryczna | C10: 0.005
A11: kolektory słoneczne | C11: 0.004
A12: Łącznie | B12: =SUM(B6:B11) -> 0 | C12: 1
A14: Odsetek poszczególnych rodzajów kotłów/palenisk na podstawie inwentaryzacji sektora mieszkaniowego:
A15: Odsetek poszczególnych palenisk/kotłów | C15: Emisja z paliw węglowych w przeliczeniu na całą gminę | J15: Emisja z biomasy w przeliczeniu na całą gminę
C16: PM10 [g / GJ] | D16: PM2,5 [g / GJ] | E16: CO2 [g / GJ] | F16: BaP [g / GJ] | G16: SO2 [g / GJ] | H16: Nox [g / GJ] | I16: CO [g / GJ] | J16: PM10 [g / GJ] | K16: PM2,5 [g / GJ] | L16: CO2 [g / GJ] | M16: BaP [g / GJ] | N16: SO2 [g / GJ] | O16: Nox [g / GJ] | P16: CO [g / GJ]
A17: Indywidualny piec C.O., paliwo stałe
A18: pozaklasowe zasilanie ręczne kotły | B18: ='Mieszkalnictwo 2015'!B34 -> 0.64973833 | C18: =$B$18*$B$6*'Wskaźniki emisji, założenia'!B10/1000000 -> 0 | D18: =$B$18*$B$6*'Wskaźniki emisji, założenia'!C10/1000000 -> 0 | E18: =$B$18*$B$6*'Wskaźniki emisji, założenia'!D10/1000000 -> 0 | F18: =$B$18*$B$6*'Wskaźniki emisji, założenia'!E10/1000000 -> 0 | G18: =$B$18*$B$6*'Wskaźniki emisji, założenia'!F10/1000000 -> 0 | H18: =$B$18*$B$6*'Wskaźniki emisji, założenia'!G10/1000000 -> 0 | I18: =$B$18*$B$6*'Wskaźniki emisji, założenia'!H10/1000000 -> 0 | J18: ='Wskaźniki emisji, założenia'!B21/1000000*$B$18*$B$7 -> 0 | K18: ='Wskaźniki emisji, założenia'!C21/1000000*$B$18*$B$7 -> 0 | L18: ='Wskaźniki emisji, założenia'!D21/1000000*$B$18*$B$7 -> 0 | M18: ='Wskaźniki emisji, założenia'!E21/1000000*$B$18*$B$7 -> 0 | N18: ='Wskaźniki emisji, założenia'!F21/1000000*$B$18*$B$7 -> 0 | O18: ='Wskaźniki emisji, założenia'!G21/1000000*$B$18*$B$7 -> 0 | P18: ='Wskaźniki emisji, założenia'!H21/1000000*$B$18*$B$7 -> 0
A19: pozaklasowe zasilanie automatycznie kotły | B19: ='Mieszkalnictwo 2015'!B35 -> 0.005 | C19: =$B$19*$B$6*'Wskaźniki emisji, założenia'!B11/1000000 -> 0 | D19: =$B$19*$B$6*'Wskaźniki emisji, założenia'!C11/1000000 -> 0 | E19: =$B$19*$B$6*'Wskaźniki emisji, założenia'!D11/1000000 -> 0 | F19: =$B$19*$B$6*'Wskaźniki emisji, założenia'!E11/1000000 -> 0 | G19: =$B$19*$B$6*'Wskaźniki emisji, założenia'!F11/1000000 -> 0 | H19: =$B$19*$B$6*'Wskaźniki emisji, założenia'!G11/1000000 -> 0 | I19: =$B$19*$B$6*'Wskaźniki emisji, założenia'!H11/1000000 -> 0 | J19: ='Wskaźniki emisji, założenia'!B22/1000000*$B$19*$B$7 -> 0 | K19: ='Wskaźniki emisji, założenia'!C22/1000000*$B$19*$B$7 -> 0 | L19: ='Wskaźniki emisji, założenia'!D22/1000000*$B$19*$B$7 -> 0 | M19: ='Wskaźniki emisji, założenia'!E22/1000000*$B$19*$B$7 -> 0 | N19: ='Wskaźniki emisji, założenia'!F22/1000000*$B$19*$B$7 -> 0 | O19: ='Wskaźniki emisji, założenia'!G22/1000000*$B$19*$B$7 -> 0 | P19: ='Wskaźniki emisji, założenia'!H22/1000000*$B$19*$B$7 -> 0
A20: 3 klasa zasilanie ręczne, kotły | B20: ='Mieszkalnictwo 2015'!B36 -> 0.03 | C20: =$B$20*$B$6*'Wskaźniki emisji, założenia'!B12/1000000 -> 0 | D20: =$B$20*$B$6*'Wskaźniki emisji, założenia'!C12/1000000 -> 0 | E20: =$B$20*$B$6*'Wskaźniki emisji, założenia'!D12/1000000 -> 0 | F20: =$B$20*$B$6*'Wskaźniki emisji, założenia'!E12/1000000 -> 0 | G20: =$B$20*$B$6*'Wskaźniki emisji, założenia'!F12/1000000 -> 0 | H20: =$B$20*$B$6*'Wskaźniki emisji, założenia'!G12/1000000 -> 0 | I20: =$B$20*$B$6*'Wskaźniki emisji, założenia'!H12/1000000 -> 0 | J20: ='Wskaźniki emisji, założenia'!B23/1000000*$B$20*$B$7 -> 0 | K20: ='Wskaźniki emisji, założenia'!C23/1000000*$B$20*$B$7 -> 0 | L20: ='Wskaźniki emisji, założenia'!D23/1000000*$B$20*$B$7 -> 0 | M20: ='Wskaźniki emisji, założenia'!E23/1000000*$B$20*$B$7 -> 0 | N20: ='Wskaźniki emisji, założenia'!F23/1000000*$B$20*$B$7 -> 0 | O20: ='Wskaźniki emisji, założenia'!G23/1000000*$B$20*$B$7 -> 0 | P20: ='Wskaźniki emisji, założenia'!H23/1000000*$B$20*$B$7 -> 0
A21: 4 klasa zasilanie ręczne, kotły | B21: ='Mieszkalnictwo 2015'!B37 -> 0.01 | C21: =$B$21*$B$6*'Wskaźniki emisji, założenia'!B13/1000000 -> 0 | D21: =$B$21*$B$6*'Wskaźniki emisji, założenia'!C13/1000000 -> 0 | E21: =$B$21*$B$6*'Wskaźniki emisji, założenia'!D13/1000000 -> 0 | F21: =$B$21*$B$6*'Wskaźniki emisji, założenia'!E13/1000000 -> 0 | G21: =$B$21*$B$6*'Wskaźniki emisji, założenia'!F13/1000000 -> 0 | H21: =$B$21*$B$6*'Wskaźniki emisji, założenia'!G13/1000000 -> 0 | I21: =$B$21*$B$6*'Wskaźniki emisji, założenia'!H13/1000000 -> 0 | J21: ='Wskaźniki emisji, założenia'!B24/1000000*$B$21*$B$7 -> 0 | K21: ='Wskaźniki emisji, założenia'!C24/1000000*$B$21*$B$7 -> 0 | L21: ='Wskaźniki emisji, założenia'!D24/1000000*$B$21*$B$7 -> 0 | M21: ='Wskaźniki emisji, założenia'!E24/1000000*$B$21*$B$7 -> 0 | N21: ='Wskaźniki emisji, założenia'!F24/1000000*$B$21*$B$7 -> 0 | O21: ='Wskaźniki emisji, założenia'!G24/1000000*$B$21*$B$7 -> 0 | P21: ='Wskaźniki emisji, założenia'!H24/1000000*$B$21*$B$7 -> 0
A22: 5 klasa zasilanie ręczne, kotły | B22: ='Mieszkalnictwo 2015'!B38 -> 0.001 | C22: =$B$22*$B$6*'Wskaźniki emisji, założenia'!B14/1000000 -> 0 | D22: =$B$22*$B$6*'Wskaźniki emisji, założenia'!C14/1000000 -> 0 | E22: =$B$22*$B$6*'Wskaźniki emisji, założenia'!D14/1000000 -> 0 | F22: =$B$22*$B$6*'Wskaźniki emisji, założenia'!E14/1000000 -> 0 | G22: =$B$22*$B$6*'Wskaźniki emisji, założenia'!F14/1000000 -> 0 | H22: =$B$22*$B$6*'Wskaźniki emisji, założenia'!G14/1000000 -> 0 | I22: =$B$22*$B$6*'Wskaźniki emisji, założenia'!H14/1000000 -> 0 | J22: ='Wskaźniki emisji, założenia'!B25/1000000*$B$22*$B$7 -> 0 | K22: ='Wskaźniki emisji, założenia'!C25/1000000*$B$22*$B$7 -> 0 | L22: ='Wskaźniki emisji, założenia'!D25/1000000*$B$22*$B$7 -> 0 | M22: ='Wskaźniki emisji, założenia'!E25/1000000*$B$22*$B$7 -> 0 | N22: ='Wskaźniki emisji, założenia'!F25/1000000*$B$22*$B$7 -> 0 | O22: ='Wskaźniki emisji, założenia'!G25/1000000*$B$22*$B$7 -> 0 | P22: ='Wskaźniki emisji, założenia'!H25/1000000*$B$22*$B$7 -> 0
A23: Ecodesign zasilanie ręczne, kotły | B23: ='Mieszkalnictwo 2015'!B39 -> 0 | C23: =$B$23*$B$6*'Wskaźniki emisji, założenia'!B15/1000000 -> 0 | D23: =$B$23*$B$6*'Wskaźniki emisji, założenia'!C15/1000000 -> 0 | E23: =$B$23*$B$6*'Wskaźniki emisji, założenia'!D15/1000000 -> 0 | F23: =$B$23*$B$6*'Wskaźniki emisji, założenia'!E15/1000000 -> 0 | G23: =$B$23*$B$6*'Wskaźniki emisji, założenia'!F15/1000000 -> 0 | H23: =$B$23*$B$6*'Wskaźniki emisji, założenia'!G15/1000000 -> 0 | I23: =$B$23*$B$6*'Wskaźniki emisji, założenia'!H15/1000000 -> 0 | J23: ='Wskaźniki emisji, założenia'!B26/1000000*$B$23*$B$7 -> 0 | K23: ='Wskaźniki emisji, założenia'!C26/1000000*$B$23*$B$7 -> 0 | L23: ='Wskaźniki emisji, założenia'!D26/1000000*$B$23*$B$7 -> 0 | M23: ='Wskaźniki emisji, założenia'!E26/1000000*$B$23*$B$7 -> 0 | N23: ='Wskaźniki emisji, założenia'!F26/1000000*$B$23*$B$7 -> 0 | O23: ='Wskaźniki emisji, założenia'!G26/1000000*$B$23*$B$7 -> 0 | P23: ='Wskaźniki emisji, założenia'!H26/1000000*$B$23*$B$7 -> 0
A24: 3 klasa zasilanie automatyczne kotły | B24: ='Mieszkalnictwo 2015'!B40 -> 0.005 | C24: =$B$24*$B$6*'Wskaźniki emisji, założenia'!B16/1000000 -> 0 | D24: =$B$24*$B$6*'Wskaźniki emisji, założenia'!C16/1000000 -> 0 | E24: =$B$24*$B$6*'Wskaźniki emisji, założenia'!D16/1000000 -> 0 | F24: =$B$24*$B$6*'Wskaźniki emisji, założenia'!E16/1000000 -> 0 | G24: =$B$24*$B$6*'Wskaźniki emisji, założenia'!F16/1000000 -> 0 | H24: =$B$24*$B$6*'Wskaźniki emisji, założenia'!G16/1000000 -> 0 | I24: =$B$24*$B$6*'Wskaźniki emisji, założenia'!H16/1000000 -> 0 | J24: ='Wskaźniki emisji, założenia'!B27/1000000*$B$24*$B$7 -> 0 | K24: ='Wskaźniki emisji, założenia'!C27/1000000*$B$24*$B$7 -> 0 | L24: ='Wskaźniki emisji, założenia'!D27/1000000*$B$24*$B$7 -> 0 | M24: ='Wskaźniki emisji, założenia'!E27/1000000*$B$24*$B$7 -> 0 | N24: ='Wskaźniki emisji, założenia'!F27/1000000*$B$24*$B$7 -> 0 | O24: ='Wskaźniki emisji, założenia'!G27/1000000*$B$24*$B$7 -> 0 | P24: ='Wskaźniki emisji, założenia'!H27/1000000*$B$24*$B$7 -> 0
A25: 4 klasa zasilanie automatyczne kotły | B25: ='Mieszkalnictwo 2015'!B41 -> 0 | C25: =$B$25*$B$6*'Wskaźniki emisji, założenia'!B17/1000000 -> 0 | D25: =$B$25*$B$6*'Wskaźniki emisji, założenia'!C17/1000000 -> 0 | E25: =$B$25*$B$6*'Wskaźniki emisji, założenia'!D17/1000000 -> 0 | F25: =$B$25*$B$6*'Wskaźniki emisji, założenia'!E17/1000000 -> 0 | G25: =$B$25*$B$6*'Wskaźniki emisji, założenia'!F17/1000000 -> 0 | H25: =$B$25*$B$6*'Wskaźniki emisji, założenia'!G17/1000000 -> 0 | I25: =$B$25*$B$6*'Wskaźniki emisji, założenia'!H17/1000000 -> 0 | J25: ='Wskaźniki emisji, założenia'!B28/1000000*$B$25*$B$7 -> 0 | K25: ='Wskaźniki emisji, założenia'!C28/1000000*$B$25*$B$7 -> 0 | L25: ='Wskaźniki emisji, założenia'!D28/1000000*$B$25*$B$7 -> 0 | M25: ='Wskaźniki emisji, założenia'!E28/1000000*$B$25*$B$7 -> 0 | N25: ='Wskaźniki emisji, założenia'!F28/1000000*$B$25*$B$7 -> 0 | O25: ='Wskaźniki emisji, założenia'!G28/1000000*$B$25*$B$7 -> 0 | P25: ='Wskaźniki emisji, założenia'!H28/1000000*$B$25*$B$7 -> 0
A26: 5 klasa zasilanie automatyczne kotły | B26: ='Mieszkalnictwo 2015'!B42 -> 0.002 | C26: =$B$26*$B$6*'Wskaźniki emisji, założenia'!B18/1000000 -> 0 | D26: =$B$26*$B$6*'Wskaźniki emisji, założenia'!C18/1000000 -> 0 | E26: =$B$26*$B$6*'Wskaźniki emisji, założenia'!D18/1000000 -> 0 | F26: =$B$26*$B$6*'Wskaźniki emisji, założenia'!E18/1000000 -> 0 | G26: =$B$26*$B$6*'Wskaźniki emisji, założenia'!F18/1000000 -> 0 | H26: =$B$26*$B$6*'Wskaźniki emisji, założenia'!G18/1000000 -> 0 | I26: =$B$26*$B$6*'Wskaźniki emisji, założenia'!H18/1000000 -> 0 | J26: ='Wskaźniki emisji, założenia'!B29/1000000*$B$26*$B$7 -> 0 | K26: ='Wskaźniki emisji, założenia'!C29/1000000*$B$26*$B$7 -> 0 | L26: ='Wskaźniki emisji, założenia'!D29/1000000*$B$26*$B$7 -> 0 | M26: ='Wskaźniki emisji, założenia'!E29/1000000*$B$26*$B$7 -> 0 | N26: ='Wskaźniki emisji, założenia'!F29/1000000*$B$26*$B$7 -> 0 | O26: ='Wskaźniki emisji, założenia'!G29/1000000*$B$26*$B$7 -> 0 | P26: ='Wskaźniki emisji, założenia'!H29/1000000*$B$26*$B$7 -> 0
A27: Ecodesign zasilanie automatyczne kotły | B27: ='Mieszkalnictwo 2015'!B43 -> 0 | C27: =$B$27*$B$6*'Wskaźniki emisji, założenia'!B19/1000000 -> 0 | D27: =$B$27*$B$6*'Wskaźniki emisji, założenia'!C19/1000000 -> 0 | E27: =$B$27*$B$6*'Wskaźniki emisji, założenia'!D19/1000000 -> 0 | F27: =$B$27*$B$6*'Wskaźniki emisji, założenia'!E19/1000000 -> 0 | G27: =$B$27*$B$6*'Wskaźniki emisji, założenia'!F19/1000000 -> 0 | H27: =$B$27*$B$6*'Wskaźniki emisji, założenia'!G19/1000000 -> 0 | I27: =$B$27*$B$6*'Wskaźniki emisji, założenia'!H19/1000000 -> 0 | J27: ='Wskaźniki emisji, założenia'!B30/1000000*$B$27*$B$7 -> 0 | K27: ='Wskaźniki emisji, założenia'!C30/1000000*$B$27*$B$7 -> 0 | L27: ='Wskaźniki emisji, założenia'!D30/1000000*$B$27*$B$7 -> 0 | M27: ='Wskaźniki emisji, założenia'!E30/1000000*$B$27*$B$7 -> 0 | N27: ='Wskaźniki emisji, założenia'!F30/1000000*$B$27*$B$7 -> 0 | O27: ='Wskaźniki emisji, założenia'!G30/1000000*$B$27*$B$7 -> 0 | P27: ='Wskaźniki emisji, założenia'!H30/1000000*$B$27*$B$7 -> 0
A28: Piec kaflowy, Paliwo stałe
A29: piec kaflowy <80% | B29: ='Mieszkalnictwo 2015'!B45 -> 0.086835562 | C29: ='Wskaźniki emisji, założenia'!B32*$B$29*$B$6/1000000 -> 0 | D29: ='Wskaźniki emisji, założenia'!C32*$B$29*$B$6/1000000 -> 0 | E29: ='Wskaźniki emisji, założenia'!D32*$B$29*$B$6/1000000 -> 0 | F29: ='Wskaźniki emisji, założenia'!E32*$B$29*$B$6/1000000 -> 0 | G29: ='Wskaźniki emisji, założenia'!F32*$B$29*$B$6/1000000 -> 0 | H29: ='Wskaźniki emisji, założenia'!G32*$B$29*$B$6/1000000 -> 0 | I29: ='Wskaźniki emisji, założenia'!H32*$B$29*$B$6/1000000 -> 0 | J29: 0 | K29: 0 | L29: 0 | M29: 0 | N29: 0 | O29: 0 | P29: 0
A30: piec kaflowy >80% | B30: ='Mieszkalnictwo 2015'!B46 -> 0 | C30: ='Wskaźniki emisji, założenia'!B33*$B$30*$B$6/1000000 -> 0 | D30: ='Wskaźniki emisji, założenia'!C33*$B$30*$B$6/1000000 -> 0 | E30: ='Wskaźniki emisji, założenia'!D33*$B$30*$B$6/1000000 -> 0 | F30: ='Wskaźniki emisji, założenia'!E33*$B$30*$B$6/1000000 -> 0 | G30: ='Wskaźniki emisji, założenia'!F33*$B$30*$B$6/1000000 -> 0 | H30: ='Wskaźniki emisji, założenia'!G33*$B$30*$B$6/1000000 -> 0 | I30: ='Wskaźniki emisji, założenia'!H33*$B$30*$B$6/1000000 -> 0 | J30: 0 | K30: 0 | L30: 0 | M30: 0 | N30: 0 | O30: 0 | P30: 0
A31: Koza
A32: koza <80% | B32: ='Mieszkalnictwo 2015'!B48 -> 0.045594742 | C32: ='Wskaźniki emisji, założenia'!B37/1000000*$B$32*$B$6 -> 0 | D32: ='Wskaźniki emisji, założenia'!C37/1000000*$B$32*$B$6 -> 0 | E32: ='Wskaźniki emisji, założenia'!D37/1000000*$B$32*$B$6 -> 0 | F32: ='Wskaźniki emisji, założenia'!E37/1000000*$B$32*$B$6 -> 0 | G32: ='Wskaźniki emisji, założenia'!F37/1000000*$B$32*$B$6 -> 0 | H32: ='Wskaźniki emisji, założenia'!G37/1000000*$B$32*$B$6 -> 0 | I32: ='Wskaźniki emisji, założenia'!H37/1000000*$B$32*$B$6 -> 0 | J32: ='Wskaźniki emisji, założenia'!B42/1000000*$B$7*$B$32 -> 0 | K32: ='Wskaźniki emisji, założenia'!C42/1000000*$B$7*$B$32 -> 0 | L32: ='Wskaźniki emisji, założenia'!D42/1000000*$B$7*$B$32 -> 0 | M32: ='Wskaźniki emisji, założenia'!E42/1000000*$B$7*$B$32 -> 0 | N32: ='Wskaźniki emisji, założenia'!F42/1000000*$B$7*$B$32 -> 0 | O32: ='Wskaźniki emisji, założenia'!G42/1000000*$B$7*$B$32 -> 0 | P32: ='Wskaźniki emisji, założenia'!H42/1000000*$B$7*$B$32 -> 0
