Workbook
Name _Hlk178671600: 'Osiągnięcie celów 2016-2027'!$E$45
Name pompa_ciepła___wiatr: #REF!
Name pompa_ciepła___wiatr: #REF!
Name pompa_ciepła___wiatr: #REF!

Sheet emisja
A1: nowe źródło ciepła | B1: zastępowane źródło | C1: moc (kWt) | D1: uzysk (GJ/kWt) | E1: produkcja (GJ) | F1: wskaźnik emisji (kg CO2/GJ) | G1: ograniczenie emisji (Mg CO2/rok)
A2: pompa ciepła | B2: gaz ziemny | C2: =SUMIFS(#REF!,#REF!,$A$2,#REF!,B2) -> #REF! | D2: =#REF! -> #REF! | E2: =C2*$D$2 -> #REF! | F2: =#REF! -> #REF! | G2: =E2*F2/1000 -> #REF! | H2: =SUM(G2:G8) -> #REF!
B3: olej opałowy | C3: =SUMIFS(#REF!,#REF!,$A$2,#REF!,B3) -> #REF! | E3: =C3*$D$2 -> #REF! | F3: =#REF! -> #REF! | G3: =E3*F3/1000 -> #REF!
B4: węgiel | C4: =SUMIFS(#REF!,#REF!,$A$2,#REF!,B4) -> #REF! | E4: =C4*$D$2 -> #REF! | F4: =#REF! -> #REF! | G4: =E4*F4/1000 -> #REF!
B5: energia elektryczna | C5: =SUMIFS(#REF!,#REF!,$A$2,#REF!,B5) -> #REF! | E5: =C5*$D$2 -> #REF! | F5: =#REF! -> #REF! | G5: =E5*F5/1000 -> #REF!
B6: gaz płynny | C6: =SUMIFS(#REF!,#REF!,$A$2,#REF!,B6) -> #REF! | E6: =C6*$D$2 -> #REF! | F6: =#REF! -> #REF! | G6: =E6*F6/1000 -> #REF!
B7: ciepło sieciowe | C7: =SUMIFS(#REF!,#REF!,$A$2,#REF!,B7) -> #REF! | E7: =C7*$D$2 -> #REF! | F7: =#REF! -> #REF! | G7: =E7*F7/1000 -> #REF!
B8: inne | C8: =SUMIFS(#REF!,#REF!,$A$2,#REF!,B8) -> #REF! | E8: =C8*$D$2 -> #REF! | F8: =#REF! -> #REF! | G8: =E8*F8/1000 -> #REF!
A9: kolektory słoneczne | B9: gaz ziemny | C9: =SUMIFS(#REF!,#REF!,$A$9,#REF!,B9) -> #REF! | D9: =#REF! -> #REF! | E9: =C9*$D$9 -> #REF! | F9: =#REF! -> #REF! | G9: =E9*F9/1000 -> #REF! | H9: =SUM(G9:G15) -> #REF!
B10: olej opałowy | C10: =SUMIFS(#REF!,#REF!,$A$9,#REF!,B10) -> #REF! | E10: =C10*$D$9 -> #REF! | F10: =#REF! -> #REF! | G10: =E10*F10/1000 -> #REF!
B11: węgiel | C11: =SUMIFS(#REF!,#REF!,$A$9,#REF!,B11) -> #REF! | E11: =C11*$D$9 -> #REF! | F11: =#REF! -> #REF! | G11: =E11*F11/1000 -> #REF!
B12: energia elektryczna | C12: =SUMIFS(#REF!,#REF!,$A$9,#REF!,B12) -> #REF! | E12: =C12*$D$9 -> #REF! | F12: =#REF! -> #REF! | G12: =E12*F12/1000 -> #REF!
B13: gaz płynny | C13: =SUMIFS(#REF!,#REF!,$A$9,#REF!,B13) -> #REF! | E13: =C13*$D$9 -> #REF! | F13: =#REF! -> #REF! | G13: =E13*F13/1000 -> #REF!
B14: ciepło sieciowe | C14: =SUMIFS(#REF!,#REF!,$A$9,#REF!,B14) -> #REF! | E14: =C14*$D$9 -> #REF! | F14: =#REF! -> #REF! | G14: =E14*F14/1000 -> #REF!
B15: inne | C15: =SUMIFS(#REF!,#REF!,$A$9,#REF!,B15) -> #REF! | E15: =C15*$D$9 -> #REF! | F15: =#REF! -> #REF! | G15: =E15*F15/1000 -> #REF!
A16: biomasa | B16: gaz ziemny | C16: =SUMIFS(#REF!,#REF!,$A$16,#REF!,B16) -> #REF! | D16: =#REF! -> #REF! | E16: =C16*$D$16 -> #REF! | F16: =#REF! -> #REF! | G16: =E16*F16/1000 -> #REF! | H16: =SUM(G16:G22) -> #REF!
B17: olej opałowy | C17: =SUMIFS(#REF!,#REF!,$A$16,#REF!,B17) -> #REF! | E17: =C17*$D$16 -> #REF! | F17: =#REF! -> #REF! | G17: =E17*F17/1000 -> #REF!
B18: węgiel | C18: =SUMIFS(#REF!,#REF!,$A$16,#REF!,B18) -> #REF! | E18: =C18*$D$16 -> #REF! | F18: =#REF! -> #REF! | G18: =E18*F18/1000 -> #REF!
B19: energia elektryczna | C19: =SUMIFS(#REF!,#REF!,$A$16,#REF!,B19) -> #REF! | E19: =C19*$D$16 -> #REF! | F19: =#REF! -> #REF! | G19: =E19*F19/1000 -> #REF!
B20: gaz płynny | C20: =SUMIFS(#REF!,#REF!,$A$16,#REF!,B20) -> #REF! | E20: =C20*$D$16 -> #REF! | F20: =#REF! -> #REF! | G20: =E20*F20/1000 -> #REF!
B21: ciepło sieciowe | C21: =SUMIFS(#REF!,#REF!,$A$16,#REF!,B21) -> #REF! | E21: =C21*$D$16 -> #REF! | F21: =#REF! -> #REF! | G21: =E21*F21/1000 -> #REF!
B22: inne | C22: =SUMIFS(#REF!,#REF!,$A$16,#REF!,B22) -> #REF! | E22: =C22*$D$16 -> #REF! | F22: =#REF! -> #REF! | G22: =E22*F22/1000 -> #REF!
A23: mikrokogeneracja | B23: gaz ziemny | C23: =SUMIFS(#REF!,#REF!,$A$23,#REF!,B23) -> #REF! | D23: =#REF! -> #REF! | E23: =C23*$D$23 -> #REF! | F23: =#REF! -> #REF! | G23: =E23*F23/1000 -> #REF! | H23: =SUM(G23:G29) -> #REF!
B24: olej opałowy | C24: =SUMIFS(#REF!,#REF!,$A$23,#REF!,B24) -> #REF! | E24: =C24*$D$23 -> #REF! | F24: =#REF! -> #REF! | G24: =E24*F24/1000 -> #REF!
B25: węgiel | C25: =SUMIFS(#REF!,#REF!,$A$23,#REF!,B25) -> #REF! | E25: =C25*$D$23 -> #REF! | F25: =#REF! -> #REF! | G25: =E25*F25/1000 -> #REF!
B26: energia elektryczna | C26: =SUMIFS(#REF!,#REF!,$A$23,#REF!,B26) -> #REF! | E26: =C26*$D$23 -> #REF! | F26: =#REF! -> #REF! | G26: =E26*F26/1000 -> #REF!
B27: gaz płynny | C27: =SUMIFS(#REF!,#REF!,$A$23,#REF!,B27) -> #REF! | E27: =C27*$D$23 -> #REF! | F27: =#REF! -> #REF! | G27: =E27*F27/1000 -> #REF!
B28: ciepło sieciowe | C28: =SUMIFS(#REF!,#REF!,$A$23,#REF!,B28) -> #REF! | E28: =C28*$D$23 -> #REF! | F28: =#REF! -> #REF! | G28: =E28*F28/1000 -> #REF!
B29: inne | C29: =SUMIFS(#REF!,#REF!,$A$23,#REF!,B29) -> #REF! | E29: =C29*$D$23 -> #REF! | F29: =#REF! -> #REF! | G29: =E29*F29/1000 -> #REF!

Sheet Z
A1: Założenia do obliczeń oraz listy wybieralne | N1: Oświetlenie wskaźniki | U1: =0.330833*3.6 -> 1.1909988 | V1: Mg/CO2 na MWh
J2: Wskaźniki ciepła woda | O2: MWh/m2*rok | P2: podst. W/m2 | Q2: podst [MWh/m2*rok] | R2: rozszerz. | S2: rozszerz. | T2: pełny | U2: pełny | V2: to [h/rok]
A3: Źródło ciepła | B3: Wartości opałowe* [GJ/Mg] | C3: Koszt w zł uzyskania 1 GJ ciepła z danego nośnika** | E3: Lata budowy | F3: % powierzchni | G3: wsp.energochł. zakres [kWh/m2*rok] | H3: Wsp. energochł. rzeczywisty [kWh/m2*rok] | J3: V | K3: szkoły, urzędy | L3: 6.5 | N3: urz | O3: =Q3 -> 0.0375 | P3: 15 | Q3: =P3*$V$3/1000000 -> 0.0375 | R3: 20 | S3: =R3*$V$3/1000000 -> 0.05 | T3: 25 | U3: =T3*$V$3/1000000 -> 0.0625 | V3: 2500
A4: węgiel | B4: 22.63 | C4: 41 | E4: Do 1 966 | F4: 0.2 | G4: 270-350 | H4: 290 | J4: V | K4: gosp.dom. | L4: 35 | N4: szk | O4: =Q4 -> 0.03 | P4: 15 | Q4: =P4*$V$4/1000000 -> 0.03 | R4: 20 | S4: =R4*$V$4/1000000 -> 0.04 | T4: 25 | U4: =T4*$V$4/1000000 -> 0.05 | V4: 2000
A5: gaz | B5: 0.0400356 | C5: 70 | E5: 1967-1985 | F5: 0.22 | G5: 240-280 | H5: 250 | J5: L | K5: osoby | L5: 0 | N5: szpit | O5: =Q5 -> 0.075 | P5: 15 | Q5: =P5*$V$5/1000000 -> 0.075 | R5: 25 | S5: =R5*$V$5/1000000 -> 0.125 | T5: 35 | U5: =3.6*T5*$V$5/1000000 -> 0.63 | V5: 5000 | BA5: =IF(V5="energia el.",(IF(U5>=50,AJ5,AC5+AW5*Z!$J$46))) -> FALSE
A6: drewno | B6: 15 | C6: 38 | E6: 1986-1992 | F6: 0.1 | G6: 160-200 | H6: 175 | J6: Cw | K6: 4.19 | L6: 4.19 | N6: sport,rekr | O6: =Q6 -> 0.02 | P6: 10 | Q6: =P6*$V$6/1000000 -> 0.02 | R6: 20 | S6: =R6*$V$6/1000000 -> 0.04 | T6: 30 | U6: =T6*$V$6/1000000 -> 0.06 | V6: 2000
A7: pelet | B7: 18 | C7: 54 | E7: 1993-1996 | F7: 0.06 | G7: 120-160 | H7: 130 | J7: tuz | K7: czas uzytkowania | L7: 365 | N7: usługi | O7: =Q7 -> 0.0375 | P7: 15 | Q7: =P7*$V$7/1000000 -> 0.0375 | R7: 25 | S7: =R7*$V$7/1000000 -> 0.0625 | T7: 35 | U7: =T7*$V$7/1000000 -> 0.0875 | V7: 2500
A8: olej opałowy | B8: =40.19*0.86 -> 34.5634 | C8: 90 | E8: Od 1997 | F8: 0.42 | G8: 90-120 | H8: 115 | J8: kt | K8: mnoznik korekcyjny | L8: 1 | N8: Jeśli tak wskaż typ | P8: mnożnik
A9: sieć ciepłownicza | B9: - | C9: - | E9: 0 | F9: 0 | G9: 0 | H9: 0 | J9: gest | K9: 1000 kg/m3 | L9: 1000 | N9: kocioł gazowy | P9: =1-G13 -> 0.6
A10: energia el. | B10: - | C10: 138 | J10: delta t | K10: = 55-10 | L10: =55-10 -> 45 | N10: kocioł olejowy | P10: =1-G14 -> 0.8
A11: *żródło KOBIZE 2015, uśrednione na podstawie obliczeń własnych, dla gazu współczynnik konwersji [GJ/m3] wg PGNiG, dla oleju [GJ/m3] | J11: wsp. Wykorzyst. | L11: 0.9 | N11: nowoczesny kocioł węglowy | P11: =1-G15 -> 1
A12: **obliczono po przyjęciu uśrednionych sprawności urządzeń grzewczych oraz średnich cen nośników energii wg cenników dostawców | F12: Termomoderni-zacja | G12: Zmniejszenie zużycia energii | H12: Mnożnik | J12: kWh/rok | K12: Q= | L12: =L4*L6*L9*L10*L8*L7/(1000*3600) -> 669.09063 | N12: kolektory słoneczne
F13: kompletna | G13: 0.4 | H13: =1-G13 -> 0.6 | J13: MWh/rok | L13: =L12/1000 -> 0.66909063 | N13: wiatrak przydomowy | O13: Oźe
F14: częściowa | G14: 0.2 | H14: =1-G14 -> 0.8 | J14: GJ/rok | L14: =L13*3.6 -> 2.4087263 | N14: ogniwa fotowoltaiczne | O14: tak
F15: brak | G15: 0 | H15: =1-G15 -> 1 | J15: GJ/rok | K15: Qgosp.dom.= | L15: =L14*L11 -> 2.1678536 | N15: pompa ciepła | O15: nie
K16: Qszkoły,urzędy= | L16: =L15*L3/L4 -> 0.40260139 | N16: GWC
A18: Zanieczyszczenie | B18: Wskaźniki emisji (źródła <50kW)
B19: miano | C19: Paliwo stałe | E19: Gaz ziemny | F19: Olej opałowy | G19: Biomasa drewno | N19: kocioł na biomasę
C20: (z wyłączeniem biomasy) | N20: kolektory słoneczne
C21: Kotły starej generacji | D21: Kotły automatyczne nowej generacji | G21: Kotły starej generacji | H21: Kotły automatyczne nowej generacji | N21: wiatrak przydomowy
A22: Pył PM 10, | B22: g/GJ | C22: 225 | D22: 78 | E22: 0.5 | F22: 3 | G22: 480 | H22: 34 | N22: ogniwa fotowoltaiczne
A23: Pył PM 2,5 | B23: g/GJ | C23: 201 | D23: 70 | E23: 0.5 | F23: 3 | G23: 470 | H23: 33 | N23: pompa ciepła
A24: CO2 | B24: kg/GJ | C24: 93.74 | D24: 93.74 | E24: 55.82 | F24: 76.59 | G24: 0 | H24: 0 | N24: kocioł węglowy | O24: Ocielenie stropu | Q24: Ocieplenie ścian | S24: Okna
A25: Benzo(a)piren | B25: mg/GJ | C25: 270 | D25: 0.079 | E25: no | F25: 10 | G25: 121 | H25: 10 | N25: kocioł gazowy | O25: tak | P25: tak | Q25: tak | S25: nowe
A26: SO2 | B26: g/GJ | C26: 900 | D26: 450 | E26: 0.5 | F26: 140 | G26: 11 | H26: 11 | N26: Typ budynku | O26: nie | P26: nie | Q26: nie | S26: stare
A27: NOx | B27: g/GJ | C27: 158 | D27: 165 | E27: 50 | F27: 70 | G27: 80 | H27: 91 | N27: wolnostojący | O27: częściowe | P27: częściowe | Q27: częściowe | S27: częściowa wymiana
N28: szeregowiec
A29: Zanieczyszczenie | B29: Wskaźniki emisji (źródła >50kW) | N29: bliźniak
B30: miano | C30: Paliwo stałe | E30: Gaz ziemny | F30: Olej opałowy | G30: Biomasa drewno
C31: (z wyłączeniem biomasy) | M31: tak
C32: Kotły starej generacji | D32: Kotły automatyczne nowej generacji | G32: Kotły starej generacji | H32: Kotły automatyczne nowej generacji | M32: nie
A33: Pył PM 10, | B33: g/GJ | C33: 190 | D33: 78 | E33: 0.5 | F33: 3 | G33: 76 | H33: 34
A34: Pył PM 2,5 | B34: g/GJ | C34: 170 | D34: 70 | E34: 0.5 | F34: 3 | G34: 76 | H34: 33
A35: CO2 | B35: kg/GJ | C35: 93.74 | D35: 93.74 | E35: 55.82 | F35: 76.59 | G35: 0 | H35: 0
A36: Benzo(a)piren | B36: mg/GJ | C36: 100 | D36: 0.079 | E36: no | F36: 10 | G36: 50 | H36: 10
A37: SO2 | B37: g/GJ | C37: 900 | D37: 450 | E37: 0.5 | F37: 140 | G37: 20 | H37: 11
A38: NOx | B38: g/GJ | C38: 160 | D38: 165 | E38: 70 | F38: 70 | G38: 150 | H38: 91
A41: Wskaźniki emisji dla kotłów <50 kW
A42: poniżej 50 kW | C42: węgiel | D42: gaz | E42: drewno | F42: pelet | G42: Olej opałowy | H42: mpec | I42: prąd [SEAP] | J42: prąd [SEAP] Mg/MWh | L42: Zanieczyszczenie | M42: Wskaźniki emisji
A43: Zanieczyszenie | B43: Mg/GJ | I43: 0 | M43: miano | N43: Paliwo stałe | P43: Gaz ziemny | Q43: Olej opałowy | R43: Biomasa drewno
A44: PM 10 | B44: Mg/GJ | C44: =190/1000000 -> 0.00019 | D44: =0.5/1000000 -> 5e-07 | E44: =76/1000000 -> 7.6e-05 | F44: =E44 -> 7.6e-05 | G44: =3/1000000 -> 3e-06 | H44: 0 | I44: 0 | N44: (z wyłączeniem biomasy)
A45: PM 2,5 | B45: Mg/GJ | C45: =170/1000000 -> 0.00017 | D45: =0.5/1000000 -> 5e-07 | E45: =76/1000000 -> 7.6e-05 | F45: =E45 -> 7.6e-05 | G45: =3/1000000 -> 3e-06 | H45: 0 | I45: 0 | N45: Kotły starej generacji | O45: Kotły automatyczne nowej generacji | R45: Kotły starej generacji | S45: Kotły automatyczne nowej generacji
A46: Co2 | B46: Mg/GJ | C46: =93.74/1000 -> 0.09374 | D46: =55.82/1000 -> 0.05582 | E46: 0 | F46: =E46 -> 0 | G46: =76.59/1000 -> 0.07659 | H46: =93.97/1000 -> 0.09397 | I46: 330.83 | J46: =0.330833*3.6 -> 1.1909988 | L46: Pył PM 10, | M46: g/GJ | N46: 190 | O46: 78 | P46: 0.5 | Q46: 3 | R46: 76 | S46: 34
A47: BaP | B47: Mg/GJ | C47: =100/1000000000 -> 1e-07 | D47: 0 | E47: =50/1000000000 -> 5e-08 | F47: =E47 -> 5e-08 | G47: =10/1000000000 -> 1e-08 | H47: 0 | I47: 0 | L47: Pył PM 2,5 | M47: g/GJ | N47: 170 | O47: 70 | P47: 0.5 | Q47: 3 | R47: 76 | S47: 33
A48: S02 | B48: Mg/GJ | C48: =900/1000000 -> 0.0009 | D48: =0.5/1000000 -> 5e-07 | E48: =20/1000000 -> 2e-05 | F48: =E48 -> 2e-05 | G48: =140/1000000 -> 0.00014 | H48: 0 | I48: 0 | L48: CO2 | M48: kg/GJ | N48: 93.74 | O48: 93.74 | P48: 55.82 | Q48: 76.59 | R48: 0 | S48: 0
A49: N0x | B49: Mg/GJ | C49: =160/1000000 -> 0.00016 | D49: =70/1000000 -> 7e-05 | E49: =20/1000000 -> 2e-05 | F49: =E49 -> 2e-05 | G49: =70/1000000 -> 7e-05 | H49: 0 | I49: 0 | L49: Benzo(a)piren | M49: mg/GJ | N49: 100 | O49: 0.079 | P49: no | Q49: 10 | R49: 50 | S49: 10
A50: CO | B50: Mg/GJ | C50: 0.0020116227 | D50: 7.5e-06 | E50: 0.0001794 | F50: 0.0001794 | G50: 1.6253554e-05 | H50: 0 | I50: 0 | L50: SO2 | M50: g/GJ | N50: 900 | O50: 450 | P50: 0.5 | Q50: 140 | R50: 20 | S50: 11
L51: NOx | M51: g/GJ | N51: 160 | O51: 165 | P51: 70 | Q51: 70 | R51: 150 | S51: 91
A53: Uśredniony koszt za 1 kWh energii elektrycznej w gminie [zł] | B53: 0.71 | C53: Przeciętne normy zużycia wody na jednego mieszkańca w gospodarstwach domowych [m3/mies.] | D53: 2.6 | E53: Zaopatrzenie ludności w wodę, cena za dostarczanie 1 m 3 wody (Wod-Kan Kielce) | F53: 3.63 | G53: Przeciętne normy zużycia wody na os. - instytucje, zakłady [m3/mies.] | H53: 15 | J53: tak
J54: tak
J55: tak, z dofinansowaniem
J56: nie
J57: nie wiem

Sheet Wskaźniki emisji, założenia
A1: Wskaźniki emisji dla poszczególnych rodzajów paliw i typów kotłów wg normy PN EN 303-5:2012
A2: Niekreślony typ pieca, Paliwo - gaz,olej opałowy oraz ogrzewanie elektryczne i sieciowe
B3: PM10 [g / GJ] | C3: PM2,5 [g / GJ] | D3: CO2 [g / GJ] | E3: BaP [g / GJ] | F3: SO2 [g / GJ] | G3: Nox [g / GJ] | H3: CO [g / GJ]
A4: Ogrzewanie gazowe | B4: 1.2 | C4: 1.2 | D4: 52000 | E4: 5.6e-07 | F4: 0.3 | G4: 51 | H4: 26
A5: Ogrzewanie olejowe | B5: 1.9 | C5: 1.9 | D5: 76000 | E5: 8e-05 | F5: 70 | G5: 51 | H5: 57
A6: Ogrzewanie elektryczne | B6: 0 | C6: 0 | D6: 230833 | E6: 0 | F6: 0 | G6: 0 | H6: 0
A7: Miejska sieć ciepłownicza | B7: 0 | C7: 0 | D7: 93740 | E7: 0 | F7: 0 | G7: 0 | H7: 0
A8: Indywidualny piec C.O., Paliwo - Węgiel
B9: PM10 [g / GJ] | C9: PM2,5 [g / GJ] | D9: CO2 [g / GJ] | E9: BaP [g / GJ] | F9: SO2 [g / GJ] | G9: Nox [g / GJ] | H9: CO [g / GJ]
A10: zasilanie ręczne kotły pozaklasowe | B10: 404 | C10: 398 | D10: 91000 | E10: 0.23 | F10: 400 | G10: 110 | H10: 4600
A11: zasilanie automatyczne kotły pozaklasowe | B11: 240 | C11: 220 | D11: 95000 | E11: 0.15 | F11: 282.8 | G11: 150 | H11: 2000
A12: zasilanie ręczne, kotły - klasa 3 | B12: 200 | C12: 150 | D12: 91000 | E12: 0.2 | F12: 400 | G12: 110 | H12: 2466.78
A13: zasilanie ręczne, kotły - klasa 4 | B13: 49.5 | C13: 47.03 | D13: 91000 | E13: 0.084 | F13: 200 | G13: 110 | H13: 860
A14: zasilanie ręczne, kotły - klasa 5 | B14: 23.68 | C14: 23.33 | D14: 104000 | E14: 0.045 | F14: 0 | G14: 202 | H14: 345.35
A15: zasilanie ręczne, kotły - klasa Ecodesign | B15: 23.68 | C15: 23.33 | D15: 104000 | E15: 0.045 | F15: 0 | G15: 202 | H15: 345.35
A16: zasilanie automatyczne kotły - klasa 3 | B16: 49.34 | C16: 48.6 | D16: 92000 | E16: 0.075 | F16: 282.8 | G16: 340 | H16: 1140
A17: zasilanie automatyczne kotły - klasa 4 | B17: 23.68 | C17: 23.33 | D17: 92000 | E17: 0.045 | F17: 200 | G17: 340 | H17: 670
A18: zasilanie automatyczne kotły - klasa 5 | B18: 15.79 | C18: 15.55 | D18: 92000 | E18: 0.011 | F18: 0 | G18: 190 | H18: 246.88
A19: zasilanie automatyczne kotły - Ecodesign | B19: 15.79 | C19: 15.55 | D19: 92000 | E19: 0.011 | F19: 0 | G19: 190 | H19: 246.88
A20: Indywidualny piec C.O., Paliwo - Biomasa/Drewno
A21: zasilanie ręczne kotły pozaklasowe | B21: 760 | C21: 740 | D21: 0 | E21: 0.121 | F21: 11 | G21: 80 | H21: 4000
A22: zasilanie automatycznie kotły pozaklasowe | B22: 760 | C22: 740 | D22: 0 | E22: 0.121 | F22: 11 | G22: 80 | H22: 4000
A23: zasilanie ręczne, kotły - klasa 3 | B23: 108 | C23: 102.6 | D23: 0 | E23: 0.02 | F23: 10 | G23: 80 | H23: 2850
A24: zasilanie ręczne, kotły - klasa 4 | B24: 49.5 | C24: 47.03 | D24: 0 | E24: 0.069 | F24: 10 | G24: 110 | H24: 592.03
A25: zasilanie ręczne, kotły - klasa 5 | B25: 36 | C25: 34.2 | D25: 0 | E25: 0.05 | F25: 10 | G25: 130 | H25: 440
A26: zasilanie ręczne, kotły - klasa Ecodesign | B26: 36 | C26: 34.2 | D26: 0 | E26: 0.05 | F26: 10 | G26: 130 | H26: 440
A27: zasilanie automatyczne kotły - klasa 3 | B27: 49.5 | C27: 47.03 | D27: 0 | E27: 0.038 | F27: 20 | G27: 115 | H27: 670
A28: zasilanie automatyczne kotły - klasa 4 | B28: 23.68 | C28: 23.33 | D28: 0 | E28: 0.0074 | F28: 20 | G28: 341 | H28: 493.36
A29: zasilanie automatyczne kotły - klasa 5 | B29: 18 | C29: 17.1 | D29: 0 | E29: 0.005 | F29: 0 | G29: 100 | H29: 246.88
A30: zasilanie automatyczne kotły - Ecodesign | B30: 18 | C30: 17.1 | D30: 0 | E30: 0.005 | F30: 0 | G30: 100 | H30: 246.88
A31: Piec kaflowy, Paliwo - Węgiel
A32: Sprawność cieplna poniżej 80 proc. | B32: 424 | C32: 106 | D32: 104000 | E32: 0.26 | F32: 450 | G32: 100 | H32: 5250
A33: Sprawność cieplna co najmniej 80 proc | B33: 424 | C33: 106 | D33: 104000 | E33: 0.26 | F33: 450 | G33: 100 | H33: 5250
A34: Wyposażony w urządzenie redukujące emisję | B34: 106 | C34: 26.5 | D34: 104000 | E34: 0.26 | F34: 450 | G34: 100 | H34: 5250
A35: Spełniający wymagania ekoprojektu | B35: 17.6 | C35: 4.4 | D35: 92000 | E35: 0.011 | F35: 0 | G35: 170 | H35: 830
A36: Koza (na drewno, węgiel), Paliwo - Węgiel
A37: Sprawność cieplna poniżej 80 proc. | B37: 424 | C37: 106 | D37: 104000 | E37: 0.26 | F37: 450 | G37: 100 | H37: 5250
A38: Sprawność cieplna co najmniej 80 proc | B38: 424 | C38: 106 | D38: 104000 | E38: 0.26 | F38: 450 | G38: 100 | H38: 5250
A39: Wyposażony w urządzenie redukujące emisję | B39: 106 | C39: 26.5 | D39: 104000 | E39: 0.26 | F39: 450 | G39: 100 | H39: 5250
A40: Spełniający wymagania ekoprojektu | B40: 17.6 | C40: 4.4 | D40: 92000 | E40: 0.011 | F40: 0 | G40: 170 | H40: 830
A41: Koza (na drewno, węgiel), Paliwo - Drewno
A42: Sprawność cieplna poniżej 80 proc. | B42: 672 | C42: 168 | D42: 0 | E42: 0.13 | F42: 20 | G42: 60 | H42: 5250
A43: Sprawność cieplna co najmniej 80 proc | B43: 672 | C43: 168 | D43: 0 | E43: 0.13 | F43: 20 | G43: 60 | H43: 5250
A44: Wyposażony w urządzenie redukujące emisję | B44: 168 | C44: 42 | D44: 0 | E44: 0.13 | F44: 20 | G44: 60 | H44: 5250
A45: Spełniający wymagania ekoprojektu | B45: 20 | C45: 5 | D45: 0 | E45: 0.013 | F45: 0 | G45: 75 | H45: 950
A46: Kominek, Paliwo - Biomasa/Drewno
A47: Sprawność cieplna poniżej 80 proc. | B47: 672 | C47: 168 | D47: 0 | E47: 0.13 | F47: 20 | G47: 60 | H47: 5250
A48: Sprawność cieplna co najmniej 80 proc | B48: 672 | C48: 168 | D48: 0 | E48: 0.13 | F48: 20 | G48: 60 | H48: 5250
A49: Wyposażony w urządzenie redukujące emisję | B49: 168 | C49: 42 | D49: 0 | E49: 0.13 | F49: 20 | G49: 60 | H49: 5250
A50: Spełniający wymagania ekoprojektu | B50: 20 | C50: 5 | D50: 0 | E50: 0.013 | F50: 0 | G50: 75 | H50: 950
A51: Trzon kuchenny, Paliwo - Węgiel
A52: Sprawność cieplna poniżej 80 proc. | B52: 424 | C52: 106 | D52: 104000 | E52: 0.26 | F52: 450 | G52: 100 | H52: 5250
A53: Sprawność cieplna co najmniej 80 proc | B53: 424 | C53: 106 | D53: 104000 | E53: 0.26 | F53: 450 | G53: 100 | H53: 5250
A54: Wyposażony w urządzenie redukujące emisję | B54: 106 | C54: 26.5 | D54: 104000 | E54: 0.26 | F54: 450 | G54: 100 | H54: 5250
A55: Spełniający wymagania ekoprojektu | B55: 17.6 | C55: 4.4 | D55: 92000 | E55: 0.011 | F55: 0 | G55: 170 | H55: 830
A56: Trzon kuchenny, Paliwo - Drewno
A57: Sprawność cieplna poniżej 80 proc. | B57: 672 | C57: 168 | D57: 0 | E57: 0.13 | F57: 20 | G57: 60 | H57: 5250
A58: Sprawność cieplna co najmniej 80 proc | B58: 672 | C58: 168 | D58: 0 | E58: 0.13 | F58: 20 | G58: 60 | H58: 5250
A59: Wyposażony w urządzenie redukujące emisję | B59: 168 | C59: 42 | D59: 0 | E59: 0.13 | F59: 20 | G59: 60 | H59: 5250
A60: Spełniający wymagania ekoprojektu | B60: 20 | C60: 5 | D60: 0 | E60: 0.013 | F60: 0 | G60: 75 | H60: 950
A61: Inne, Paliwo - Węgiel
A62: Sprawność cieplna poniżej 80 proc. | B62: 424 | C62: 106 | D62: 104000 | E62: 0.26 | F62: 450 | G62: 100 | H62: 5250
A63: Sprawność cieplna co najmniej 80 proc | B63: 424 | C63: 106 | D63: 104000 | E63: 0.26 | F63: 450 | G63: 100 | H63: 5250
A64: Wyposażony w urządzenie redukujące emisję | B64: 106 | C64: 26.5 | D64: 104000 | E64: 0.26 | F64: 450 | G64: 100 | H64: 5250
A65: Spełniający wymagania ekoprojektu | B65: 17.6 | C65: 4.4 | D65: 92000 | E65: 0.011 | F65: 0 | G65: 170 | H65: 830
A66: Inne, Paliwo - Biomasa/Drewno
A67: Sprawność cieplna poniżej 80 proc. | B67: 672 | C67: 168 | D67: 0 | E67: 0.13 | F67: 20 | G67: 60 | H67: 5250
A68: Sprawność cieplna co najmniej 80 proc | B68: 672 | C68: 168 | D68: 0 | E68: 0.13 | F68: 20 | G68: 60 | H68: 5250
A69: Wyposażony w urządzenie redukujące emisję | B69: 168 | C69: 42 | D69: 0 | E69: 0.13 | F69: 20 | G69: 60 | H69: 5250
A70: Spełniający wymagania ekoprojektu | B70: 20 | C70: 5 | D70: 0 | E70: 0.013 | F70: 0 | G70: 75 | H70: 5250
A72: Wkażnik emisji dla energii elektrycznej z pierwotnej wersji PGN: | C72: 0.812 | D72: CO2 [Mg / MWh]

Sheet Bud.gminne 2015 
A1: Baza emisji zanieczyszczeń dla sektora budynków i urządzeń komunalnych (gminnych) wraz ze zużyciem energii końcowej
A2: Dane za rok 2015 niewynikające z obliczeń pochodzą z PGN 2016
A3: Lp | B3: Nazwa budynku, adres | C3: Rok budowy | D3: Powierzchnia ogrzewana (m2) | E3: Termomodernizacja | F3: Źródło ciepła | G3: Ilość zużywanego nośnika rocznie [Mg] w przyp. gazu i oleju [m3] | H3: Typ kotła | I3: Zużycie energii na co i cwu [GJ] | J3: PM 10 [Mg/rok] | K3: PM 2,5 [Mg/rok] | L3: CO2 [Mg/rok] | M3: BaP [Mg/rok] | N3: S02 [Mg/rok] | O3: N0x [Mg/rok] | P3: CO [Mg/rok] | Q3: Zużycie energii elektr. łącznie [MWh/rok] | R3: OZE | S3: Dane dot. OZE
A4: 1 | B4: 2 | C4: 3 | D4: 4 | E4: 5 | F4: 6 | G4: 7 | I4: 8 | Q4: 9 | R4: 10
A5: 1 | B5: Budynek Urzędu Gminy, budynek OSP - dzierżawiony przez Gminę | C5: 1933 | D5: 760 | E5: częściowa | H5: zasilanie automatyczne kotły pozaklasowe | I5: =IF(F5="węgiel",G5*#REF!,IF(F5="gaz",G5*#REF!,IF(F5="biomasa",G5*#REF!,IF(F5="pelet",G5*#REF!,IF(F5="olej opałowy",G5*#REF!,IF(F5="sieć ciepłownicza",0,0)))))) -> 0 | J5: =I5*'Wskaźniki emisji, założenia'!$B$10/1000000 -> 0 | K5: =I5*'Wskaźniki emisji, założenia'!$C$10/1000000 -> 0 | L5: =I5*'Wskaźniki emisji, założenia'!$D$10/1000000 -> 0 | M5: =I5*'Wskaźniki emisji, założenia'!$E$10/1000000 -> 0 | N5: =I5*'Wskaźniki emisji, założenia'!$F$10/1000000 -> 0 | O5: =I5*'Wskaźniki emisji, założenia'!$G$10/1000000 -> 0 | P5: =I5*'Wskaźniki emisji, założenia'!$H$10/1000000 -> 0 | R5: brak
A6: 2 | B6: Gminna Biblioteka Publiczna w Bystrej Podhalańskiej, GminnyOśrodek Pomocy Społecznej | C6: 1973 | D6: 500 | E6: częściowa | H6: zasilanie automatyczne kotły pozaklasowe | I6: =IF(F6="węgiel",G6*#REF!,IF(F6="gaz",G6*#REF!,IF(F6="biomasa",G6*#REF!,IF(F6="pelet",G6*#REF!,IF(F6="olej opałowy",G6*#REF!,IF(F6="sieć ciepłownicza",0,0)))))) -> 0 | J6: =I6*'Wskaźniki emisji, założenia'!$B$10/1000000 -> 0 | K6: =I6*'Wskaźniki emisji, założenia'!$C$10/1000000 -> 0 | L6: =I6*'Wskaźniki emisji, założenia'!$D$10/1000000 -> 0 | M6: =I6*'Wskaźniki emisji, założenia'!$E$10/1000000 -> 0 | N6: =I6*'Wskaźniki emisji, założenia'!$F$10/1000000 -> 0 | O6: =I6*'Wskaźniki emisji, założenia'!$G$10/1000000 -> 0 | P6: =I6*'Wskaźniki emisji, założenia'!$H$10/1000000 -> 0 | R6: brak
A7: 3 | B7: Przedszkole Publiczne w Bystrej Podh. | C7: 1965 | D7: 552.89 | E7: brak | H7: zasilanie automatyczne kotły pozaklasowe | I7: =IF(F7="węgiel",G7*#REF!,IF(F7="gaz",G7*#REF!,IF(F7="biomasa",G7*#REF!,IF(F7="pelet",G7*#REF!,IF(F7="olej opałowy",G7*#REF!,IF(F7="sieć ciepłownicza",0,0)))))) -> 0 | J7: =I7*'Wskaźniki emisji, założenia'!$B$10/1000000 -> 0 | K7: =I7*'Wskaźniki emisji, założenia'!$C$10/1000000 -> 0 | L7: =I7*'Wskaźniki emisji, założenia'!$D$10/1000000 -> 0 | M7: =I7*'Wskaźniki emisji, założenia'!$E$10/1000000 -> 0 | N7: =I7*'Wskaźniki emisji, założenia'!$F$10/1000000 -> 0 | O7: =I7*'Wskaźniki emisji, założenia'!$G$10/1000000 -> 0 | P7: =I7*'Wskaźniki emisji, założenia'!$H$10/1000000 -> 0 | R7: brak
A8: 4 | B8: Przedszkole Publiczne w Sidzinie | D8: 988.55 | E8: kompletna | H8: zasilanie automatyczne kotły pozaklasowe | I8: =IF(F8="węgiel",G8*#REF!,IF(F8="gaz",G8*#REF!,IF(F8="biomasa",G8*#REF!,IF(F8="pelet",G8*#REF!,IF(F8="olej opałowy",G8*#REF!,IF(F8="sieć ciepłownicza",0,0)))))) -> 0 | J8: =I8*'Wskaźniki emisji, założenia'!$B$10/1000000 -> 0 | K8: =I8*'Wskaźniki emisji, założenia'!$C$10/1000000 -> 0 | L8: =I8*'Wskaźniki emisji, założenia'!$D$10/1000000 -> 0 | M8: =I8*'Wskaźniki emisji, założenia'!$E$10/1000000 -> 0 | N8: =I8*'Wskaźniki emisji, założenia'!$F$10/1000000 -> 0 | O8: =I8*'Wskaźniki emisji, założenia'!$G$10/1000000 -> 0 | P8: =I8*'Wskaźniki emisji, założenia'!$H$10/1000000 -> 0 | R8: brak
A9: 5 | B9: Zespół Szkół im. Dzieci Zamojszczyzny w Sidzinie | C9: 1972 | D9: 3622.68 | E9: częściowa | H9: zasilanie automatyczne kotły pozaklasowe | I9: =IF(F9="węgiel",G9*#REF!,IF(F9="gaz",G9*#REF!,IF(F9="biomasa",G9*#REF!,IF(F9="pelet",G9*#REF!,IF(F9="olej opałowy",G9*#REF!,IF(F9="sieć ciepłownicza",0,0)))))) -> 0 | J9: =I9*'Wskaźniki emisji, założenia'!$B$10/1000000 -> 0 | K9: =I9*'Wskaźniki emisji, założenia'!$C$10/1000000 -> 0 | L9: =I9*'Wskaźniki emisji, założenia'!$D$10/1000000 -> 0 | M9: =I9*'Wskaźniki emisji, założenia'!$E$10/1000000 -> 0 | N9: =I9*'Wskaźniki emisji, założenia'!$F$10/1000000 -> 0 | O9: =I9*'Wskaźniki emisji, założenia'!$G$10/1000000 -> 0 | P9: =I9*'Wskaźniki emisji, założenia'!$H$10/1000000 -> 0 | R9: brak
A10: 6 | B10: Dom Nauczyciela Sidzina | C10: 1972 | D10: 388 | E10: brak | H10: zasilanie automatyczne kotły pozaklasowe | I10: =IF(F10="węgiel",G10*#REF!,IF(F10="gaz",G10*#REF!,IF(F10="biomasa",G10*#REF!,IF(F10="pelet",G10*#REF!,IF(F10="olej opałowy",G10*#REF!,IF(F10="sieć ciepłownicza",0,0)))))) -> 0 | J10: =I10*'Wskaźniki emisji, założenia'!$B$10/1000000 -> 0 | K10: =I10*'Wskaźniki emisji, założenia'!$C$10/1000000 -> 0 | L10: =I10*'Wskaźniki emisji, założenia'!$D$10/1000000 -> 0 | M10: =I10*'Wskaźniki emisji, założenia'!$E$10/1000000 -> 0 | N10: =I10*'Wskaźniki emisji, założenia'!$F$10/1000000 -> 0 | O10: =I10*'Wskaźniki emisji, założenia'!$G$10/1000000 -> 0 | P10: =I10*'Wskaźniki emisji, założenia'!$H$10/1000000 -> 0 | R10: brak
A11: 7 | B11: Zespół Szkół im. św. Jana Kantego w Bystrej Podh. | C11: 1959 | D11: 4025.73 | E11: brak | H11: zasilanie automatyczne kotły pozaklasowe | I11: =IF(F11="węgiel",G11*#REF!,IF(F11="gaz",G11*#REF!,IF(F11="biomasa",G11*#REF!,IF(F11="pelet",G11*#REF!,IF(F11="olej opałowy",G11*#REF!,IF(F11="sieć ciepłownicza",0,0)))))) -> 0 | J11: =I11*'Wskaźniki emisji, założenia'!$B$10/1000000 -> 0 | K11: =I11*'Wskaźniki emisji, założenia'!$C$10/1000000 -> 0 | L11: =I11*'Wskaźniki emisji, założenia'!$D$10/1000000 -> 0 | M11: =I11*'Wskaźniki emisji, założenia'!$E$10/1000000 -> 0 | N11: =I11*'Wskaźniki emisji, założenia'!$F$10/1000000 -> 0 | O11: =I11*'Wskaźniki emisji, założenia'!$G$10/1000000 -> 0 | P11: =I11*'Wskaźniki emisji, założenia'!$H$10/1000000 -> 0 | R11: brak
A12: 8 | B12: GMINNY OŚRODEK KULTURY PROMOCJI TURYSTYKI I SPORTU BYSTRA-SIDZINA W SIDZINIE, OSP w Sidzinie | D12: 780 | E12: kompletna | H12: zasilanie automatyczne kotły pozaklasowe | I12: =IF(F12="węgiel",G12*#REF!,IF(F12="gaz",G12*#REF!,IF(F12="biomasa",G12*#REF!,IF(F12="pelet",G12*#REF!,IF(F12="olej opałowy",G12*#REF!,IF(F12="sieć ciepłownicza",0,0)))))) -> 0 | J12: =I12*'Wskaźniki emisji, założenia'!$B$10/1000000 -> 0 | K12: =I12*'Wskaźniki emisji, założenia'!$C$10/1000000 -> 0 | L12: =I12*'Wskaźniki emisji, założenia'!$D$10/1000000 -> 0 | M12: =I12*'Wskaźniki emisji, założenia'!$E$10/1000000 -> 0 | N12: =I12*'Wskaźniki emisji, założenia'!$F$10/1000000 -> 0 | O12: =I12*'Wskaźniki emisji, założenia'!$G$10/1000000 -> 0 | P12: =I12*'Wskaźniki emisji, założenia'!$H$10/1000000 -> 0 | R12: brak
A13: 9 | B13: SKANSEN W SIDZINIE- MUZEUM KULTURY LUDOWEJ | D13: 24 | E13: brak | H13: zasilanie automatyczne kotły pozaklasowe | I13: =IF(F13="węgiel",G13*#REF!,IF(F13="gaz",G13*#REF!,IF(F13="biomasa",G13*#REF!,IF(F13="pelet",G13*#REF!,IF(F13="olej opałowy",G13*#REF!,IF(F13="sieć ciepłownicza",0,0)))))) -> 0 | J13: =I13*'Wskaźniki emisji, założenia'!$B$22/1000000 -> 0 | K13: =I13*'Wskaźniki emisji, założenia'!$C$22/1000000 -> 0 | L13: =I13*'Wskaźniki emisji, założenia'!$D$22/1000000 -> 0 | M13: =I13*'Wskaźniki emisji, założenia'!$E$22/1000000 -> 0 | N13: =I13*'Wskaźniki emisji, założenia'!$F$22/1000000 -> 0 | O13: =I13*'Wskaźniki emisji, założenia'!$G$22/1000000 -> 0 | P13: =I13*'Wskaźniki emisji, założenia'!$H$22/1000000 -> 0 | R13: brak
A14: 10 | B14: Ośrodek Zdrowia w Sidzinie | C14: 1979 | D14: 649 | E14: kompletna | H14: zasilanie automatyczne kotły pozaklasowe | I14: =IF(F14="węgiel",G14*#REF!,IF(F14="gaz",G14*#REF!,IF(F14="biomasa",G14*#REF!,IF(F14="pelet",G14*#REF!,IF(F14="olej opałowy",G14*#REF!,IF(F14="sieć ciepłownicza",0,0)))))) -> 0 | J14: =I14*'Wskaźniki emisji, założenia'!$B$10/1000000 -> 0 | K14: =I14*'Wskaźniki emisji, założenia'!$C$10/1000000 -> 0 | L14: =I14*'Wskaźniki emisji, założenia'!$D$10/1000000 -> 0 | M14: =I14*'Wskaźniki emisji, założenia'!$E$10/1000000 -> 0 | N14: =I14*'Wskaźniki emisji, założenia'!$F$10/1000000 -> 0 | O14: =I14*'Wskaźniki emisji, założenia'!$G$10/1000000 -> 0 | P14: =I14*'Wskaźniki emisji, założenia'!$H$10/1000000 -> 0 | R14: brak
A15: 11 | B15: Ośrodek Zdrowia w Bystrej Podhalańskiej, Niepubliczny Zakład Opieki Zdrowotnej "MEDICUS KULKA HOLDING"- Budynek Mienia komunalnego | C15: 2010 | D15: 506 | E15: kompletna | H15: zasilanie automatyczne kotły pozaklasowe | I15: =IF(F15="węgiel",G15*#REF!,IF(F15="gaz",G15*#REF!,IF(F15="biomasa",G15*#REF!,IF(F15="pelet",G15*#REF!,IF(F15="olej opałowy",G15*#REF!,IF(F15="sieć ciepłownicza",0,0)))))) -> 0 | J15: =I15*'Wskaźniki emisji, założenia'!$B$10/1000000 -> 0 | K15: =I15*'Wskaźniki emisji, założenia'!$C$10/1000000 -> 0 | L15: =I15*'Wskaźniki emisji, założenia'!$D$10/1000000 -> 0 | M15: =I15*'Wskaźniki emisji, założenia'!$E$10/1000000 -> 0 | N15: =I15*'Wskaźniki emisji, założenia'!$F$10/1000000 -> 0 | O15: =I15*'Wskaźniki emisji, założenia'!$G$10/1000000 -> 0 | P15: =I15*'Wskaźniki emisji, założenia'!$H$10/1000000 -> 0 | R15: brak
A16: 12 | B16: Budynek mieszkalny nr 636 Sidzina | C16: 1958 | D16: 173 | E16: brak | H16: zasilanie automatyczne kotły pozaklasowe | I16: =IF(F16="węgiel",G16*#REF!,IF(F16="gaz",G16*#REF!,IF(F16="biomasa",G16*#REF!,IF(F16="pelet",G16*#REF!,IF(F16="olej opałowy",G16*#REF!,IF(F16="sieć ciepłownicza",0,0)))))) -> 0 | J16: =I16*'Wskaźniki emisji, założenia'!$B$10/1000000 -> 0 | K16: =I16*'Wskaźniki emisji, założenia'!$C$10/1000000 -> 0 | L16: =I16*'Wskaźniki emisji, założenia'!$D$10/1000000 -> 0 | M16: =I16*'Wskaźniki emisji, założenia'!$E$10/1000000 -> 0 | N16: =I16*'Wskaźniki emisji, założenia'!$F$10/1000000 -> 0 | O16: =I16*'Wskaźniki emisji, założenia'!$G$10/1000000 -> 0 | P16: =I16*'Wskaźniki emisji, założenia'!$H$10/1000000 -> 0 | R16: brak
B17: budynek socjalny nr 449 Bystra | C17: 1966 | D17: 115 | E17: brak | H17: zasilanie automatyczne kotły pozaklasowe | I17: =IF(F17="węgiel",G17*#REF!,IF(F17="gaz",G17*#REF!,IF(F17="biomasa",G17*#REF!,IF(F17="pelet",G17*#REF!,IF(F17="olej opałowy",G17*#REF!,IF(F17="sieć ciepłownicza",0,0)))))) -> 0 | J17: =I17*'Wskaźniki emisji, założenia'!$B$10/1000000 -> 0 | K17: =I17*'Wskaźniki emisji, założenia'!$C$10/1000000 -> 0 | L17: =I17*'Wskaźniki emisji, założenia'!$D$10/1000000 -> 0 | M17: =I17*'Wskaźniki emisji, założenia'!$E$10/1000000 -> 0 | N17: =I17*'Wskaźniki emisji, założenia'!$F$10/1000000 -> 0 | O17: =I17*'Wskaźniki emisji, założenia'!$G$10/1000000 -> 0 | P17: =I17*'Wskaźniki emisji, założenia'!$H$10/1000000 -> 0 | R17: brak
A18: 13 | B18: budynek socjalny nr 449A | C18: 1966 | D18: 15 | E18: brak | I18: 8.73 | J18: =I18*'Wskaźniki emisji, założenia'!$B$10/1000000 -> 0.00352692 | K18: =I18*'Wskaźniki emisji, założenia'!$C$10/1000000 -> 0.00347454 | L18: =I18*'Wskaźniki emisji, założenia'!$D$10/1000000 -> 0.79443 | M18: =I18*'Wskaźniki emisji, założenia'!$E$10/1000000 -> 2.0079e-06 | N18: =I18*'Wskaźniki emisji, założenia'!$F$10/1000000 -> 0.003492 | O18: =I18*'Wskaźniki emisji, założenia'!$G$10/1000000 -> 0.0009603 | P18: =I18*'Wskaźniki emisji, założenia'!$H$10/1000000 -> 0.040158 | R18: brak
A19: 14 | B19: Bud.magazynu bez numeru-wynajmowany | D19: 440 | E19: brak | H19: zasilanie automatyczne kotły pozaklasowe | I19: =IF(F19="węgiel",G19*#REF!,IF(F19="gaz",G19*#REF!,IF(F19="biomasa",G19*#REF!,IF(F19="pelet",G19*#REF!,IF(F19="olej opałowy",G19*#REF!,IF(F19="sieć ciepłownicza",0,0)))))) -> 0 | J19: =I19*'Wskaźniki emisji, założenia'!$B$10/1000000 -> 0 | K19: =I19*'Wskaźniki emisji, założenia'!$C$10/1000000 -> 0 | L19: =I19*'Wskaźniki emisji, założenia'!$D$10/1000000 -> 0 | M19: =I19*'Wskaźniki emisji, założenia'!$E$10/1000000 -> 0 | N19: =I19*'Wskaźniki emisji, założenia'!$F$10/1000000 -> 0 | O19: =I19*'Wskaźniki emisji, założenia'!$G$10/1000000 -> 0 | P19: =I19*'Wskaźniki emisji, założenia'!$H$10/1000000 -> 0 | R19: brak
A20: 15 | B20: Zuzycie technologiczne (wod-kan) | I20: =IF(F20="węgiel",G20*#REF!,IF(F20="gaz",G20*#REF!,IF(F20="drewno",G20*#REF!,IF(F20="pelet",G20*#REF!,IF(F20="olej opałowy",G20*#REF!,IF(F20="sieć ciepłownicza",0,0)))))) -> 0 | R20: brak
I21: =SUM(I5:I20) -> 8.73 | J21: =SUM(J5:J20) -> 0.00352692 | K21: =SUM(K5:K20) -> 0.00347454 | L21: =SUM(L5:L20) -> 0.79443 | M21: =SUM(M5:M20) -> 2.0079e-06 | N21: =SUM(N5:N20) -> 0.003492 | O21: =SUM(O5:O20) -> 0.0009603 | P21: =SUM(P5:P20) -> 0.040158 | Q21: =SUM(Q5:Q20) -> 0 | R21: brak
B22: Podsumowanie
B23: Źródło ciepła | C23: Zużycie energii cieplnej, końcowej [GJ/rok]
B25: węgiel | C25: =SUMIFS($I$5:$I$20,'Bud.gminne 2015 '!$F$5:$F$20,'Bud.gminne 2015 '!B25) -> 0
B26: biomasa | C26: =SUMIFS($I$5:$I$20,'Bud.gminne 2015 '!$F$5:$F$20,'Bud.gminne 2015 '!B26) -> 0
B27: gaz | C27: =SUMIFS($I$5:$I$20,'Bud.gminne 2015 '!$F$5:$F$20,'Bud.gminne 2015 '!B27) -> 0
B28: olej opałowy | C28: =SUMIFS($I$5:$I$20,'Bud.gminne 2015 '!$F$5:$F$20,'Bud.gminne 2015 '!B28) -> 0
B29: energia el. | C29: =SUMIFS($I$5:$I$20,'Bud.gminne 2015 '!$F$5:$F$20,'Bud.gminne 2015 '!B29) -> 0
B30: kolektory słoneczne | C30: =SUMIFS($I$5:$I$20,'Bud.gminne 2015 '!$F$5:$F$20,'Bud.gminne 2015 '!B30) -> 0
B31: Suma: | C31: =SUM(C25:C30) -> 0

Sheet Oświetlenie, en.elektr. 2015
A1: Energia elektryczna wraz z oświetleniem ulicznym - emisja zanieczyszczeń wraz ze zużyciem
A2: Rok bazowy 2015
A3: Sektor | B3: Zużycie energii elektrycznej [GJ] | C3: Zużycie energii elektrycznej [MWh] | D3: Wskaźnik emisji CO2 [Mg/MWh] | E3: Emisja CO2 [Mg/rok]
A4: Oświetlenie | D4: ='Wskaźniki emisji, założenia'!C72 -> 0.812 | E4: =C4*D4 -> 0
A5: Budynki gminne | D5: ='Wskaźniki emisji, założenia'!C72 -> 0.812 | E5: =C5*D5 -> 0
A6: Mieszkalnictwo | D6: =D5 -> 0.812 | E6: =C6*D6 -> 0
A7: Działalność gospodarcza | D7: =D6 -> 0.812 | E7: =C7*D7 -> 0
A8: Suma: | B8: =SUM(B4:B7) -> 0 | C8: =SUM(C4:C7) -> 0 | E8: =SUM(E4:E7) -> 0

Sheet Mieszkalnictwo 2015
A1: Zużycie energii końcowej wraz z emisją zanieczyszczeń dla sektora budynków mieszkalnych w roku 2015
A2: Dane za rok 2015 niewynikające z obliczeń pochodzą z PGN 2016
A3: Ilość energi cieplnej z ankietyzacji sektora mieszkaniowego w 2015 roku:
A4: Źródło ciepła dla co oraz cwu | B4: Energia końcowa [GJ] | C4: [%]
A5: węgiel | C5: 0.51987234
A6: biomasa | C6: 0.45024138
A7: gaz | C7: 0.0087594002
A8: olej opałowy | C8: 0.0058268807
A9: energia elektryczna | C9: 0.005
A10: kolektory słoneczne | C10: 0.009
A11: pompy ciepła | C11: 0.0013
A12: Łącznie | C12: =SUM(C5:C11) -> 1
A14: Przeliczenie ilości energii cieplnej na cały sektor mieszkaniowy w gminie
A15: Powierzchnia mieszkalna - cały sektor [m2]
A16: Powierzchnia mieszkalna wg ankiet [m2] | C16: 1 | F16: Łączna emisja zanieczyszczeń w gminie w sektorze mieszkaniowym
A17: Zużycie energii wg ankiet [GJ/rok] | C17: =B12 -> 0 | F17: PM10 [g / GJ] | G17: PM2,5 [g / GJ] | H17: CO2 [g / GJ] | I17: BaP [g / GJ] | J17: SO2 [g / GJ] | K17: Nox [g / GJ] | L17: CO [g / GJ]
A18: Zużycie energii w gminie [GJ/rok] | C18: =C17/C16*C15 -> 0 | F18: =SUM(C34:C55)+SUM(J34:J55)+D59+D61 -> 0 | G18: =SUM(D34:D55)+SUM(K34:K55)+E59+E61 -> 0 | H18: =SUM(E34:E55)+SUM(L34:L55)+F59+F61 -> 0 | I18: =SUM(F34:F55)+SUM(M34:M55)+G59+G61 -> 0 | J18: =SUM(G34:G55)+SUM(N34:N55)+H59+H61 -> 0 | K18: =SUM(H34:H55)+SUM(O34:O55)+I59+I61 -> 0 | L18: =SUM(I34:I55)+SUM(P34:P55)+J59+J61 -> 0
A20: Źródło ciepła dla co oraz cwu | B20: Energia końcowa [GJ] | C20: [%]
A21: węgiel | B21: =$C$18*C21 -> 0 | C21: =C5 -> 0.51987234
A22: biomasa | B22: =$C$18*C22 -> 0 | C22: =C6 -> 0.45024138
A23: gaz | B23: =$C$18*C23 -> 0 | C23: =C7 -> 0.0087594002
A24: olej opałowy | B24: =$C$18*C24 -> 0 | C24: =C8 -> 0.0058268807
A25: energia elektryczna | B25: =$C$18*C25 -> 0 | C25: =C9 -> 0.005
A26: kolektory słoneczne | B26: =$C$18*C26 -> 0 | C26: =C10 -> 0.009
A27: pompy ciepła | B27: =$C$18*C27 -> 0 | C27: =C11 -> 0.0013
A28: Łącznie | B28: =SUM(B21:B27) -> 0 | C28: =SUM(C21:C27) -> 1
A30: Obliczenie odsetka poszczególnych rodzajów kotłów/palenisk na podstawie inwentaryzacji oraz łącznej emisji zanieczyszczeń z sektora mieszkaniowego
A31: Odsetek poszczególnych palenisk/kotłów | C31: Emisja z paliw węglowych w przeliczeniu na całą gminę | J31: Emisja z biomasy w przeliczeniu na całą gminę
C32: PM10 [g / GJ] | D32: PM2,5 [g / GJ] | E32: CO2 [g / GJ] | F32: BaP [g / GJ] | G32: SO2 [g / GJ] | H32: Nox [g / GJ] | I32: CO [g / GJ] | J32: PM10 [g / GJ] | K32: PM2,5 [g / GJ] | L32: CO2 [g / GJ] | M32: BaP [g / GJ] | N32: SO2 [g / GJ] | O32: Nox [g / GJ] | P32: CO [g / GJ]
A33: Indywidualny piec C.O., paliwo stałe
A34: pozaklasowe zasilanie ręczne kotły | B34: 0.64973833 | C34: =$B$34*$B$21*'Wskaźniki emisji, założenia'!B10/1000000 -> 0 | D34: =$B$34*$B$21*'Wskaźniki emisji, założenia'!C10/1000000 -> 0 | E34: =$B$34*$B$21*'Wskaźniki emisji, założenia'!D10/1000000 -> 0 | F34: =$B$34*$B$21*'Wskaźniki emisji, założenia'!E10/1000000 -> 0 | G34: =$B$34*$B$21*'Wskaźniki emisji, założenia'!F10/1000000 -> 0 | H34: =$B$34*$B$21*'Wskaźniki emisji, założenia'!G10/1000000 -> 0 | I34: =$B$34*$B$21*'Wskaźniki emisji, założenia'!H10/1000000 -> 0 | J34: ='Wskaźniki emisji, założenia'!B21/1000000*$B$34*$B$22 -> 0 | K34: ='Wskaźniki emisji, założenia'!C21/1000000*$B$34*$B$22 -> 0 | L34: ='Wskaźniki emisji, założenia'!D21/1000000*$B$34*$B$22 -> 0 | M34: ='Wskaźniki emisji, założenia'!E21/1000000*$B$34*$B$22 -> 0 | N34: ='Wskaźniki emisji, założenia'!F21/1000000*$B$34*$B$22 -> 0 | O34: ='Wskaźniki emisji, założenia'!G21/1000000*$B$34*$B$22 -> 0 | P34: ='Wskaźniki emisji, założenia'!H21/1000000*$B$34*$B$22 -> 0
A35: pozaklasowe zasilanie automatycznie kotły | B35: 0.005 | C35: =$B$35*$B$21*'Wskaźniki emisji, założenia'!B11/1000000 -> 0 | D35: =$B$35*$B$21*'Wskaźniki emisji, założenia'!C11/1000000 -> 0 | E35: =$B$35*$B$21*'Wskaźniki emisji, założenia'!D11/1000000 -> 0 | F35: =$B$35*$B$21*'Wskaźniki emisji, założenia'!E11/1000000 -> 0 | G35: =$B$35*$B$21*'Wskaźniki emisji, założenia'!F11/1000000 -> 0 | H35: =$B$35*$B$21*'Wskaźniki emisji, założenia'!G11/1000000 -> 0 | I35: =$B$35*$B$21*'Wskaźniki emisji, założenia'!H11/1000000 -> 0 | J35: ='Wskaźniki emisji, założenia'!B22/1000000*$B$35*$B$22 -> 0 | K35: ='Wskaźniki emisji, założenia'!C22/1000000*$B$35*$B$22 -> 0 | L35: ='Wskaźniki emisji, założenia'!D22/1000000*$B$35*$B$22 -> 0 | M35: ='Wskaźniki emisji, założenia'!E22/1000000*$B$35*$B$22 -> 0 | N35: ='Wskaźniki emisji, założenia'!F22/1000000*$B$35*$B$22 -> 0 | O35: ='Wskaźniki emisji, założenia'!G22/1000000*$B$35*$B$22 -> 0 | P35: ='Wskaźniki emisji, założenia'!H22/1000000*$B$35*$B$22 -> 0
A36: 3 klasa zasilanie ręczne, kotły | B36: 0.03 | C36: =$B$36*$B$21*'Wskaźniki emisji, założenia'!B12/1000000 -> 0 | D36: =$B$36*$B$21*'Wskaźniki emisji, założenia'!C12/1000000 -> 0 | E36: =$B$36*$B$21*'Wskaźniki emisji, założenia'!D12/1000000 -> 0 | F36: =$B$36*$B$21*'Wskaźniki emisji, założenia'!E12/1000000 -> 0 | G36: =$B$36*$B$21*'Wskaźniki emisji, założenia'!F12/1000000 -> 0 | H36: =$B$36*$B$21*'Wskaźniki emisji, założenia'!G12/1000000 -> 0 | I36: =$B$36*$B$21*'Wskaźniki emisji, założenia'!H12/1000000 -> 0 | J36: ='Wskaźniki emisji, założenia'!B23/1000000*$B$36*$B$22 -> 0 | K36: ='Wskaźniki emisji, założenia'!C23/1000000*$B$36*$B$22 -> 0 | L36: ='Wskaźniki emisji, założenia'!D23/1000000*$B$36*$B$22 -> 0 | M36: ='Wskaźniki emisji, założenia'!E23/1000000*$B$36*$B$22 -> 0 | N36: ='Wskaźniki emisji, założenia'!F23/1000000*$B$36*$B$22 -> 0 | O36: ='Wskaźniki emisji, założenia'!G23/1000000*$B$36*$B$22 -> 0 | P36: ='Wskaźniki emisji, założenia'!H23/1000000*$B$36*$B$22 -> 0
A37: 4 klasa zasilanie ręczne, kotły | B37: 0.01 | C37: =$B$37*$B$21*'Wskaźniki emisji, założenia'!B13/1000000 -> 0 | D37: =$B$37*$B$21*'Wskaźniki emisji, założenia'!C13/1000000 -> 0 | E37: =$B$37*$B$21*'Wskaźniki emisji, założenia'!D13/1000000 -> 0 | F37: =$B$37*$B$21*'Wskaźniki emisji, założenia'!E13/1000000 -> 0 | G37: =$B$37*$B$21*'Wskaźniki emisji, założenia'!F13/1000000 -> 0 | H37: =$B$37*$B$21*'Wskaźniki emisji, założenia'!G13/1000000 -> 0 | I37: =$B$37*$B$21*'Wskaźniki emisji, założenia'!H13/1000000 -> 0 | J37: ='Wskaźniki emisji, założenia'!B24/1000000*$B$37*$B$22 -> 0 | K37: ='Wskaźniki emisji, założenia'!C24/1000000*$B$37*$B$22 -> 0 | L37: ='Wskaźniki emisji, założenia'!D24/1000000*$B$37*$B$22 -> 0 | M37: ='Wskaźniki emisji, założenia'!E24/1000000*$B$37*$B$22 -> 0 | N37: ='Wskaźniki emisji, założenia'!F24/1000000*$B$37*$B$22 -> 0 | O37: ='Wskaźniki emisji, założenia'!G24/1000000*$B$37*$B$22 -> 0 | P37: ='Wskaźniki emisji, założenia'!H24/1000000*$B$37*$B$22 -> 0
A38: 5 klasa zasilanie ręczne, kotły | B38: 0.001 | C38: =$B$38*$B$21*'Wskaźniki emisji, założenia'!B14/1000000 -> 0 | D38: =$B$38*$B$21*'Wskaźniki emisji, założenia'!C14/1000000 -> 0 | E38: =$B$38*$B$21*'Wskaźniki emisji, założenia'!D14/1000000 -> 0 | F38: =$B$38*$B$21*'Wskaźniki emisji, założenia'!E14/1000000 -> 0 | G38: =$B$38*$B$21*'Wskaźniki emisji, założenia'!F14/1000000 -> 0 | H38: =$B$38*$B$21*'Wskaźniki emisji, założenia'!G14/1000000 -> 0 | I38: =$B$38*$B$21*'Wskaźniki emisji, założenia'!H14/1000000 -> 0 | J38: ='Wskaźniki emisji, założenia'!B25/1000000*$B$38*$B$22 -> 0 | K38: ='Wskaźniki emisji, założenia'!C25/1000000*$B$38*$B$22 -> 0 | L38: ='Wskaźniki emisji, założenia'!D25/1000000*$B$38*$B$22 -> 0 | M38: ='Wskaźniki emisji, założenia'!E25/1000000*$B$38*$B$22 -> 0 | N38: ='Wskaźniki emisji, założenia'!F25/1000000*$B$38*$B$22 -> 0 | O38: ='Wskaźniki emisji, założenia'!G25/1000000*$B$38*$B$22 -> 0 | P38: ='Wskaźniki emisji, założenia'!H25/1000000*$B$38*$B$22 -> 0
A39: Ecodesign zasilanie ręczne, kotły | B39: 0 | C39: =$B$39*$B$21*'Wskaźniki emisji, założenia'!B15/1000000 -> 0 | D39: =$B$39*$B$21*'Wskaźniki emisji, założenia'!C15/1000000 -> 0 | E39: =$B$39*$B$21*'Wskaźniki emisji, założenia'!D15/1000000 -> 0 | F39: =$B$39*$B$21*'Wskaźniki emisji, założenia'!E15/1000000 -> 0 | G39: =$B$39*$B$21*'Wskaźniki emisji, założenia'!F15/1000000 -> 0 | H39: =$B$39*$B$21*'Wskaźniki emisji, założenia'!G15/1000000 -> 0 | I39: =$B$39*$B$21*'Wskaźniki emisji, założenia'!H15/1000000 -> 0 | J39: ='Wskaźniki emisji, założenia'!B26/1000000*$B$39*$B$22 -> 0 | K39: ='Wskaźniki emisji, założenia'!C26/1000000*$B$39*$B$22 -> 0 | L39: ='Wskaźniki emisji, założenia'!D26/1000000*$B$39*$B$22 -> 0 | M39: ='Wskaźniki emisji, założenia'!E26/1000000*$B$39*$B$22 -> 0 | N39: ='Wskaźniki emisji, założenia'!F26/1000000*$B$39*$B$22 -> 0 | O39: ='Wskaźniki emisji, założenia'!G26/1000000*$B$39*$B$22 -> 0 | P39: ='Wskaźniki emisji, założenia'!H26/1000000*$B$39*$B$22 -> 0
A40: 3 klasa zasilanie automatyczne kotły | B40: 0.005 | C40: =$B$40*$B$21*'Wskaźniki emisji, założenia'!B16/1000000 -> 0 | D40: =$B$40*$B$21*'Wskaźniki emisji, założenia'!C16/1000000 -> 0 | E40: =$B$40*$B$21*'Wskaźniki emisji, założenia'!D16/1000000 -> 0 | F40: =$B$40*$B$21*'Wskaźniki emisji, założenia'!E16/1000000 -> 0 | G40: =$B$40*$B$21*'Wskaźniki emisji, założenia'!F16/1000000 -> 0 | H40: =$B$40*$B$21*'Wskaźniki emisji, założenia'!G16/1000000 -> 0 | I40: =$B$40*$B$21*'Wskaźniki emisji, założenia'!H16/1000000 -> 0 | J40: ='Wskaźniki emisji, założenia'!B27/1000000*$B$40*$B$22 -> 0 | K40: ='Wskaźniki emisji, założenia'!C27/1000000*$B$40*$B$22 -> 0 | L40: ='Wskaźniki emisji, założenia'!D27/1000000*$B$40*$B$22 -> 0 | M40: ='Wskaźniki emisji, założenia'!E27/1000000*$B$40*$B$22 -> 0 | N40: ='Wskaźniki emisji, założenia'!F27/1000000*$B$40*$B$22 -> 0 | O40: ='Wskaźniki emisji, założenia'!G27/1000000*$B$40*$B$22 -> 0 | P40: ='Wskaźniki emisji, założenia'!H27/1000000*$B$40*$B$22 -> 0
A41: 4 klasa zasilanie automatyczne kotły | B41: 0 | C41: =$B$41*$B$21*'Wskaźniki emisji, założenia'!B17/1000000 -> 0 | D41: =$B$41*$B$21*'Wskaźniki emisji, założenia'!C17/1000000 -> 0 | E41: =$B$41*$B$21*'Wskaźniki emisji, założenia'!D17/1000000 -> 0 | F41: =$B$41*$B$21*'Wskaźniki emisji, założenia'!E17/1000000 -> 0 | G41: =$B$41*$B$21*'Wskaźniki emisji, założenia'!F17/1000000 -> 0 | H41: =$B$41*$B$21*'Wskaźniki emisji, założenia'!G17/1000000 -> 0 | I41: =$B$41*$B$21*'Wskaźniki emisji, założenia'!H17/1000000 -> 0 | J41: ='Wskaźniki emisji, założenia'!B28/1000000*$B$41*$B$22 -> 0 | K41: ='Wskaźniki emisji, założenia'!C28/1000000*$B$41*$B$22 -> 0 | L41: ='Wskaźniki emisji, założenia'!D28/1000000*$B$41*$B$22 -> 0 | M41: ='Wskaźniki emisji, założenia'!E28/1000000*$B$41*$B$22 -> 0 | N41: ='Wskaźniki emisji, założenia'!F28/1000000*$B$41*$B$22 -> 0 | O41: ='Wskaźniki emisji, założenia'!G28/1000000*$B$41*$B$22 -> 0 | P41: ='Wskaźniki emisji, założenia'!H28/1000000*$B$41*$B$22 -> 0
A42: 5 klasa zasilanie automatyczne kotły | B42: 0.002 | C42: =$B$42*$B$21*'Wskaźniki emisji, założenia'!B18/1000000 -> 0 | D42: =$B$42*$B$21*'Wskaźniki emisji, założenia'!C18/1000000 -> 0 | E42: =$B$42*$B$21*'Wskaźniki emisji, założenia'!D18/1000000 -> 0 | F42: =$B$42*$B$21*'Wskaźniki emisji, założenia'!E18/1000000 -> 0 | G42: =$B$42*$B$21*'Wskaźniki emisji, założenia'!F18/1000000 -> 0 | H42: =$B$42*$B$21*'Wskaźniki emisji, założenia'!G18/1000000 -> 0 | I42: =$B$42*$B$21*'Wskaźniki emisji, założenia'!H18/1000000 -> 0 | J42: ='Wskaźniki emisji, założenia'!B29/1000000*$B$42*$B$22 -> 0 | K42: ='Wskaźniki emisji, założenia'!C29/1000000*$B$42*$B$22 -> 0 | L42: ='Wskaźniki emisji, założenia'!D29/1000000*$B$42*$B$22 -> 0 | M42: ='Wskaźniki emisji, założenia'!E29/1000000*$B$42*$B$22 -> 0 | N42: ='Wskaźniki emisji, założenia'!F29/1000000*$B$42*$B$22 -> 0 | O42: ='Wskaźniki emisji, założenia'!G29/1000000*$B$42*$B$22 -> 0 | P42: ='Wskaźniki emisji, założenia'!H29/1000000*$B$42*$B$22 -> 0
A43: Ecodesign zasilanie automatyczne kotły | B43: 0 | C43: =$B$43*$B$21*'Wskaźniki emisji, założenia'!B19/1000000 -> 0 | D43: =$B$43*$B$21*'Wskaźniki emisji, założenia'!C19/1000000 -> 0 | E43: =$B$43*$B$21*'Wskaźniki emisji, założenia'!D19/1000000 -> 0 | F43: =$B$43*$B$21*'Wskaźniki emisji, założenia'!E19/1000000 -> 0 | G43: =$B$43*$B$21*'Wskaźniki emisji, założenia'!F19/1000000 -> 0 | H43: =$B$43*$B$21*'Wskaźniki emisji, założenia'!G19/1000000 -> 0 | I43: =$B$43*$B$21*'Wskaźniki emisji, założenia'!H19/1000000 -> 0 | J43: ='Wskaźniki emisji, założenia'!B30/1000000*$B$43*$B$22 -> 0 | K43: ='Wskaźniki emisji, założenia'!C30/1000000*$B$43*$B$22 -> 0 | L43: ='Wskaźniki emisji, założenia'!D30/1000000*$B$43*$B$22 -> 0 | M43: ='Wskaźniki emisji, założenia'!E30/1000000*$B$43*$B$22 -> 0 | N43: ='Wskaźniki emisji, założenia'!F30/1000000*$B$43*$B$22 -> 0 | O43: ='Wskaźniki emisji, założenia'!G30/1000000*$B$43*$B$22 -> 0 | P43: ='Wskaźniki emisji, założenia'!H30/1000000*$B$43*$B$22 -> 0
A44: Piec kaflowy, Paliwo stałe
A45: piec kaflowy <80% | B45: 0.086835562 | C45: ='Wskaźniki emisji, założenia'!B32*$B$45*$B$21/1000000 -> 0 | D45: ='Wskaźniki emisji, założenia'!C32*$B$45*$B$21/1000000 -> 0 | E45: ='Wskaźniki emisji, założenia'!D32*$B$45*$B$21/1000000 -> 0 | F45: ='Wskaźniki emisji, założenia'!E32*$B$45*$B$21/1000000 -> 0 | G45: ='Wskaźniki emisji, założenia'!F32*$B$45*$B$21/1000000 -> 0 | H45: ='Wskaźniki emisji, założenia'!G32*$B$45*$B$21/1000000 -> 0 | I45: ='Wskaźniki emisji, założenia'!H32*$B$45*$B$21/1000000 -> 0 | J45: 0 | K45: 0 | L45: 0 | M45: 0 | N45: 0 | O45: 0 | P45: 0
A46: piec kaflowy >80% | B46: 0 | C46: ='Wskaźniki emisji, założenia'!B33*$B$46*$B$21/1000000 -> 0 | D46: ='Wskaźniki emisji, założenia'!C33*$B$46*$B$21/1000000 -> 0 | E46: ='Wskaźniki emisji, założenia'!D33*$B$46*$B$21/1000000 -> 0 | F46: ='Wskaźniki emisji, założenia'!E33*$B$46*$B$21/1000000 -> 0 | G46: ='Wskaźniki emisji, założenia'!F33*$B$46*$B$21/1000000 -> 0 | H46: ='Wskaźniki emisji, założenia'!G33*$B$46*$B$21/1000000 -> 0 | I46: ='Wskaźniki emisji, założenia'!H33*$B$46*$B$21/1000000 -> 0 | J46: 0 | K46: 0 | L46: 0 | M46: 0 | N46: 0 | O46: 0 | P46: 0
A47: Koza
A48: koza <80% | B48: 0.045594742 | C48: ='Wskaźniki emisji, założenia'!B37/1000000*$B$48*$B$21 -> 0 | D48: ='Wskaźniki emisji, założenia'!C37/1000000*$B$48*$B$21 -> 0 | E48: ='Wskaźniki emisji, założenia'!D37/1000000*$B$48*$B$21 -> 0 | F48: ='Wskaźniki emisji, założenia'!E37/1000000*$B$48*$B$21 -> 0 | G48: ='Wskaźniki emisji, założenia'!F37/1000000*$B$48*$B$21 -> 0 | H48: ='Wskaźniki emisji, założenia'!G37/1000000*$B$48*$B$21 -> 0 | I48: ='Wskaźniki emisji, założenia'!H37/1000000*$B$48*$B$21 -> 0 | J48: ='Wskaźniki emisji, założenia'!B42/1000000*$B$22*$B$48 -> 0 | K48: ='Wskaźniki emisji, założenia'!C42/1000000*$B$22*$B$48 -> 0 | L48: ='Wskaźniki emisji, założenia'!D42/1000000*$B$22*$B$48 -> 0 | M48: ='Wskaźniki emisji, założenia'!E42/1000000*$B$22*$B$48 -> 0 | N48: ='Wskaźniki emisji, założenia'!F42/1000000*$B$22*$B$48 -> 0 | O48: ='Wskaźniki emisji, założenia'!G42/1000000*$B$22*$B$48 -> 0 | P48: ='Wskaźniki emisji, założenia'!H42/1000000*$B$22*$B$48 -> 0
A49: koza >80% | B49: 0 | C49: ='Wskaźniki emisji, założenia'!B38/1000000*$B$49*$B$21 -> 0 | D49: ='Wskaźniki emisji, założenia'!C38/1000000*$B$49*$B$21 -> 0 | E49: ='Wskaźniki emisji, założenia'!D38/1000000*$B$49*$B$21 -> 0 | F49: ='Wskaźniki emisji, założenia'!E38/1000000*$B$49*$B$21 -> 0 | G49: ='Wskaźniki emisji, założenia'!F38/1000000*$B$49*$B$21 -> 0 | H49: ='Wskaźniki emisji, założenia'!G38/1000000*$B$49*$B$21 -> 0 | I49: ='Wskaźniki emisji, założenia'!H38/1000000*$B$49*$B$21 -> 0 | J49: ='Wskaźniki emisji, założenia'!B43/1000000*$B$22*$B$49 -> 0 | K49: ='Wskaźniki emisji, założenia'!C43/1000000*$B$22*$B$49 -> 0 | L49: ='Wskaźniki emisji, założenia'!D43/1000000*$B$22*$B$49 -> 0 | M49: ='Wskaźniki emisji, założenia'!E43/1000000*$B$22*$B$49 -> 0 | N49: ='Wskaźniki emisji, założenia'!F43/1000000*$B$22*$B$49 -> 0 | O49: ='Wskaźniki emisji, założenia'!G43/1000000*$B$22*$B$49 -> 0 | P49: ='Wskaźniki emisji, założenia'!H43/1000000*$B$22*$B$49 -> 0
A50: Kominek
A51: kominek <80% | B51: 0.051211755 | C51: 0 | D51: 0 | E51: 0 | F51: 0 | G51: 0 | H51: 0 | I51: 0 | J51: ='Wskaźniki emisji, założenia'!B47*$B$51*$B$22/1000000 -> 0 | K51: ='Wskaźniki emisji, założenia'!C47*$B$51*$B$22/1000000 -> 0 | L51: ='Wskaźniki emisji, założenia'!D47*$B$51*$B$22/1000000 -> 0 | M51: ='Wskaźniki emisji, założenia'!E47*$B$51*$B$22/1000000 -> 0 | N51: ='Wskaźniki emisji, założenia'!F47*$B$51*$B$22/1000000 -> 0 | O51: ='Wskaźniki emisji, założenia'!G47*$B$51*$B$22/1000000 -> 0 | P51: ='Wskaźniki emisji, założenia'!H47*$B$51*$B$22/1000000 -> 0
A52: kominek >80% | B52: 0 | C52: 0 | D52: 0 | E52: 0 | F52: 0 | G52: 0 | H52: 0 | I52: 0 | J52: ='Wskaźniki emisji, założenia'!B48*$B$52*$B$22/1000000 -> 0 | K52: ='Wskaźniki emisji, założenia'!C48*$B$52*$B$22/1000000 -> 0 | L52: ='Wskaźniki emisji, założenia'!D48*$B$52*$B$22/1000000 -> 0 | M52: ='Wskaźniki emisji, założenia'!E48*$B$52*$B$22/1000000 -> 0 | N52: ='Wskaźniki emisji, założenia'!F48*$B$52*$B$22/1000000 -> 0 | O52: ='Wskaźniki emisji, założenia'!G48*$B$52*$B$22/1000000 -> 0 | P52: ='Wskaźniki emisji, założenia'!H48*$B$52*$B$22/1000000 -> 0
A53: Trzon kuchenny, Paliwo stałe
A54: trzon kuchenny >80% | B54: 0.092896744 | C54: =$B$54*$B$21*'Wskaźniki emisji, założenia'!B52/1000000 -> 0 | D54: =$B$54*$B$21*'Wskaźniki emisji, założenia'!C52/1000000 -> 0 | E54: =$B$54*$B$21*'Wskaźniki emisji, założenia'!D52/1000000 -> 0 | F54: =$B$54*$B$21*'Wskaźniki emisji, założenia'!E52/1000000 -> 0 | G54: =$B$54*$B$21*'Wskaźniki emisji, założenia'!F52/1000000 -> 0 | H54: =$B$54*$B$21*'Wskaźniki emisji, założenia'!G52/1000000 -> 0 | I54: =$B$54*$B$21*'Wskaźniki emisji, założenia'!H52/1000000 -> 0 | J54: ='Wskaźniki emisji, założenia'!B57/1000000*$B$54*$B$21 -> 0 | K54: ='Wskaźniki emisji, założenia'!C57/1000000*$B$54*$B$21 -> 0 | L54: ='Wskaźniki emisji, założenia'!D57/1000000*$B$54*$B$21 -> 0 | M54: ='Wskaźniki emisji, założenia'!E57/1000000*$B$54*$B$21 -> 0 | N54: ='Wskaźniki emisji, założenia'!F57/1000000*$B$54*$B$21 -> 0 | O54: ='Wskaźniki emisji, założenia'!G57/1000000*$B$54*$B$21 -> 0 | P54: ='Wskaźniki emisji, założenia'!H57/1000000*$B$54*$B$21 -> 0
A55: trzon kuchenny <80% | B55: 0 | C55: =$B$55*$B$21*'Wskaźniki emisji, założenia'!B53/1000000 -> 0 | D55: =$B$55*$B$21*'Wskaźniki emisji, założenia'!C53/1000000 -> 0 | E55: =$B$55*$B$21*'Wskaźniki emisji, założenia'!D53/1000000 -> 0 | F55: =$B$55*$B$21*'Wskaźniki emisji, założenia'!E53/1000000 -> 0 | G55: =$B$55*$B$21*'Wskaźniki emisji, założenia'!F53/1000000 -> 0 | H55: =$B$55*$B$21*'Wskaźniki emisji, założenia'!G53/1000000 -> 0 | I55: =$B$55*$B$21*'Wskaźniki emisji, założenia'!H53/1000000 -> 0 | J55: ='Wskaźniki emisji, założenia'!B58/1000000*$B$55*$B$22 -> 0 | K55: ='Wskaźniki emisji, założenia'!C58/1000000*$B$55*$B$22 -> 0 | L55: ='Wskaźniki emisji, założenia'!D58/1000000*$B$55*$B$22 -> 0 | M55: ='Wskaźniki emisji, założenia'!E58/1000000*$B$55*$B$22 -> 0 | N55: ='Wskaźniki emisji, założenia'!F58/1000000*$B$55*$B$22 -> 0 | O55: ='Wskaźniki emisji, założenia'!G58/1000000*$B$55*$B$22 -> 0 | P55: ='Wskaźniki emisji, założenia'!H58/1000000*$B$55*$B$22 -> 0
D57: Emisja z paliw gazowych w przeliczeniu na całą gminę
D58: PM10 [g / GJ] | E58: PM2,5 [g / GJ] | F58: CO2 [g / GJ] | G58: BaP [g / GJ] | H58: SO2 [g / GJ] | I58: Nox [g / GJ] | J58: CO [g / GJ]
D59: =$B$23*'Wskaźniki emisji, założenia'!B4/1000000 -> 0 | E59: =$B$23*'Wskaźniki emisji, założenia'!C4/1000000 -> 0 | F59: =$B$23*'Wskaźniki emisji, założenia'!D4/1000000 -> 0 | G59: =$B$23*'Wskaźniki emisji, założenia'!E4/1000000 -> 0 | H59: =$B$23*'Wskaźniki emisji, założenia'!F4/1000000 -> 0 | I59: =$B$23*'Wskaźniki emisji, założenia'!G4/1000000 -> 0 | J59: =$B$23*'Wskaźniki emisji, założenia'!H4/1000000 -> 0
D60: Emisja z oleju opałowego w przeliczeniu na całą gminę
D61: =$B$24*'Wskaźniki emisji, założenia'!B5/1000000 -> 0 | E61: =$B$24*'Wskaźniki emisji, założenia'!C5/1000000 -> 0 | F61: =$B$24*'Wskaźniki emisji, założenia'!D5/1000000 -> 0 | G61: =$B$24*'Wskaźniki emisji, założenia'!E5/1000000 -> 0 | H61: =$B$24*'Wskaźniki emisji, założenia'!F5/1000000 -> 0 | I61: =$B$24*'Wskaźniki emisji, założenia'!G5/1000000 -> 0 | J61: =$B$24*'Wskaźniki emisji, założenia'!H5/1000000 -> 0

Sheet Mieszkalne emisja, energia
A1: Zużycie energii końcowej wraz z emisją zanieczyszczeń dla sektora budynków mieszkalnych
A3: Zużycie energii cieplnej na podstawie inwentaryzacji w 2016 roku
A4: Źródło ciepła dla co oraz cwu | B4: Energia końcowa [GJ]
A5: węgiel | B5: =SUMIFS(#REF!,#REF!,A5) -> #REF! | G5: Łączna emisja zanieczyszczeń w gminie w sektorze mieszkaniowym
A6: biomasa | B6: =SUMIFS(#REF!,#REF!,A6) -> #REF! | G6: PM10 [g / GJ] | H6: PM2,5 [g / GJ] | I6: CO2 [g / GJ] | J6: BaP [g / GJ] | K6: SO2 [g / GJ] | L6: Nox [g / GJ] | M6: CO [g / GJ]
A7: gaz | B7: =SUMIFS(#REF!,#REF!,A7)+COUNTIFS(#REF!,'Mieszkalne emisja, energia'!A7)*#REF!*#REF! -> #REF! | G7: =SUM(D46:D73)+SUM(K46:K73) -> #REF! | H7: =SUM(E46:E73)+SUM(L46:L73) -> #REF! | I7: =SUM(F46:F73)+SUM(M46:M73)+B29*'Wskaźniki emisji, założenia'!C72 -> #REF! | J7: =SUM(G46:G73)+SUM(N46:N73) -> #REF! | K7: =SUM(H46:H73)+SUM(O46:O73) -> #REF! | L7: =SUM(I46:I73)+SUM(P46:P73) -> #REF! | M7: =SUM(J46:J73)+SUM(Q46:Q73) -> #REF!
A8: olej opałowy | B8: =SUMIFS(#REF!,#REF!,A8) -> #REF!
A9: energia el. | B9: =SUMIFS(#REF!,#REF!,A9) -> #REF!
A10: kolektory słoneczne | B10: =SUMIFS(#REF!,#REF!,A10)*1.8*520/1000*3.6 -> #REF!
A11: pompa ciepła | B11: =(#REF!+#REF!+#REF!+#REF!)*1*3.6 -> #REF!
A12: Łącznie | B12: =SUM(B5:B11) -> #REF!
A13: Przeliczenie ilości energii cieplnej na cały sektor mieszkaniowy w gminie
A14: Powierzchnia mieszkalna - cały sektor [m2] | C14: 249247
A15: Powierzchnia mieszkalna wg ankiet [m2] | C15: =SUM(#REF!) -> #REF!
A16: Zużycie energii wg ankiet [GJ/rok] | C16: =B12 -> #REF!
A17: Zużycie energii w gminie [GJ/rok] | C17: =C16/C15*C14 -> #REF!
A19: Źródło ciepła dla co oraz cwu | B19: Energia końcowa [GJ] | C19: [%]
A20: węgiel | B20: =B5/$B$12*$C$17 -> #REF! | C20: =B20/$B$27 -> #REF!
A21: biomasa | B21: =B6/$B$12*$C$17 -> #REF! | C21: =B21/$B$27 -> #REF!
A22: gaz | B22: =B7/$B$12*$C$17 -> #REF! | C22: =B22/$B$27 -> #REF!
A23: olej opałowy | B23: =B8/$B$12*$C$17 -> #REF! | C23: =B23/$B$27 -> #REF!
A24: energia elektryczna | B24: =B9/$B$12*$C$17 -> #REF! | C24: =B24/$B$27 -> #REF!
A25: kolektory słoneczne | B25: =B10/$B$12*$C$17 -> #REF! | C25: =B25/$B$27 -> #REF!
A26: pompa ciepła | B26: =B11/$B$12*$C$17 -> #REF! | C26: =B26/$B$27 -> #REF!
A27: Łącznie | B27: =SUM(B20:B26) -> #REF! | C27: =SUM(C20:C26) -> #REF!
A28: Zużycie energii elektrycznej w sektorze łącznie:
B29: =0.766*8283 -> 6344.778
A30: KOREKTA z uwagi na weryfikację ilości zużytego w gospodarstwach domowych gazu
A31: 22211.64 | B31: GJ/rok
A32: Źródło ciepła dla co oraz cwu | B32: Energia końcowa [GJ] | C32: [%]
A33: węgiel | B33: =C33*$B$27 -> #REF! | C33: =C20-C20/SUM($C$20+$C$21+$C$23+$C$24+$C$25+$C$26)*(($A$31/$B$27)-$C$22) -> #REF!
A34: biomasa | B34: =C34*$B$27 -> #REF! | C34: =C21-C21/SUM($C$20+$C$21+$C$23+$C$24+$C$25+$C$26)*(($A$31/$B$27)-$C$22) -> #REF!
A35: gaz | B35: =A31 -> 22211.64 | C35: =B35/$B$27 -> #REF!
A36: olej opałowy | B36: =C36*$B$27 -> #REF! | C36: =C23-C23/SUM($C$20+$C$21+$C$23+$C$24+$C$25+$C$26)*(($A$31/$B$27)-$C$22) -> #REF!
A37: energia elektryczna | B37: =C37*$B$27 -> #REF! | C37: =C24-C24/SUM($C$20+$C$21+$C$23+$C$24+$C$25+$C$26)*(($A$31/$B$27)-$C$22) -> #REF!
A38: kolektory słoneczne | B38: =C38*$B$27 -> #REF! | C38: =C25-C25/SUM($C$20+$C$21+$C$23+$C$24+$C$25+$C$26)*(($A$31/$B$27)-$C$22) -> #REF!
A39: pompa ciepła | B39: =C39*$B$27 -> #REF! | C39: =C26-C26/SUM($C$20+$C$21+$C$23+$C$24+$C$25+$C$26)*(($A$31/$B$27)-$C$22) -> #REF!
A40: Łącznie | B40: =SUM(B33:B39) -> #REF! | C40: =SUM(C33:C39) -> #REF!
A41: Obliczenie odsetka poszczególnych rodzajów kotłów/palenisk na podstawie inwentaryzacji oraz łącznej emisji zanieczyszczeń z sektora mieszkaniowego
A43: Ilość poszczególnych palenisk/kotłów na podstawie ankiet | D43: Emisja z paliw węglowych w przeliczeniu na całą gminę | K43: Emisja z biomasy w przeliczeniu na całą gminę
D44: PM10 [g / GJ] | E44: PM2,5 [g / GJ] | F44: CO2 [g / GJ] | G44: BaP [g / GJ] | H44: SO2 [g / GJ] | I44: Nox [g / GJ] | J44: CO [g / GJ] | K44: PM10 [g / GJ] | L44: PM2,5 [g / GJ] | M44: CO2 [g / GJ] | N44: BaP [g / GJ] | O44: SO2 [g / GJ] | P44: Nox [g / GJ] | Q44: CO [g / GJ]
A45: Indywidualny piec C.O., paliwo stałe
A46: pozaklasowe zasilanie ręczne kotły | B46: =COUNTIFS(#REF!,A46) -> #REF! | C46: =B46/$B$74 -> #REF! | D46: =C46*$B$33*'Wskaźniki emisji, założenia'!B10/1000000 -> #REF! | E46: =C46*$B$33*'Wskaźniki emisji, założenia'!C10/1000000 -> #REF! | F46: =C46*$B$33*'Wskaźniki emisji, założenia'!D10/1000000 -> #REF! | G46: =C46*$B$33*'Wskaźniki emisji, założenia'!E10/1000000 -> #REF! | H46: =C46*$B$33*'Wskaźniki emisji, założenia'!F10/1000000 -> #REF! | I46: =C46*$B$33*'Wskaźniki emisji, założenia'!G10/1000000 -> #REF! | J46: =C46*$B$33*'Wskaźniki emisji, założenia'!H10/1000000 -> #REF! | K46: ='Wskaźniki emisji, założenia'!B21/1000000*$C$46*$B$34 -> #REF! | L46: ='Wskaźniki emisji, założenia'!C21/1000000*$C$46*$B$34 -> #REF! | M46: ='Wskaźniki emisji, założenia'!D21/1000000*$C$46*$B$34 -> #REF! | N46: ='Wskaźniki emisji, założenia'!E21/1000000*$C$46*$B$34 -> #REF! | O46: ='Wskaźniki emisji, założenia'!F21/1000000*$C$46*$B$34 -> #REF! | P46: ='Wskaźniki emisji, założenia'!G21/1000000*$C$46*$B$34 -> #REF! | Q46: ='Wskaźniki emisji, założenia'!H21/1000000*$C$46*$B$34 -> #REF!
A47: pozaklasowe zasilanie automatycznie kotły | B47: =COUNTIFS(#REF!,A47) -> #REF! | C47: =B47/$B$74 -> #REF! | D47: =C47*$B$33*'Wskaźniki emisji, założenia'!B11/1000000 -> #REF! | E47: =C47*$B$33*'Wskaźniki emisji, założenia'!C11/1000000 -> #REF! | F47: =C47*$B$33*'Wskaźniki emisji, założenia'!D11/1000000 -> #REF! | G47: =C47*$B$33*'Wskaźniki emisji, założenia'!E11/1000000 -> #REF! | H47: =C47*$B$33*'Wskaźniki emisji, założenia'!F11/1000000 -> #REF! | I47: =C47*$B$33*'Wskaźniki emisji, założenia'!G11/1000000 -> #REF! | J47: =C47*$B$33*'Wskaźniki emisji, założenia'!H11/1000000 -> #REF! | K47: ='Wskaźniki emisji, założenia'!B22/1000000*$C$47*$B$34 -> #REF! | L47: ='Wskaźniki emisji, założenia'!C22/1000000*$C$47*$B$34 -> #REF! | M47: ='Wskaźniki emisji, założenia'!D22/1000000*$C$47*$B$34 -> #REF! | N47: ='Wskaźniki emisji, założenia'!E22/1000000*$C$47*$B$34 -> #REF! | O47: ='Wskaźniki emisji, założenia'!F22/1000000*$C$47*$B$34 -> #REF! | P47: ='Wskaźniki emisji, założenia'!G22/1000000*$C$47*$B$34 -> #REF! | Q47: ='Wskaźniki emisji, założenia'!H22/1000000*$C$47*$B$34 -> #REF!
A48: 3 klasa zasilanie ręczne, kotły | B48: =COUNTIFS(#REF!,A48) -> #REF! | C48: =B48/$B$74 -> #REF! | D48: =C48*$B$33*'Wskaźniki emisji, założenia'!B12/1000000 -> #REF! | E48: =C48*$B$33*'Wskaźniki emisji, założenia'!C12/1000000 -> #REF! | F48: =C48*$B$33*'Wskaźniki emisji, założenia'!D12/1000000 -> #REF! | G48: =C48*$B$33*'Wskaźniki emisji, założenia'!E12/1000000 -> #REF! | H48: =C48*$B$33*'Wskaźniki emisji, założenia'!F12/1000000 -> #REF! | I48: =C48*$B$33*'Wskaźniki emisji, założenia'!G12/1000000 -> #REF! | J48: =C48*$B$33*'Wskaźniki emisji, założenia'!H12/1000000 -> #REF! | K48: ='Wskaźniki emisji, założenia'!B23/1000000*$C$48*$B$34 -> #REF! | L48: ='Wskaźniki emisji, założenia'!C23/1000000*$C$48*$B$34 -> #REF! | M48: ='Wskaźniki emisji, założenia'!D23/1000000*$C$48*$B$34 -> #REF! | N48: ='Wskaźniki emisji, założenia'!E23/1000000*$C$48*$B$34 -> #REF! | O48: ='Wskaźniki emisji, założenia'!F23/1000000*$C$48*$B$34 -> #REF! | P48: ='Wskaźniki emisji, założenia'!G23/1000000*$C$48*$B$34 -> #REF! | Q48: ='Wskaźniki emisji, założenia'!H23/1000000*$C$48*$B$34 -> #REF!
A49: 4 klasa zasilanie ręczne, kotły | B49: =COUNTIFS(#REF!,A49) -> #REF! | C49: =B49/$B$74 -> #REF! | D49: =C49*$B$33*'Wskaźniki emisji, założenia'!B13/1000000 -> #REF! | E49: =C49*$B$33*'Wskaźniki emisji, założenia'!C13/1000000 -> #REF! | F49: =C49*$B$33*'Wskaźniki emisji, założenia'!D13/1000000 -> #REF! | G49: =C49*$B$33*'Wskaźniki emisji, założenia'!E13/1000000 -> #REF! | H49: =C49*$B$33*'Wskaźniki emisji, założenia'!F13/1000000 -> #REF! | I49: =C49*$B$33*'Wskaźniki emisji, założenia'!G13/1000000 -> #REF! | J49: =C49*$B$33*'Wskaźniki emisji, założenia'!H13/1000000 -> #REF! | K49: ='Wskaźniki emisji, założenia'!B24/1000000*$C$49*$B$34 -> #REF! | L49: ='Wskaźniki emisji, założenia'!C24/1000000*$C$49*$B$34 -> #REF! | M49: ='Wskaźniki emisji, założenia'!D24/1000000*$C$49*$B$34 -> #REF! | N49: ='Wskaźniki emisji, założenia'!E24/1000000*$C$49*$B$34 -> #REF! | O49: ='Wskaźniki emisji, założenia'!F24/1000000*$C$49*$B$34 -> #REF! | P49: ='Wskaźniki emisji, założenia'!G24/1000000*$C$49*$B$34 -> #REF! | Q49: ='Wskaźniki emisji, założenia'!H24/1000000*$C$49*$B$34 -> #REF!
A50: 5 klasa zasilanie ręczne, kotły | B50: =COUNTIFS(#REF!,A50) -> #REF! | C50: =B50/$B$74 -> #REF! | D50: =C50*$B$33*'Wskaźniki emisji, założenia'!B14/1000000 -> #REF! | E50: =C50*$B$33*'Wskaźniki emisji, założenia'!C14/1000000 -> #REF! | F50: =C50*$B$33*'Wskaźniki emisji, założenia'!D14/1000000 -> #REF! | G50: =C50*$B$33*'Wskaźniki emisji, założenia'!E14/1000000 -> #REF! | H50: =C50*$B$33*'Wskaźniki emisji, założenia'!F14/1000000 -> #REF! | I50: =C50*$B$33*'Wskaźniki emisji, założenia'!G14/1000000 -> #REF! | J50: =C50*$B$33*'Wskaźniki emisji, założenia'!H14/1000000 -> #REF! | K50: ='Wskaźniki emisji, założenia'!B25/1000000*$C$50*$B$34 -> #REF! | L50: ='Wskaźniki emisji, założenia'!C25/1000000*$C$50*$B$34 -> #REF! | M50: ='Wskaźniki emisji, założenia'!D25/1000000*$C$50*$B$34 -> #REF! | N50: ='Wskaźniki emisji, założenia'!E25/1000000*$C$50*$B$34 -> #REF! | O50: ='Wskaźniki emisji, założenia'!F25/1000000*$C$50*$B$34 -> #REF! | P50: ='Wskaźniki emisji, założenia'!G25/1000000*$C$50*$B$34 -> #REF! | Q50: ='Wskaźniki emisji, założenia'!H25/1000000*$C$50*$B$34 -> #REF!
A51: Ecodesign zasilanie ręczne, kotły | B51: =COUNTIFS(#REF!,A51) -> #REF! | C51: =B51/$B$74 -> #REF! | D51: =C51*$B$33*'Wskaźniki emisji, założenia'!B15/1000000 -> #REF! | E51: =C51*$B$33*'Wskaźniki emisji, założenia'!C15/1000000 -> #REF! | F51: =C51*$B$33*'Wskaźniki emisji, założenia'!D15/1000000 -> #REF! | G51: =C51*$B$33*'Wskaźniki emisji, założenia'!E15/1000000 -> #REF! | H51: =C51*$B$33*'Wskaźniki emisji, założenia'!F15/1000000 -> #REF! | I51: =C51*$B$33*'Wskaźniki emisji, założenia'!G15/1000000 -> #REF! | J51: =C51*$B$33*'Wskaźniki emisji, założenia'!H15/1000000 -> #REF! | K51: ='Wskaźniki emisji, założenia'!B26/1000000*$C$51*$B$34 -> #REF! | L51: ='Wskaźniki emisji, założenia'!C26/1000000*$C$51*$B$34 -> #REF! | M51: ='Wskaźniki emisji, założenia'!D26/1000000*$C$51*$B$34 -> #REF! | N51: ='Wskaźniki emisji, założenia'!E26/1000000*$C$51*$B$34 -> #REF! | O51: ='Wskaźniki emisji, założenia'!F26/1000000*$C$51*$B$34 -> #REF! | P51: ='Wskaźniki emisji, założenia'!G26/1000000*$C$51*$B$34 -> #REF! | Q51: ='Wskaźniki emisji, założenia'!H26/1000000*$C$51*$B$34 -> #REF!
A52: 3 klasa zasilanie automatyczne kotły | B52: =COUNTIFS(#REF!,A52) -> #REF! | C52: =B52/$B$74 -> #REF! | D52: =C52*$B$33*'Wskaźniki emisji, założenia'!B16/1000000 -> #REF! | E52: =C52*$B$33*'Wskaźniki emisji, założenia'!C16/1000000 -> #REF! | F52: =C52*$B$33*'Wskaźniki emisji, założenia'!D16/1000000 -> #REF! | G52: =C52*$B$33*'Wskaźniki emisji, założenia'!E16/1000000 -> #REF! | H52: =C52*$B$33*'Wskaźniki emisji, założenia'!F16/1000000 -> #REF! | I52: =C52*$B$33*'Wskaźniki emisji, założenia'!G16/1000000 -> #REF! | J52: =C52*$B$33*'Wskaźniki emisji, założenia'!H16/1000000 -> #REF! | K52: ='Wskaźniki emisji, założenia'!B27/1000000*$C$52*$B$34 -> #REF! | L52: ='Wskaźniki emisji, założenia'!C27/1000000*$C$52*$B$34 -> #REF! | M52: ='Wskaźniki emisji, założenia'!D27/1000000*$C$52*$B$34 -> #REF! | N52: ='Wskaźniki emisji, założenia'!E27/1000000*$C$52*$B$34 -> #REF! | O52: ='Wskaźniki emisji, założenia'!F27/1000000*$C$52*$B$34 -> #REF! | P52: ='Wskaźniki emisji, założenia'!G27/1000000*$C$52*$B$34 -> #REF! | Q52: ='Wskaźniki emisji, założenia'!H27/1000000*$C$52*$B$34 -> #REF!
A53: 4 klasa zasilanie automatyczne kotły | B53: =COUNTIFS(#REF!,A53) -> #REF! | C53: =B53/$B$74 -> #REF! | D53: =C53*$B$33*'Wskaźniki emisji, założenia'!B17/1000000 -> #REF! | E53: =C53*$B$33*'Wskaźniki emisji, założenia'!C17/1000000 -> #REF! | F53: =C53*$B$33*'Wskaźniki emisji, założenia'!D17/1000000 -> #REF! | G53: =C53*$B$33*'Wskaźniki emisji, założenia'!E17/1000000 -> #REF! | H53: =C53*$B$33*'Wskaźniki emisji, założenia'!F17/1000000 -> #REF! | I53: =C53*$B$33*'Wskaźniki emisji, założenia'!G17/1000000 -> #REF! | J53: =C53*$B$33*'Wskaźniki emisji, założenia'!H17/1000000 -> #REF! | K53: ='Wskaźniki emisji, założenia'!B28/1000000*$C$53*$B$34 -> #REF! | L53: ='Wskaźniki emisji, założenia'!C28/1000000*$C$53*$B$34 -> #REF! | M53: ='Wskaźniki emisji, założenia'!D28/1000000*$C$53*$B$34 -> #REF! | N53: ='Wskaźniki emisji, założenia'!E28/1000000*$C$53*$B$34 -> #REF! | O53: ='Wskaźniki emisji, założenia'!F28/1000000*$C$53*$B$34 -> #REF! | P53: ='Wskaźniki emisji, założenia'!G28/1000000*$C$53*$B$34 -> #REF! | Q53: ='Wskaźniki emisji, założenia'!H28/1000000*$C$53*$B$34 -> #REF!
A54: 5 klasa zasilanie automatyczne kotły | B54: =COUNTIFS(#REF!,A54) -> #REF! | C54: =B54/$B$74 -> #REF! | D54: =C54*$B$33*'Wskaźniki emisji, założenia'!B18/1000000 -> #REF! | E54: =C54*$B$33*'Wskaźniki emisji, założenia'!C18/1000000 -> #REF! | F54: =C54*$B$33*'Wskaźniki emisji, założenia'!D18/1000000 -> #REF! | G54: =C54*$B$33*'Wskaźniki emisji, założenia'!E18/1000000 -> #REF! | H54: =C54*$B$33*'Wskaźniki emisji, założenia'!F18/1000000 -> #REF! | I54: =C54*$B$33*'Wskaźniki emisji, założenia'!G18/1000000 -> #REF! | J54: =C54*$B$33*'Wskaźniki emisji, założenia'!H18/1000000 -> #REF! | K54: ='Wskaźniki emisji, założenia'!B29/1000000*$C$54*$B$34 -> #REF! | L54: ='Wskaźniki emisji, założenia'!C29/1000000*$C$54*$B$34 -> #REF! | M54: ='Wskaźniki emisji, założenia'!D29/1000000*$C$54*$B$34 -> #REF! | N54: ='Wskaźniki emisji, założenia'!E29/1000000*$C$54*$B$34 -> #REF! | O54: ='Wskaźniki emisji, założenia'!F29/1000000*$C$54*$B$34 -> #REF! | P54: ='Wskaźniki emisji, założenia'!G29/1000000*$C$54*$B$34 -> #REF! | Q54: ='Wskaźniki emisji, założenia'!H29/1000000*$C$54*$B$34 -> #REF!
A55: Ecodesign zasilanie automatyczne kotły | B55: =COUNTIFS(#REF!,A55) -> #REF! | C55: =B55/$B$74 -> #REF! | D55: =C55*$B$33*'Wskaźniki emisji, założenia'!B19/1000000 -> #REF! | E55: =C55*$B$33*'Wskaźniki emisji, założenia'!C19/1000000 -> #REF! | F55: =C55*$B$33*'Wskaźniki emisji, założenia'!D19/1000000 -> #REF! | G55: =C55*$B$33*'Wskaźniki emisji, założenia'!E19/1000000 -> #REF! | H55: =C55*$B$33*'Wskaźniki emisji, założenia'!F19/1000000 -> #REF! | I55: =C55*$B$33*'Wskaźniki emisji, założenia'!G19/1000000 -> #REF! | J55: =C55*$B$33*'Wskaźniki emisji, założenia'!H19/1000000 -> #REF! | K55: ='Wskaźniki emisji, założenia'!B30/1000000*$C$55*$B$34 -> #REF! | L55: ='Wskaźniki emisji, założenia'!C30/1000000*$C$55*$B$34 -> #REF! | M55: ='Wskaźniki emisji, założenia'!D30/1000000*$C$55*$B$34 -> #REF! | N55: ='Wskaźniki emisji, założenia'!E30/1000000*$C$55*$B$34 -> #REF! | O55: ='Wskaźniki emisji, założenia'!F30/1000000*$C$55*$B$34 -> #REF! | P55: ='Wskaźniki emisji, założenia'!G30/1000000*$C$55*$B$34 -> #REF! | Q55: ='Wskaźniki emisji, założenia'!H30/1000000*$C$55*$B$34 -> #REF!
A56: Piec kaflowy, Paliwo stałe
A57: piec kaflowy <80% | B57: =COUNTIFS(#REF!,A57) -> #REF! | C57: =B57/$B$74 -> #REF! | D57: ='Wskaźniki emisji, założenia'!B32*$C$57*$B$33/1000000 -> #REF! | E57: ='Wskaźniki emisji, założenia'!C32*$C$57*$B$33/1000000 -> #REF! | F57: ='Wskaźniki emisji, założenia'!D32*$C$57*$B$33/1000000 -> #REF! | G57: ='Wskaźniki emisji, założenia'!E32*$C$57*$B$33/1000000 -> #REF! | H57: ='Wskaźniki emisji, założenia'!F32*$C$57*$B$33/1000000 -> #REF! | I57: ='Wskaźniki emisji, założenia'!G32*$C$57*$B$33/1000000 -> #REF! | J57: ='Wskaźniki emisji, założenia'!H32*$C$57*$B$33/1000000 -> #REF! | K57: 0 | L57: 0 | M57: 0 | N57: 0 | O57: 0 | P57: 0 | Q57: 0
A58: piec kaflowy >80% | B58: =COUNTIFS(#REF!,A58) -> #REF! | C58: =B58/$B$74 -> #REF! | D58: ='Wskaźniki emisji, założenia'!B33*$C$58*$B$33/1000000 -> #REF! | E58: ='Wskaźniki emisji, założenia'!C33*$C$58*$B$33/1000000 -> #REF! | F58: ='Wskaźniki emisji, założenia'!D33*$C$58*$B$33/1000000 -> #REF! | G58: ='Wskaźniki emisji, założenia'!E33*$C$58*$B$33/1000000 -> #REF! | H58: ='Wskaźniki emisji, założenia'!F33*$C$58*$B$33/1000000 -> #REF! | I58: ='Wskaźniki emisji, założenia'!G33*$C$58*$B$33/1000000 -> #REF! | J58: ='Wskaźniki emisji, założenia'!H33*$C$58*$B$33/1000000 -> #REF! | K58: 0 | L58: 0 | M58: 0 | N58: 0 | O58: 0 | P58: 0 | Q58: 0
A59: Koza
A60: koza <80% | B60: =COUNTIFS(#REF!,A60) -> #REF! | C60: =B60/$B$74 -> #REF! | D60: ='Wskaźniki emisji, założenia'!B37/1000000*$C$60*$B$33 -> #REF! | E60: ='Wskaźniki emisji, założenia'!C37/1000000*$C$60*$B$33 -> #REF! | F60: ='Wskaźniki emisji, założenia'!D37/1000000*$C$60*$B$33 -> #REF! | G60: ='Wskaźniki emisji, założenia'!E37/1000000*$C$60*$B$33 -> #REF! | H60: ='Wskaźniki emisji, założenia'!F37/1000000*$C$60*$B$33 -> #REF! | I60: ='Wskaźniki emisji, założenia'!G37/1000000*$C$60*$B$33 -> #REF! | J60: ='Wskaźniki emisji, założenia'!H37/1000000*$C$60*$B$33 -> #REF! | K60: ='Wskaźniki emisji, założenia'!B42/1000000*$B$34*$C$60 -> #REF! | L60: ='Wskaźniki emisji, założenia'!C42/1000000*$B$34*$C$60 -> #REF! | M60: ='Wskaźniki emisji, założenia'!D42/1000000*$B$34*$C$60 -> #REF! | N60: ='Wskaźniki emisji, założenia'!E42/1000000*$B$34*$C$60 -> #REF! | O60: ='Wskaźniki emisji, założenia'!F42/1000000*$B$34*$C$60 -> #REF! | P60: ='Wskaźniki emisji, założenia'!G42/1000000*$B$34*$C$60 -> #REF! | Q60: ='Wskaźniki emisji, założenia'!H42/1000000*$B$34*$C$60 -> #REF!
A61: koza >80% | B61: =COUNTIFS(#REF!,A61) -> #REF! | C61: =B61/$B$74 -> #REF! | D61: ='Wskaźniki emisji, założenia'!B38/1000000*$C$61*$B$33 -> #REF! | E61: ='Wskaźniki emisji, założenia'!C38/1000000*$C$61*$B$33 -> #REF! | F61: ='Wskaźniki emisji, założenia'!D38/1000000*$C$61*$B$33 -> #REF! | G61: ='Wskaźniki emisji, założenia'!E38/1000000*$C$61*$B$33 -> #REF! | H61: ='Wskaźniki emisji, założenia'!F38/1000000*$C$61*$B$33 -> #REF! | I61: ='Wskaźniki emisji, założenia'!G38/1000000*$C$61*$B$33 -> #REF! | J61: ='Wskaźniki emisji, założenia'!H38/1000000*$C$61*$B$33 -> #REF! | K61: ='Wskaźniki emisji, założenia'!B43/1000000*$B$34*$C$61 -> #REF! | L61: ='Wskaźniki emisji, założenia'!C43/1000000*$B$34*$C$61 -> #REF! | M61: ='Wskaźniki emisji, założenia'!D43/1000000*$B$34*$C$61 -> #REF! | N61: ='Wskaźniki emisji, założenia'!E43/1000000*$B$34*$C$61 -> #REF! | O61: ='Wskaźniki emisji, założenia'!F43/1000000*$B$34*$C$61 -> #REF! | P61: ='Wskaźniki emisji, założenia'!G43/1000000*$B$34*$C$61 -> #REF! | Q61: ='Wskaźniki emisji, założenia'!H43/1000000*$B$34*$C$61 -> #REF!
A62: Kominek
A63: kominek <80% | B63: =COUNTIFS(#REF!,A63) -> #REF! | C63: =B63/$B$74 -> #REF! | D63: 0 | E63: 0 | F63: 0 | G63: 0 | H63: 0 | I63: 0 | J63: 0 | K63: ='Wskaźniki emisji, założenia'!B47*$C$63*$B$34/1000000 -> #REF! | L63: ='Wskaźniki emisji, założenia'!C47*$C$63*$B$34/1000000 -> #REF! | M63: ='Wskaźniki emisji, założenia'!D47*$C$63*$B$34/1000000 -> #REF! | N63: ='Wskaźniki emisji, założenia'!E47*$C$63*$B$34/1000000 -> #REF! | O63: ='Wskaźniki emisji, założenia'!F47*$C$63*$B$34/1000000 -> #REF! | P63: ='Wskaźniki emisji, założenia'!G47*$C$63*$B$34/1000000 -> #REF! | Q63: ='Wskaźniki emisji, założenia'!H47*$C$63*$B$34/1000000 -> #REF!
A64: kominek >80% | B64: =COUNTIFS(#REF!,A64) -> #REF! | C64: =B64/$B$74 -> #REF! | D64: 0 | E64: 0 | F64: 0 | G64: 0 | H64: 0 | I64: 0 | J64: 0 | K64: ='Wskaźniki emisji, założenia'!B48*$C$64*$B$34/1000000 -> #REF! | L64: ='Wskaźniki emisji, założenia'!C48*$C$64*$B$34/1000000 -> #REF! | M64: ='Wskaźniki emisji, założenia'!D48*$C$64*$B$34/1000000 -> #REF! | N64: ='Wskaźniki emisji, założenia'!E48*$C$64*$B$34/1000000 -> #REF! | O64: ='Wskaźniki emisji, założenia'!F48*$C$64*$B$34/1000000 -> #REF! | P64: ='Wskaźniki emisji, założenia'!G48*$C$64*$B$34/1000000 -> #REF! | Q64: ='Wskaźniki emisji, założenia'!H48*$C$64*$B$34/1000000 -> #REF!
A65: Trzon kuchenny, Paliwo stałe
A66: trzon kuchenny >80% | B66: =COUNTIFS(#REF!,A66) -> #REF! | C66: =B66/$B$74 -> #REF! | D66: =$C$66*$B$33*'Wskaźniki emisji, założenia'!B52/1000000 -> #REF! | E66: =$C$66*$B$33*'Wskaźniki emisji, założenia'!C52/1000000 -> #REF! | F66: =$C$66*$B$33*'Wskaźniki emisji, założenia'!D52/1000000 -> #REF! | G66: =$C$66*$B$33*'Wskaźniki emisji, założenia'!E52/1000000 -> #REF! | H66: =$C$66*$B$33*'Wskaźniki emisji, założenia'!F52/1000000 -> #REF! | I66: =$C$66*$B$33*'Wskaźniki emisji, założenia'!G52/1000000 -> #REF! | J66: =$C$66*$B$33*'Wskaźniki emisji, założenia'!H52/1000000 -> #REF! | K66: ='Wskaźniki emisji, założenia'!B57/1000000*$C$66*$B$33 -> #REF! | L66: ='Wskaźniki emisji, założenia'!C57/1000000*$C$66*$B$33 -> #REF! | M66: ='Wskaźniki emisji, założenia'!D57/1000000*$C$66*$B$33 -> #REF! | N66: ='Wskaźniki emisji, założenia'!E57/1000000*$C$66*$B$33 -> #REF! | O66: ='Wskaźniki emisji, założenia'!F57/1000000*$C$66*$B$33 -> #REF! | P66: ='Wskaźniki emisji, założenia'!G57/1000000*$C$66*$B$33 -> #REF! | Q66: ='Wskaźniki emisji, założenia'!H57/1000000*$C$66*$B$33 -> #REF!
A67: trzon kuchenny <80% | B67: =COUNTIFS(#REF!,A67) -> #REF! | C67: =B67/$B$74 -> #REF! | D67: =$C$67*$B$33*'Wskaźniki emisji, założenia'!B53/1000000 -> #REF! | E67: =$C$67*$B$33*'Wskaźniki emisji, założenia'!C53/1000000 -> #REF! | F67: =$C$67*$B$33*'Wskaźniki emisji, założenia'!D53/1000000 -> #REF! | G67: =$C$67*$B$33*'Wskaźniki emisji, założenia'!E53/1000000 -> #REF! | H67: =$C$67*$B$33*'Wskaźniki emisji, założenia'!F53/1000000 -> #REF! | I67: =$C$67*$B$33*'Wskaźniki emisji, założenia'!G53/1000000 -> #REF! | J67: =$C$67*$B$33*'Wskaźniki emisji, założenia'!H53/1000000 -> #REF! | K67: ='Wskaźniki emisji, założenia'!B58/1000000*$C$67*$B$34 -> #REF! | L67: ='Wskaźniki emisji, założenia'!C58/1000000*$C$67*$B$34 -> #REF! | M67: ='Wskaźniki emisji, założenia'!D58/1000000*$C$67*$B$34 -> #REF! | N67: ='Wskaźniki emisji, założenia'!E58/1000000*$C$67*$B$34 -> #REF! | O67: ='Wskaźniki emisji, założenia'!F58/1000000*$C$67*$B$34 -> #REF! | P67: ='Wskaźniki emisji, założenia'!G58/1000000*$C$67*$B$34 -> #REF! | Q67: ='Wskaźniki emisji, założenia'!H58/1000000*$C$67*$B$34 -> #REF!
A69: Ilość poszczególnych palenisk/kotłów na podstawie ankiet | D69: Emisja z paliw gazowych w przeliczeniu na całą gminę
A70: Ogrzewanie gazowe | D70: PM10 [g / GJ] | E70: PM2,5 [g / GJ] | F70: CO2 [g / GJ] | G70: BaP [g / GJ] | H70: SO2 [g / GJ] | I70: Nox [g / GJ] | J70: CO [g / GJ]
A71: gaz | B71: =COUNTIFS(#REF!,A71) -> #REF! | C71: =B71/$B$74 -> #REF! | D71: =$B$35*'Wskaźniki emisji, założenia'!B4/1000000 -> 0.026653968 | E71: =$B$35*'Wskaźniki emisji, założenia'!C4/1000000 -> 0.026653968 | F71: =$B$35*'Wskaźniki emisji, założenia'!D4/1000000 -> 1155.0053 | G71: =$B$35*'Wskaźniki emisji, założenia'!E4/1000000 -> 1.2438518e-08 | H71: =$B$35*'Wskaźniki emisji, założenia'!F4/1000000 -> 0.006663492 | I71: =$B$35*'Wskaźniki emisji, założenia'!G4/1000000 -> 1.1327936 | J71: =$B$35*'Wskaźniki emisji, założenia'!H4/1000000 -> 0.57750264
A72: Ogrzewanie olejowe | D72: Emisja z oleju opałowego w przeliczeniu na całą gminę
A73: olej opałowy | B73: =COUNTIFS(#REF!,A73) -> #REF! | C73: =B73/$B$74 -> #REF! | D73: =$B$36*'Wskaźniki emisji, założenia'!B5/1000000 -> #REF! | E73: =$B$36*'Wskaźniki emisji, założenia'!C5/1000000 -> #REF! | F73: =$B$36*'Wskaźniki emisji, założenia'!D5/1000000 -> #REF! | G73: =$B$36*'Wskaźniki emisji, założenia'!E5/1000000 -> #REF! | H73: =$B$36*'Wskaźniki emisji, założenia'!F5/1000000 -> #REF! | I73: =$B$36*'Wskaźniki emisji, założenia'!G5/1000000 -> #REF! | J73: =$B$36*'Wskaźniki emisji, założenia'!H5/1000000 -> #REF!
A74: Łącznie: | B74: =SUM(B46:B73) -> #REF! | C74: =SUM(C46:C73) -> #REF!
A75: Podgrzewacze c.w.u
A76: gaz | B76: =COUNTIFS(#REF!,A76) -> #REF!
A77: energia el. | B77: =COUNTIFS(#REF!,A77) -> #REF!

Sheet Działalność gospodarcza 2015
A1: Zużycie energii końcowej wraz z emisją zanieczyszczeń dla sektora budynków związanych z działalnością gospodarczą w roku 2015
A2: Z uwagi na brak danych dla sektora działalności gospodarczej oraz nieprzemysłowy charakter gminy założono zbliżoną strukturę zużycia paliw oraz kotłów/palenisk do sektora mieszkaniowego. Emisję zanieczyszczeń obliczono analogicznie jak dla sektora mieszkaniowego. Dane wyjściowe do obliczeń jest obliczona wg wskazników ilość energi końcowej, cieplnej oraz elektrycznej w sektorze.
A4: Dane za rok 2015 niewynikające z obliczeń pochodzą z PGN 2016
A5: Źródło ciepła dla co oraz cwu | B5: Energia końcowa [GJ] | C5: [%]
A6: węgiel | C6: 0.55
A7: biomasa | C7: 0.01 | F7: Łączna emisja zanieczyszczeń w gminie w sektorze mieszkaniowym
A8: gaz | C8: 0.431 | F8: PM10 [g / GJ] | G8: PM2,5 [g / GJ] | H8: CO2 [g / GJ] | I8: BaP [g / GJ] | J8: SO2 [g / GJ] | K8: Nox [g / GJ] | L8: CO [g / GJ]
A9: olej opałowy | C9: 0 | F9: =SUM(C18:C39)+SUM(J18:J39)+D43+D45 -> 0 | G9: =SUM(D18:D39)+SUM(K18:K39)+E43+E45 -> 0 | H9: =SUM(E18:E39)+SUM(L18:L39)+F43+F45 -> 0 | I9: =SUM(F18:F39)+SUM(M18:M39)+G43+G45 -> 0 | J9: =SUM(G18:G39)+SUM(N18:N39)+H43+H45 -> 0 | K9: =SUM(H18:H39)+SUM(O18:O39)+I43+I45 -> 0 | L9: =SUM(I18:I39)+SUM(P18:P39)+J43+J45 -> 0
A10: energia elektryczna | C10: 0.005
A11: kolektory słoneczne | C11: 0.004
A12: Łącznie | B12: =SUM(B6:B11) -> 0 | C12: 1
A14: Odsetek poszczególnych rodzajów kotłów/palenisk na podstawie inwentaryzacji sektora mieszkaniowego:
A15: Odsetek poszczególnych palenisk/kotłów | C15: Emisja z paliw węglowych w przeliczeniu na całą gminę | J15: Emisja z biomasy w przeliczeniu na całą gminę
C16: PM10 [g / GJ] | D16: PM2,5 [g / GJ] | E16: CO2 [g / GJ] | F16: BaP [g / GJ] | G16: SO2 [g / GJ] | H16: Nox [g / GJ] | I16: CO [g / GJ] | J16: PM10 [g / GJ] | K16: PM2,5 [g / GJ] | L16: CO2 [g / GJ] | M16: BaP [g / GJ] | N16: SO2 [g / GJ] | O16: Nox [g / GJ] | P16: CO [g / GJ]
A17: Indywidualny piec C.O., paliwo stałe
A18: pozaklasowe zasilanie ręczne kotły | B18: ='Mieszkalnictwo 2015'!B34 -> 0.64973833 | C18: =$B$18*$B$6*'Wskaźniki emisji, założenia'!B10/1000000 -> 0 | D18: =$B$18*$B$6*'Wskaźniki emisji, założenia'!C10/1000000 -> 0 | E18: =$B$18*$B$6*'Wskaźniki emisji, założenia'!D10/1000000 -> 0 | F18: =$B$18*$B$6*'Wskaźniki emisji, założenia'!E10/1000000 -> 0 | G18: =$B$18*$B$6*'Wskaźniki emisji, założenia'!F10/1000000 -> 0 | H18: =$B$18*$B$6*'Wskaźniki emisji, założenia'!G10/1000000 -> 0 | I18: =$B$18*$B$6*'Wskaźniki emisji, założenia'!H10/1000000 -> 0 | J18: ='Wskaźniki emisji, założenia'!B21/1000000*$B$18*$B$7 -> 0 | K18: ='Wskaźniki emisji, założenia'!C21/1000000*$B$18*$B$7 -> 0 | L18: ='Wskaźniki emisji, założenia'!D21/1000000*$B$18*$B$7 -> 0 | M18: ='Wskaźniki emisji, założenia'!E21/1000000*$B$18*$B$7 -> 0 | N18: ='Wskaźniki emisji, założenia'!F21/1000000*$B$18*$B$7 -> 0 | O18: ='Wskaźniki emisji, założenia'!G21/1000000*$B$18*$B$7 -> 0 | P18: ='Wskaźniki emisji, założenia'!H21/1000000*$B$18*$B$7 -> 0
A19: pozaklasowe zasilanie automatycznie kotły | B19: ='Mieszkalnictwo 2015'!B35 -> 0.005 | C19: =$B$19*$B$6*'Wskaźniki emisji, założenia'!B11/1000000 -> 0 | D19: =$B$19*$B$6*'Wskaźniki emisji, założenia'!C11/1000000 -> 0 | E19: =$B$19*$B$6*'Wskaźniki emisji, założenia'!D11/1000000 -> 0 | F19: =$B$19*$B$6*'Wskaźniki emisji, założenia'!E11/1000000 -> 0 | G19: =$B$19*$B$6*'Wskaźniki emisji, założenia'!F11/1000000 -> 0 | H19: =$B$19*$B$6*'Wskaźniki emisji, założenia'!G11/1000000 -> 0 | I19: =$B$19*$B$6*'Wskaźniki emisji, założenia'!H11/1000000 -> 0 | J19: ='Wskaźniki emisji, założenia'!B22/1000000*$B$19*$B$7 -> 0 | K19: ='Wskaźniki emisji, założenia'!C22/1000000*$B$19*$B$7 -> 0 | L19: ='Wskaźniki emisji, założenia'!D22/1000000*$B$19*$B$7 -> 0 | M19: ='Wskaźniki emisji, założenia'!E22/1000000*$B$19*$B$7 -> 0 | N19: ='Wskaźniki emisji, założenia'!F22/1000000*$B$19*$B$7 -> 0 | O19: ='Wskaźniki emisji, założenia'!G22/1000000*$B$19*$B$7 -> 0 | P19: ='Wskaźniki emisji, założenia'!H22/1000000*$B$19*$B$7 -> 0
A20: 3 klasa zasilanie ręczne, kotły | B20: ='Mieszkalnictwo 2015'!B36 -> 0.03 | C20: =$B$20*$B$6*'Wskaźniki emisji, założenia'!B12/1000000 -> 0 | D20: =$B$20*$B$6*'Wskaźniki emisji, założenia'!C12/1000000 -> 0 | E20: =$B$20*$B$6*'Wskaźniki emisji, założenia'!D12/1000000 -> 0 | F20: =$B$20*$B$6*'Wskaźniki emisji, założenia'!E12/1000000 -> 0 | G20: =$B$20*$B$6*'Wskaźniki emisji, założenia'!F12/1000000 -> 0 | H20: =$B$20*$B$6*'Wskaźniki emisji, założenia'!G12/1000000 -> 0 | I20: =$B$20*$B$6*'Wskaźniki emisji, założenia'!H12/1000000 -> 0 | J20: ='Wskaźniki emisji, założenia'!B23/1000000*$B$20*$B$7 -> 0 | K20: ='Wskaźniki emisji, założenia'!C23/1000000*$B$20*$B$7 -> 0 | L20: ='Wskaźniki emisji, założenia'!D23/1000000*$B$20*$B$7 -> 0 | M20: ='Wskaźniki emisji, założenia'!E23/1000000*$B$20*$B$7 -> 0 | N20: ='Wskaźniki emisji, założenia'!F23/1000000*$B$20*$B$7 -> 0 | O20: ='Wskaźniki emisji, założenia'!G23/1000000*$B$20*$B$7 -> 0 | P20: ='Wskaźniki emisji, założenia'!H23/1000000*$B$20*$B$7 -> 0
A21: 4 klasa zasilanie ręczne, kotły | B21: ='Mieszkalnictwo 2015'!B37 -> 0.01 | C21: =$B$21*$B$6*'Wskaźniki emisji, założenia'!B13/1000000 -> 0 | D21: =$B$21*$B$6*'Wskaźniki emisji, założenia'!C13/1000000 -> 0 | E21: =$B$21*$B$6*'Wskaźniki emisji, założenia'!D13/1000000 -> 0 | F21: =$B$21*$B$6*'Wskaźniki emisji, założenia'!E13/1000000 -> 0 | G21: =$B$21*$B$6*'Wskaźniki emisji, założenia'!F13/1000000 -> 0 | H21: =$B$21*$B$6*'Wskaźniki emisji, założenia'!G13/1000000 -> 0 | I21: =$B$21*$B$6*'Wskaźniki emisji, założenia'!H13/1000000 -> 0 | J21: ='Wskaźniki emisji, założenia'!B24/1000000*$B$21*$B$7 -> 0 | K21: ='Wskaźniki emisji, założenia'!C24/1000000*$B$21*$B$7 -> 0 | L21: ='Wskaźniki emisji, założenia'!D24/1000000*$B$21*$B$7 -> 0 | M21: ='Wskaźniki emisji, założenia'!E24/1000000*$B$21*$B$7 -> 0 | N21: ='Wskaźniki emisji, założenia'!F24/1000000*$B$21*$B$7 -> 0 | O21: ='Wskaźniki emisji, założenia'!G24/1000000*$B$21*$B$7 -> 0 | P21: ='Wskaźniki emisji, założenia'!H24/1000000*$B$21*$B$7 -> 0
A22: 5 klasa zasilanie ręczne, kotły | B22: ='Mieszkalnictwo 2015'!B38 -> 0.001 | C22: =$B$22*$B$6*'Wskaźniki emisji, założenia'!B14/1000000 -> 0 | D22: =$B$22*$B$6*'Wskaźniki emisji, założenia'!C14/1000000 -> 0 | E22: =$B$22*$B$6*'Wskaźniki emisji, założenia'!D14/1000000 -> 0 | F22: =$B$22*$B$6*'Wskaźniki emisji, założenia'!E14/1000000 -> 0 | G22: =$B$22*$B$6*'Wskaźniki emisji, założenia'!F14/1000000 -> 0 | H22: =$B$22*$B$6*'Wskaźniki emisji, założenia'!G14/1000000 -> 0 | I22: =$B$22*$B$6*'Wskaźniki emisji, założenia'!H14/1000000 -> 0 | J22: ='Wskaźniki emisji, założenia'!B25/1000000*$B$22*$B$7 -> 0 | K22: ='Wskaźniki emisji, założenia'!C25/1000000*$B$22*$B$7 -> 0 | L22: ='Wskaźniki emisji, założenia'!D25/1000000*$B$22*$B$7 -> 0 | M22: ='Wskaźniki emisji, założenia'!E25/1000000*$B$22*$B$7 -> 0 | N22: ='Wskaźniki emisji, założenia'!F25/1000000*$B$22*$B$7 -> 0 | O22: ='Wskaźniki emisji, założenia'!G25/1000000*$B$22*$B$7 -> 0 | P22: ='Wskaźniki emisji, założenia'!H25/1000000*$B$22*$B$7 -> 0
A23: Ecodesign zasilanie ręczne, kotły | B23: ='Mieszkalnictwo 2015'!B39 -> 0 | C23: =$B$23*$B$6*'Wskaźniki emisji, założenia'!B15/1000000 -> 0 | D23: =$B$23*$B$6*'Wskaźniki emisji, założenia'!C15/1000000 -> 0 | E23: =$B$23*$B$6*'Wskaźniki emisji, założenia'!D15/1000000 -> 0 | F23: =$B$23*$B$6*'Wskaźniki emisji, założenia'!E15/1000000 -> 0 | G23: =$B$23*$B$6*'Wskaźniki emisji, założenia'!F15/1000000 -> 0 | H23: =$B$23*$B$6*'Wskaźniki emisji, założenia'!G15/1000000 -> 0 | I23: =$B$23*$B$6*'Wskaźniki emisji, założenia'!H15/1000000 -> 0 | J23: ='Wskaźniki emisji, założenia'!B26/1000000*$B$23*$B$7 -> 0 | K23: ='Wskaźniki emisji, założenia'!C26/1000000*$B$23*$B$7 -> 0 | L23: ='Wskaźniki emisji, założenia'!D26/1000000*$B$23*$B$7 -> 0 | M23: ='Wskaźniki emisji, założenia'!E26/1000000*$B$23*$B$7 -> 0 | N23: ='Wskaźniki emisji, założenia'!F26/1000000*$B$23*$B$7 -> 0 | O23: ='Wskaźniki emisji, założenia'!G26/1000000*$B$23*$B$7 -> 0 | P23: ='Wskaźniki emisji, założenia'!H26/1000000*$B$23*$B$7 -> 0
A24: 3 klasa zasilanie automatyczne kotły | B24: ='Mieszkalnictwo 2015'!B40 -> 0.005 | C24: =$B$24*$B$6*'Wskaźniki emisji, założenia'!B16/1000000 -> 0 | D24: =$B$24*$B$6*'Wskaźniki emisji, założenia'!C16/1000000 -> 0 | E24: =$B$24*$B$6*'Wskaźniki emisji, założenia'!D16/1000000 -> 0 | F24: =$B$24*$B$6*'Wskaźniki emisji, założenia'!E16/1000000 -> 0 | G24: =$B$24*$B$6*'Wskaźniki emisji, założenia'!F16/1000000 -> 0 | H24: =$B$24*$B$6*'Wskaźniki emisji, założenia'!G16/1000000 -> 0 | I24: =$B$24*$B$6*'Wskaźniki emisji, założenia'!H16/1000000 -> 0 | J24: ='Wskaźniki emisji, założenia'!B27/1000000*$B$24*$B$7 -> 0 | K24: ='Wskaźniki emisji, założenia'!C27/1000000*$B$24*$B$7 -> 0 | L24: ='Wskaźniki emisji, założenia'!D27/1000000*$B$24*$B$7 -> 0 | M24: ='Wskaźniki emisji, założenia'!E27/1000000*$B$24*$B$7 -> 0 | N24: ='Wskaźniki emisji, założenia'!F27/1000000*$B$24*$B$7 -> 0 | O24: ='Wskaźniki emisji, założenia'!G27/1000000*$B$24*$B$7 -> 0 | P24: ='Wskaźniki emisji, założenia'!H27/1000000*$B$24*$B$7 -> 0
A25: 4 klasa zasilanie automatyczne kotły | B25: ='Mieszkalnictwo 2015'!B41 -> 0 | C25: =$B$25*$B$6*'Wskaźniki emisji, założenia'!B17/1000000 -> 0 | D25: =$B$25*$B$6*'Wskaźniki emisji, założenia'!C17/1000000 -> 0 | E25: =$B$25*$B$6*'Wskaźniki emisji, założenia'!D17/1000000 -> 0 | F25: =$B$25*$B$6*'Wskaźniki emisji, założenia'!E17/1000000 -> 0 | G25: =$B$25*$B$6*'Wskaźniki emisji, założenia'!F17/1000000 -> 0 | H25: =$B$25*$B$6*'Wskaźniki emisji, założenia'!G17/1000000 -> 0 | I25: =$B$25*$B$6*'Wskaźniki emisji, założenia'!H17/1000000 -> 0 | J25: ='Wskaźniki emisji, założenia'!B28/1000000*$B$25*$B$7 -> 0 | K25: ='Wskaźniki emisji, założenia'!C28/1000000*$B$25*$B$7 -> 0 | L25: ='Wskaźniki emisji, założenia'!D28/1000000*$B$25*$B$7 -> 0 | M25: ='Wskaźniki emisji, założenia'!E28/1000000*$B$25*$B$7 -> 0 | N25: ='Wskaźniki emisji, założenia'!F28/1000000*$B$25*$B$7 -> 0 | O25: ='Wskaźniki emisji, założenia'!G28/1000000*$B$25*$B$7 -> 0 | P25: ='Wskaźniki emisji, założenia'!H28/1000000*$B$25*$B$7 -> 0
A26: 5 klasa zasilanie automatyczne kotły | B26: ='Mieszkalnictwo 2015'!B42 -> 0.002 | C26: =$B$26*$B$6*'Wskaźniki emisji, założenia'!B18/1000000 -> 0 | D26: =$B$26*$B$6*'Wskaźniki emisji, założenia'!C18/1000000 -> 0 | E26: =$B$26*$B$6*'Wskaźniki emisji, założenia'!D18/1000000 -> 0 | F26: =$B$26*$B$6*'Wskaźniki emisji, założenia'!E18/1000000 -> 0 | G26: =$B$26*$B$6*'Wskaźniki emisji, założenia'!F18/1000000 -> 0 | H26: =$B$26*$B$6*'Wskaźniki emisji, założenia'!G18/1000000 -> 0 | I26: =$B$26*$B$6*'Wskaźniki emisji, założenia'!H18/1000000 -> 0 | J26: ='Wskaźniki emisji, założenia'!B29/1000000*$B$26*$B$7 -> 0 | K26: ='Wskaźniki emisji, założenia'!C29/1000000*$B$26*$B$7 -> 0 | L26: ='Wskaźniki emisji, założenia'!D29/1000000*$B$26*$B$7 -> 0 | M26: ='Wskaźniki emisji, założenia'!E29/1000000*$B$26*$B$7 -> 0 | N26: ='Wskaźniki emisji, założenia'!F29/1000000*$B$26*$B$7 -> 0 | O26: ='Wskaźniki emisji, założenia'!G29/1000000*$B$26*$B$7 -> 0 | P26: ='Wskaźniki emisji, założenia'!H29/1000000*$B$26*$B$7 -> 0
A27: Ecodesign zasilanie automatyczne kotły | B27: ='Mieszkalnictwo 2015'!B43 -> 0 | C27: =$B$27*$B$6*'Wskaźniki emisji, założenia'!B19/1000000 -> 0 | D27: =$B$27*$B$6*'Wskaźniki emisji, założenia'!C19/1000000 -> 0 | E27: =$B$27*$B$6*'Wskaźniki emisji, założenia'!D19/1000000 -> 0 | F27: =$B$27*$B$6*'Wskaźniki emisji, założenia'!E19/1000000 -> 0 | G27: =$B$27*$B$6*'Wskaźniki emisji, założenia'!F19/1000000 -> 0 | H27: =$B$27*$B$6*'Wskaźniki emisji, założenia'!G19/1000000 -> 0 | I27: =$B$27*$B$6*'Wskaźniki emisji, założenia'!H19/1000000 -> 0 | J27: ='Wskaźniki emisji, założenia'!B30/1000000*$B$27*$B$7 -> 0 | K27: ='Wskaźniki emisji, założenia'!C30/1000000*$B$27*$B$7 -> 0 | L27: ='Wskaźniki emisji, założenia'!D30/1000000*$B$27*$B$7 -> 0 | M27: ='Wskaźniki emisji, założenia'!E30/1000000*$B$27*$B$7 -> 0 | N27: ='Wskaźniki emisji, założenia'!F30/1000000*$B$27*$B$7 -> 0 | O27: ='Wskaźniki emisji, założenia'!G30/1000000*$B$27*$B$7 -> 0 | P27: ='Wskaźniki emisji, założenia'!H30/1000000*$B$27*$B$7 -> 0
A28: Piec kaflowy, Paliwo stałe
A29: piec kaflowy <80% | B29: ='Mieszkalnictwo 2015'!B45 -> 0.086835562 | C29: ='Wskaźniki emisji, założenia'!B32*$B$29*$B$6/1000000 -> 0 | D29: ='Wskaźniki emisji, założenia'!C32*$B$29*$B$6/1000000 -> 0 | E29: ='Wskaźniki emisji, założenia'!D32*$B$29*$B$6/1000000 -> 0 | F29: ='Wskaźniki emisji, założenia'!E32*$B$29*$B$6/1000000 -> 0 | G29: ='Wskaźniki emisji, założenia'!F32*$B$29*$B$6/1000000 -> 0 | H29: ='Wskaźniki emisji, założenia'!G32*$B$29*$B$6/1000000 -> 0 | I29: ='Wskaźniki emisji, założenia'!H32*$B$29*$B$6/1000000 -> 0 | J29: 0 | K29: 0 | L29: 0 | M29: 0 | N29: 0 | O29: 0 | P29: 0
A30: piec kaflowy >80% | B30: ='Mieszkalnictwo 2015'!B46 -> 0 | C30: ='Wskaźniki emisji, założenia'!B33*$B$30*$B$6/1000000 -> 0 | D30: ='Wskaźniki emisji, założenia'!C33*$B$30*$B$6/1000000 -> 0 | E30: ='Wskaźniki emisji, założenia'!D33*$B$30*$B$6/1000000 -> 0 | F30: ='Wskaźniki emisji, założenia'!E33*$B$30*$B$6/1000000 -> 0 | G30: ='Wskaźniki emisji, założenia'!F33*$B$30*$B$6/1000000 -> 0 | H30: ='Wskaźniki emisji, założenia'!G33*$B$30*$B$6/1000000 -> 0 | I30: ='Wskaźniki emisji, założenia'!H33*$B$30*$B$6/1000000 -> 0 | J30: 0 | K30: 0 | L30: 0 | M30: 0 | N30: 0 | O30: 0 | P30: 0
A31: Koza
A32: koza <80% | B32: ='Mieszkalnictwo 2015'!B48 -> 0.045594742 | C32: ='Wskaźniki emisji, założenia'!B37/1000000*$B$32*$B$6 -> 0 | D32: ='Wskaźniki emisji, założenia'!C37/1000000*$B$32*$B$6 -> 0 | E32: ='Wskaźniki emisji, założenia'!D37/1000000*$B$32*$B$6 -> 0 | F32: ='Wskaźniki emisji, założenia'!E37/1000000*$B$32*$B$6 -> 0 | G32: ='Wskaźniki emisji, założenia'!F37/1000000*$B$32*$B$6 -> 0 | H32: ='Wskaźniki emisji, założenia'!G37/1000000*$B$32*$B$6 -> 0 | I32: ='Wskaźniki emisji, założenia'!H37/1000000*$B$32*$B$6 -> 0 | J32: ='Wskaźniki emisji, założenia'!B42/1000000*$B$7*$B$32 -> 0 | K32: ='Wskaźniki emisji, założenia'!C42/1000000*$B$7*$B$32 -> 0 | L32: ='Wskaźniki emisji, założenia'!D42/1000000*$B$7*$B$32 -> 0 | M32: ='Wskaźniki emisji, założenia'!E42/1000000*$B$7*$B$32 -> 0 | N32: ='Wskaźniki emisji, założenia'!F42/1000000*$B$7*$B$32 -> 0 | O32: ='Wskaźniki emisji, założenia'!G42/1000000*$B$7*$B$32 -> 0 | P32: ='Wskaźniki emisji, założenia'!H42/1000000*$B$7*$B$32 -> 0
A33: koza >80% | B33: ='Mieszkalnictwo 2015'!B49 -> 0 | C33: ='Wskaźniki emisji, założenia'!B38/1000000*$B$33*$B$6 -> 0 | D33: ='Wskaźniki emisji, założenia'!C38/1000000*$B$33*$B$6 -> 0 | E33: ='Wskaźniki emisji, założenia'!D38/1000000*$B$33*$B$6 -> 0 | F33: ='Wskaźniki emisji, założenia'!E38/1000000*$B$33*$B$6 -> 0 | G33: ='Wskaźniki emisji, założenia'!F38/1000000*$B$33*$B$6 -> 0 | H33: ='Wskaźniki emisji, założenia'!G38/1000000*$B$33*$B$6 -> 0 | I33: ='Wskaźniki emisji, założenia'!H38/1000000*$B$33*$B$6 -> 0 | J33: ='Wskaźniki emisji, założenia'!B43/1000000*$B$7*$B$33 -> 0 | K33: ='Wskaźniki emisji, założenia'!C43/1000000*$B$7*$B$33 -> 0 | L33: ='Wskaźniki emisji, założenia'!D43/1000000*$B$7*$B$33 -> 0 | M33: ='Wskaźniki emisji, założenia'!E43/1000000*$B$7*$B$33 -> 0 | N33: ='Wskaźniki emisji, założenia'!F43/1000000*$B$7*$B$33 -> 0 | O33: ='Wskaźniki emisji, założenia'!G43/1000000*$B$7*$B$33 -> 0 | P33: ='Wskaźniki emisji, założenia'!H43/1000000*$B$7*$B$33 -> 0
A34: Kominek
A35: kominek <80% | B35: ='Mieszkalnictwo 2015'!B51 -> 0.051211755 | C35: 0 | D35: 0 | E35: 0 | F35: 0 | G35: 0 | H35: 0 | I35: 0 | J35: ='Wskaźniki emisji, założenia'!B47*$B$35*$B$7/1000000 -> 0 | K35: ='Wskaźniki emisji, założenia'!C47*$B$35*$B$7/1000000 -> 0 | L35: ='Wskaźniki emisji, założenia'!D47*$B$35*$B$7/1000000 -> 0 | M35: ='Wskaźniki emisji, założenia'!E47*$B$35*$B$7/1000000 -> 0 | N35: ='Wskaźniki emisji, założenia'!F47*$B$35*$B$7/1000000 -> 0 | O35: ='Wskaźniki emisji, założenia'!G47*$B$35*$B$7/1000000 -> 0 | P35: ='Wskaźniki emisji, założenia'!H47*$B$35*$B$7/1000000 -> 0
A36: kominek >80% | B36: ='Mieszkalnictwo 2015'!B52 -> 0 | C36: 0 | D36: 0 | E36: 0 | F36: 0 | G36: 0 | H36: 0 | I36: 0 | J36: ='Wskaźniki emisji, założenia'!B48*$B$36*$B$7/1000000 -> 0 | K36: ='Wskaźniki emisji, założenia'!C48*$B$36*$B$7/1000000 -> 0 | L36: ='Wskaźniki emisji, założenia'!D48*$B$36*$B$7/1000000 -> 0 | M36: ='Wskaźniki emisji, założenia'!E48*$B$36*$B$7/1000000 -> 0 | N36: ='Wskaźniki emisji, założenia'!F48*$B$36*$B$7/1000000 -> 0 | O36: ='Wskaźniki emisji, założenia'!G48*$B$36*$B$7/1000000 -> 0 | P36: ='Wskaźniki emisji, założenia'!H48*$B$36*$B$7/1000000 -> 0
A37: Trzon kuchenny, Paliwo stałe
A38: trzon kuchenny >80% | B38: ='Mieszkalnictwo 2015'!B54 -> 0.092896744 | C38: =$B$38*$B$6*'Wskaźniki emisji, założenia'!B52/1000000 -> 0 | D38: =$B$38*$B$6*'Wskaźniki emisji, założenia'!C52/1000000 -> 0 | E38: =$B$38*$B$6*'Wskaźniki emisji, założenia'!D52/1000000 -> 0 | F38: =$B$38*$B$6*'Wskaźniki emisji, założenia'!E52/1000000 -> 0 | G38: =$B$38*$B$6*'Wskaźniki emisji, założenia'!F52/1000000 -> 0 | H38: =$B$38*$B$6*'Wskaźniki emisji, założenia'!G52/1000000 -> 0 | I38: =$B$38*$B$6*'Wskaźniki emisji, założenia'!H52/1000000 -> 0 | J38: ='Wskaźniki emisji, założenia'!B57/1000000*$B$38*$B$6 -> 0 | K38: ='Wskaźniki emisji, założenia'!C57/1000000*$B$38*$B$6 -> 0 | L38: ='Wskaźniki emisji, założenia'!D57/1000000*$B$38*$B$6 -> 0 | M38: ='Wskaźniki emisji, założenia'!E57/1000000*$B$38*$B$6 -> 0 | N38: ='Wskaźniki emisji, założenia'!F57/1000000*$B$38*$B$6 -> 0 | O38: ='Wskaźniki emisji, założenia'!G57/1000000*$B$38*$B$6 -> 0 | P38: ='Wskaźniki emisji, założenia'!H57/1000000*$B$38*$B$6 -> 0
A39: trzon kuchenny <80% | B39: ='Mieszkalnictwo 2015'!B55 -> 0 | C39: =$B$39*$B$6*'Wskaźniki emisji, założenia'!B53/1000000 -> 0 | D39: =$B$39*$B$6*'Wskaźniki emisji, założenia'!C53/1000000 -> 0 | E39: =$B$39*$B$6*'Wskaźniki emisji, założenia'!D53/1000000 -> 0 | F39: =$B$39*$B$6*'Wskaźniki emisji, założenia'!E53/1000000 -> 0 | G39: =$B$39*$B$6*'Wskaźniki emisji, założenia'!F53/1000000 -> 0 | H39: =$B$39*$B$6*'Wskaźniki emisji, założenia'!G53/1000000 -> 0 | I39: =$B$39*$B$6*'Wskaźniki emisji, założenia'!H53/1000000 -> 0 | J39: ='Wskaźniki emisji, założenia'!B58/1000000*$B$39*$B$7 -> 0 | K39: ='Wskaźniki emisji, założenia'!C58/1000000*$B$39*$B$7 -> 0 | L39: ='Wskaźniki emisji, założenia'!D58/1000000*$B$39*$B$7 -> 0 | M39: ='Wskaźniki emisji, założenia'!E58/1000000*$B$39*$B$7 -> 0 | N39: ='Wskaźniki emisji, założenia'!F58/1000000*$B$39*$B$7 -> 0 | O39: ='Wskaźniki emisji, założenia'!G58/1000000*$B$39*$B$7 -> 0 | P39: ='Wskaźniki emisji, założenia'!H58/1000000*$B$39*$B$7 -> 0
D41: Emisja z paliw gazowych w przeliczeniu na całą gminę
D42: PM10 [g / GJ] | E42: PM2,5 [g / GJ] | F42: CO2 [g / GJ] | G42: BaP [g / GJ] | H42: SO2 [g / GJ] | I42: Nox [g / GJ] | J42: CO [g / GJ]
D43: =$B$8*'Wskaźniki emisji, założenia'!B4/1000000 -> 0 | E43: =$B$8*'Wskaźniki emisji, założenia'!C4/1000000 -> 0 | F43: =$B$8*'Wskaźniki emisji, założenia'!D4/1000000 -> 0 | G43: =$B$8*'Wskaźniki emisji, założenia'!E4/1000000 -> 0 | H43: =$B$8*'Wskaźniki emisji, założenia'!F4/1000000 -> 0 | I43: =$B$8*'Wskaźniki emisji, założenia'!G4/1000000 -> 0 | J43: =$B$8*'Wskaźniki emisji, założenia'!H4/1000000 -> 0
D44: Emisja z oleju opałowego w przeliczeniu na całą gminę
D45: =$B$9*'Wskaźniki emisji, założenia'!B5/1000000 -> 0 | E45: =$B$9*'Wskaźniki emisji, założenia'!C5/1000000 -> 0 | F45: =$B$9*'Wskaźniki emisji, założenia'!D5/1000000 -> 0 | G45: =$B$9*'Wskaźniki emisji, założenia'!E5/1000000 -> 0 | H45: =$B$9*'Wskaźniki emisji, założenia'!F5/1000000 -> 0 | I45: =$B$9*'Wskaźniki emisji, założenia'!G5/1000000 -> 0 | J45: =$B$9*'Wskaźniki emisji, założenia'!H5/1000000 -> 0

Sheet Działalność gospodarcza 204
A1: Zużycie energii końcowej wraz z emisją zanieczyszczeń dla sektora budynków związanych z działalnościa gospodarczą
A2: Z uwagi na brak danych dla sektora działalności gospodarczej oraz nieprzemysłowy charakter gminy założono zbliżoną strukturę zużycia paliw oraz kotłów/palenisk do sektora mieszkaniowego. Emisję zanieczyszczeń obliczono analogicznie jak dla sektora mieszkaniowego. Daną wyjściową do obliczeń jest obliczona wg wskazników ilość energi końcowej, cieplnej oraz elektrycznej w sektorze.
A4: Zużycie energii w gminie [GJ/rok]: | C4: 6710.09
A6: Źródło ciepła dla co oraz cwu | B6: Energia końcowa [GJ] | C6: [%]
A7: węgiel | B7: =$C$4*C7 -> 3697.2596 | C7: =100%-C8-C9-C10-C11-C12 -> 0.551
A8: biomasa | B8: =$C$4*C8 -> 402.6054 | C8: 0.06 | G8: Łączna emisja zanieczyszczeń w gminie w sektorze działalności gospodarczej
A9: gaz | B9: =$C$4*C9 -> 2482.7333 | C9: 0.37 | G9: PM10 [g / GJ] | H9: PM2,5 [g / GJ] | I9: CO2 [g / GJ] | J9: BaP [g / GJ] | K9: SO2 [g / GJ] | L9: Nox [g / GJ] | M9: CO [g / GJ]
A10: olej opałowy | B10: =$C$4*C10 -> 13.42018 | C10: 0.002 | G10: =SUM(D22:D49)+SUM(K22:K49) -> #REF! | H10: =SUM(E22:E49)+SUM(L22:L49) -> #REF! | I10: =SUM(F22:F49)+SUM(M22:M49)+B16*'Wskaźniki emisji, założenia'!C72 -> #REF! | J10: =SUM(G22:G49)+SUM(N22:N49) -> #REF! | K10: =SUM(H22:H49)+SUM(O22:O49) -> #REF! | L10: =SUM(I22:I49)+SUM(P22:P49) -> #REF! | M10: =SUM(J22:J49)+SUM(Q22:Q49) -> #REF!
A11: energia elektryczna | B11: =$C$4*C11 -> 80.52108 | C11: 0.012
A12: kolektory słoneczne | B12: =$C$4*C12 -> 33.55045 | C12: 0.005
A13: pompa ciepła | B13: =$C$4*C13 -> 0
A14: Łącznie | B14: =SUM(B7:B13) -> 6710.09 | C14: =SUM(C7:C13) -> 1
A15: Zużycie energii elektrycznej w sektorze łącznie:
B16: =0.024*79812 -> 1915.488 | C16: MWh/rok
A17: Odsetek poszczególnych rodzajów kotłów/palenisk na podstawie inwentaryzacji sektora mieszkaniowego:
A19: Ilość poszczególnych palenisk/kotłów na podstawie ankiet | D19: Emisja z paliw węglowych | K19: Emisja z biomasy
D20: PM10 [g / GJ] | E20: PM2,5 [g / GJ] | F20: CO2 [g / GJ] | G20: BaP [g / GJ] | H20: SO2 [g / GJ] | I20: Nox [g / GJ] | J20: CO [g / GJ] | K20: PM10 [g / GJ] | L20: PM2,5 [g / GJ] | M20: CO2 [g / GJ] | N20: BaP [g / GJ] | O20: SO2 [g / GJ] | P20: Nox [g / GJ] | Q20: CO [g / GJ]
A21: Indywidualny piec C.O., paliwo stałe
A22: pozaklasowe zasilanie ręczne kotły | B22: ='Mieszkalne emisja, energia'!B46 -> #REF! | C22: =B22/$B$50 -> #REF! | D22: =C22*$B$7*'Wskaźniki emisji, założenia'!B10/1000000 -> #REF! | E22: =C22*$B$7*'Wskaźniki emisji, założenia'!C10/1000000 -> #REF! | F22: =C22*$B$7*'Wskaźniki emisji, założenia'!D10/1000000 -> #REF! | G22: =C22*$B$7*'Wskaźniki emisji, założenia'!E10/1000000 -> #REF! | H22: =C22*$B$7*'Wskaźniki emisji, założenia'!F10/1000000 -> #REF! | I22: =C22*$B$7*'Wskaźniki emisji, założenia'!G10/1000000 -> #REF! | J22: =C22*$B$7*'Wskaźniki emisji, założenia'!H10/1000000 -> #REF! | K22: ='Wskaźniki emisji, założenia'!B21/1000000*$C$22*$B$8 -> #REF! | L22: ='Wskaźniki emisji, założenia'!C21/1000000*$C$22*$B$8 -> #REF! | M22: ='Wskaźniki emisji, założenia'!D21/1000000*$C$22*$B$8 -> #REF! | N22: ='Wskaźniki emisji, założenia'!E21/1000000*$C$22*$B$8 -> #REF! | O22: ='Wskaźniki emisji, założenia'!F21/1000000*$C$22*$B$8 -> #REF! | P22: ='Wskaźniki emisji, założenia'!G21/1000000*$C$22*$B$8 -> #REF! | Q22: ='Wskaźniki emisji, założenia'!H21/1000000*$C$22*$B$8 -> #REF!
A23: pozaklasowe zasilanie automatycznie kotły | B23: ='Mieszkalne emisja, energia'!B47 -> #REF! | C23: =B23/$B$50 -> #REF! | D23: =C23*$B$7*'Wskaźniki emisji, założenia'!B11/1000000 -> #REF! | E23: =C23*$B$7*'Wskaźniki emisji, założenia'!C11/1000000 -> #REF! | F23: =C23*$B$7*'Wskaźniki emisji, założenia'!D11/1000000 -> #REF! | G23: =C23*$B$7*'Wskaźniki emisji, założenia'!E11/1000000 -> #REF! | H23: =C23*$B$7*'Wskaźniki emisji, założenia'!F11/1000000 -> #REF! | I23: =C23*$B$7*'Wskaźniki emisji, założenia'!G11/1000000 -> #REF! | J23: =C23*$B$7*'Wskaźniki emisji, założenia'!H11/1000000 -> #REF! | K23: ='Wskaźniki emisji, założenia'!B22/1000000*$C$23*$B$8 -> #REF! | L23: ='Wskaźniki emisji, założenia'!C22/1000000*$C$23*$B$8 -> #REF! | M23: ='Wskaźniki emisji, założenia'!D22/1000000*$C$23*$B$8 -> #REF! | N23: ='Wskaźniki emisji, założenia'!E22/1000000*$C$23*$B$8 -> #REF! | O23: ='Wskaźniki emisji, założenia'!F22/1000000*$C$23*$B$8 -> #REF! | P23: ='Wskaźniki emisji, założenia'!G22/1000000*$C$23*$B$8 -> #REF! | Q23: ='Wskaźniki emisji, założenia'!H22/1000000*$C$23*$B$8 -> #REF!
A24: 3 klasa zasilanie ręczne, kotły | B24: ='Mieszkalne emisja, energia'!B48 -> #REF! | C24: =B24/$B$50 -> #REF! | D24: =C24*$B$7*'Wskaźniki emisji, założenia'!B12/1000000 -> #REF! | E24: =C24*$B$7*'Wskaźniki emisji, założenia'!C12/1000000 -> #REF! | F24: =C24*$B$7*'Wskaźniki emisji, założenia'!D12/1000000 -> #REF! | G24: =C24*$B$7*'Wskaźniki emisji, założenia'!E12/1000000 -> #REF! | H24: =C24*$B$7*'Wskaźniki emisji, założenia'!F12/1000000 -> #REF! | I24: =C24*$B$7*'Wskaźniki emisji, założenia'!G12/1000000 -> #REF! | J24: =C24*$B$7*'Wskaźniki emisji, założenia'!H12/1000000 -> #REF! | K24: ='Wskaźniki emisji, założenia'!B23/1000000*$C$24*$B$8 -> #REF! | L24: ='Wskaźniki emisji, założenia'!C23/1000000*$C$24*$B$8 -> #REF! | M24: ='Wskaźniki emisji, założenia'!D23/1000000*$C$24*$B$8 -> #REF! | N24: ='Wskaźniki emisji, założenia'!E23/1000000*$C$24*$B$8 -> #REF! | O24: ='Wskaźniki emisji, założenia'!F23/1000000*$C$24*$B$8 -> #REF! | P24: ='Wskaźniki emisji, założenia'!G23/1000000*$C$24*$B$8 -> #REF! | Q24: ='Wskaźniki emisji, założenia'!H23/1000000*$C$24*$B$8 -> #REF!
A25: 4 klasa zasilanie ręczne, kotły | B25: ='Mieszkalne emisja, energia'!B49 -> #REF! | C25: =B25/$B$50 -> #REF! | D25: =C25*$B$7*'Wskaźniki emisji, założenia'!B13/1000000 -> #REF! | E25: =C25*$B$7*'Wskaźniki emisji, założenia'!C13/1000000 -> #REF! | F25: =C25*$B$7*'Wskaźniki emisji, założenia'!D13/1000000 -> #REF! | G25: =C25*$B$7*'Wskaźniki emisji, założenia'!E13/1000000 -> #REF! | H25: =C25*$B$7*'Wskaźniki emisji, założenia'!F13/1000000 -> #REF! | I25: =C25*$B$7*'Wskaźniki emisji, założenia'!G13/1000000 -> #REF! | J25: =C25*$B$7*'Wskaźniki emisji, założenia'!H13/1000000 -> #REF! | K25: ='Wskaźniki emisji, założenia'!B24/1000000*$C$25*$B$8 -> #REF! | L25: ='Wskaźniki emisji, założenia'!C24/1000000*$C$25*$B$8 -> #REF! | M25: ='Wskaźniki emisji, założenia'!D24/1000000*$C$25*$B$8 -> #REF! | N25: ='Wskaźniki emisji, założenia'!E24/1000000*$C$25*$B$8 -> #REF! | O25: ='Wskaźniki emisji, założenia'!F24/1000000*$C$25*$B$8 -> #REF! | P25: ='Wskaźniki emisji, założenia'!G24/1000000*$C$25*$B$8 -> #REF! | Q25: ='Wskaźniki emisji, założenia'!H24/1000000*$C$25*$B$8 -> #REF!
A26: 5 klasa zasilanie ręczne, kotły | B26: ='Mieszkalne emisja, energia'!B50 -> #REF! | C26: =B26/$B$50 -> #REF! | D26: =C26*$B$7*'Wskaźniki emisji, założenia'!B14/1000000 -> #REF! | E26: =C26*$B$7*'Wskaźniki emisji, założenia'!C14/1000000 -> #REF! | F26: =C26*$B$7*'Wskaźniki emisji, założenia'!D14/1000000 -> #REF! | G26: =C26*$B$7*'Wskaźniki emisji, założenia'!E14/1000000 -> #REF! | H26: =C26*$B$7*'Wskaźniki emisji, założenia'!F14/1000000 -> #REF! | I26: =C26*$B$7*'Wskaźniki emisji, założenia'!G14/1000000 -> #REF! | J26: =C26*$B$7*'Wskaźniki emisji, założenia'!H14/1000000 -> #REF! | K26: ='Wskaźniki emisji, założenia'!B25/1000000*$C$26*$B$8 -> #REF! | L26: ='Wskaźniki emisji, założenia'!C25/1000000*$C$26*$B$8 -> #REF! | M26: ='Wskaźniki emisji, założenia'!D25/1000000*$C$26*$B$8 -> #REF! | N26: ='Wskaźniki emisji, założenia'!E25/1000000*$C$26*$B$8 -> #REF! | O26: ='Wskaźniki emisji, założenia'!F25/1000000*$C$26*$B$8 -> #REF! | P26: ='Wskaźniki emisji, założenia'!G25/1000000*$C$26*$B$8 -> #REF! | Q26: ='Wskaźniki emisji, założenia'!H25/1000000*$C$26*$B$8 -> #REF!
A27: Ecodesign zasilanie ręczne, kotły | B27: ='Mieszkalne emisja, energia'!B51 -> #REF! | C27: =B27/$B$50 -> #REF! | D27: =C27*$B$7*'Wskaźniki emisji, założenia'!B15/1000000 -> #REF! | E27: =C27*$B$7*'Wskaźniki emisji, założenia'!C15/1000000 -> #REF! | F27: =C27*$B$7*'Wskaźniki emisji, założenia'!D15/1000000 -> #REF! | G27: =C27*$B$7*'Wskaźniki emisji, założenia'!E15/1000000 -> #REF! | H27: =C27*$B$7*'Wskaźniki emisji, założenia'!F15/1000000 -> #REF! | I27: =C27*$B$7*'Wskaźniki emisji, założenia'!G15/1000000 -> #REF! | J27: =C27*$B$7*'Wskaźniki emisji, założenia'!H15/1000000 -> #REF! | K27: ='Wskaźniki emisji, założenia'!B26/1000000*$C$27*$B$8 -> #REF! | L27: ='Wskaźniki emisji, założenia'!C26/1000000*$C$27*$B$8 -> #REF! | M27: ='Wskaźniki emisji, założenia'!D26/1000000*$C$27*$B$8 -> #REF! | N27: ='Wskaźniki emisji, założenia'!E26/1000000*$C$27*$B$8 -> #REF! | O27: ='Wskaźniki emisji, założenia'!F26/1000000*$C$27*$B$8 -> #REF! | P27: ='Wskaźniki emisji, założenia'!G26/1000000*$C$27*$B$8 -> #REF! | Q27: ='Wskaźniki emisji, założenia'!H26/1000000*$C$27*$B$8 -> #REF!
A28: 3 klasa zasilanie automatyczne kotły | B28: ='Mieszkalne emisja, energia'!B52 -> #REF! | C28: =B28/$B$50 -> #REF! | D28: =C28*$B$7*'Wskaźniki emisji, założenia'!B16/1000000 -> #REF! | E28: =C28*$B$7*'Wskaźniki emisji, założenia'!C16/1000000 -> #REF! | F28: =C28*$B$7*'Wskaźniki emisji, założenia'!D16/1000000 -> #REF! | G28: =C28*$B$7*'Wskaźniki emisji, założenia'!E16/1000000 -> #REF! | H28: =C28*$B$7*'Wskaźniki emisji, założenia'!F16/1000000 -> #REF! | I28: =C28*$B$7*'Wskaźniki emisji, założenia'!G16/1000000 -> #REF! | J28: =C28*$B$7*'Wskaźniki emisji, założenia'!H16/1000000 -> #REF! | K28: ='Wskaźniki emisji, założenia'!B27/1000000*$C$28*$B$8 -> #REF! | L28: ='Wskaźniki emisji, założenia'!C27/1000000*$C$28*$B$8 -> #REF! | M28: ='Wskaźniki emisji, założenia'!D27/1000000*$C$28*$B$8 -> #REF! | N28: ='Wskaźniki emisji, założenia'!E27/1000000*$C$28*$B$8 -> #REF! | O28: ='Wskaźniki emisji, założenia'!F27/1000000*$C$28*$B$8 -> #REF! | P28: ='Wskaźniki emisji, założenia'!G27/1000000*$C$28*$B$8 -> #REF! | Q28: ='Wskaźniki emisji, założenia'!H27/1000000*$C$28*$B$8 -> #REF!
A29: 4 klasa zasilanie automatyczne kotły | B29: ='Mieszkalne emisja, energia'!B53 -> #REF! | C29: =B29/$B$50 -> #REF! | D29: =C29*$B$7*'Wskaźniki emisji, założenia'!B17/1000000 -> #REF! | E29: =C29*$B$7*'Wskaźniki emisji, założenia'!C17/1000000 -> #REF! | F29: =C29*$B$7*'Wskaźniki emisji, założenia'!D17/1000000 -> #REF! | G29: =C29*$B$7*'Wskaźniki emisji, założenia'!E17/1000000 -> #REF! | H29: =C29*$B$7*'Wskaźniki emisji, założenia'!F17/1000000 -> #REF! | I29: =C29*$B$7*'Wskaźniki emisji, założenia'!G17/1000000 -> #REF! | J29: =C29*$B$7*'Wskaźniki emisji, założenia'!H17/1000000 -> #REF! | K29: ='Wskaźniki emisji, założenia'!B28/1000000*$C$29*$B$8 -> #REF! | L29: ='Wskaźniki emisji, założenia'!C28/1000000*$C$29*$B$8 -> #REF! | M29: ='Wskaźniki emisji, założenia'!D28/1000000*$C$29*$B$8 -> #REF! | N29: ='Wskaźniki emisji, założenia'!E28/1000000*$C$29*$B$8 -> #REF! | O29: ='Wskaźniki emisji, założenia'!F28/1000000*$C$29*$B$8 -> #REF! | P29: ='Wskaźniki emisji, założenia'!G28/1000000*$C$29*$B$8 -> #REF! | Q29: ='Wskaźniki emisji, założenia'!H28/1000000*$C$29*$B$8 -> #REF!
A30: 5 klasa zasilanie automatyczne kotły | B30: ='Mieszkalne emisja, energia'!B54 -> #REF! | C30: =B30/$B$50 -> #REF! | D30: =C30*$B$7*'Wskaźniki emisji, założenia'!B18/1000000 -> #REF! | E30: =C30*$B$7*'Wskaźniki emisji, założenia'!C18/1000000 -> #REF! | F30: =C30*$B$7*'Wskaźniki emisji, założenia'!D18/1000000 -> #REF! | G30: =C30*$B$7*'Wskaźniki emisji, założenia'!E18/1000000 -> #REF! | H30: =C30*$B$7*'Wskaźniki emisji, założenia'!F18/1000000 -> #REF! | I30: =C30*$B$7*'Wskaźniki emisji, założenia'!G18/1000000 -> #REF! | J30: =C30*$B$7*'Wskaźniki emisji, założenia'!H18/1000000 -> #REF! | K30: ='Wskaźniki emisji, założenia'!B29/1000000*$C$30*$B$8 -> #REF! | L30: ='Wskaźniki emisji, założenia'!C29/1000000*$C$30*$B$8 -> #REF! | M30: ='Wskaźniki emisji, założenia'!D29/1000000*$C$30*$B$8 -> #REF! | N30: ='Wskaźniki emisji, założenia'!E29/1000000*$C$30*$B$8 -> #REF! | O30: ='Wskaźniki emisji, założenia'!F29/1000000*$C$30*$B$8 -> #REF! | P30: ='Wskaźniki emisji, założenia'!G29/1000000*$C$30*$B$8 -> #REF! | Q30: ='Wskaźniki emisji, założenia'!H29/1000000*$C$30*$B$8 -> #REF!
A31: Ecodesign zasilanie automatyczne kotły | B31: ='Mieszkalne emisja, energia'!B55 -> #REF! | C31: =B31/$B$50 -> #REF! | D31: =C31*$B$7*'Wskaźniki emisji, założenia'!B19/1000000 -> #REF! | E31: =C31*$B$7*'Wskaźniki emisji, założenia'!C19/1000000 -> #REF! | F31: =C31*$B$7*'Wskaźniki emisji, założenia'!D19/1000000 -> #REF! | G31: =C31*$B$7*'Wskaźniki emisji, założenia'!E19/1000000 -> #REF! | H31: =C31*$B$7*'Wskaźniki emisji, założenia'!F19/1000000 -> #REF! | I31: =C31*$B$7*'Wskaźniki emisji, założenia'!G19/1000000 -> #REF! | J31: =C31*$B$7*'Wskaźniki emisji, założenia'!H19/1000000 -> #REF! | K31: ='Wskaźniki emisji, założenia'!B30/1000000*$C$31*$B$8 -> #REF! | L31: ='Wskaźniki emisji, założenia'!C30/1000000*$C$31*$B$8 -> #REF! | M31: ='Wskaźniki emisji, założenia'!D30/1000000*$C$31*$B$8 -> #REF! | N31: ='Wskaźniki emisji, założenia'!E30/1000000*$C$31*$B$8 -> #REF! | O31: ='Wskaźniki emisji, założenia'!F30/1000000*$C$31*$B$8 -> #REF! | P31: ='Wskaźniki emisji, założenia'!G30/1000000*$C$31*$B$8 -> #REF! | Q31: ='Wskaźniki emisji, założenia'!H30/1000000*$C$31*$B$8 -> #REF!
A32: Piec kaflowy, Paliwo stałe
A33: piec kaflowy <80% | B33: ='Mieszkalne emisja, energia'!B57 -> #REF! | C33: =B33/$B$50 -> #REF! | D33: ='Wskaźniki emisji, założenia'!B32*$C$33*$B$7/1000000 -> #REF! | E33: ='Wskaźniki emisji, założenia'!C32*$C$33*$B$7/1000000 -> #REF! | F33: ='Wskaźniki emisji, założenia'!D32*$C$33*$B$7/1000000 -> #REF! | G33: ='Wskaźniki emisji, założenia'!E32*$C$33*$B$7/1000000 -> #REF! | H33: ='Wskaźniki emisji, założenia'!F32*$C$33*$B$7/1000000 -> #REF! | I33: ='Wskaźniki emisji, założenia'!G32*$C$33*$B$7/1000000 -> #REF! | J33: ='Wskaźniki emisji, założenia'!H32*$C$33*$B$7/1000000 -> #REF! | K33: 0 | L33: 0 | M33: 0 | N33: 0 | O33: 0 | P33: 0 | Q33: 0
A34: piec kaflowy >80% | B34: ='Mieszkalne emisja, energia'!B58 -> #REF! | C34: =B34/$B$50 -> #REF! | D34: ='Wskaźniki emisji, założenia'!B33*$C$34*$B$7/1000000 -> #REF! | E34: ='Wskaźniki emisji, założenia'!C33*$C$34*$B$7/1000000 -> #REF! | F34: ='Wskaźniki emisji, założenia'!D33*$C$34*$B$7/1000000 -> #REF! | G34: ='Wskaźniki emisji, założenia'!E33*$C$34*$B$7/1000000 -> #REF! | H34: ='Wskaźniki emisji, założenia'!F33*$C$34*$B$7/1000000 -> #REF! | I34: ='Wskaźniki emisji, założenia'!G33*$C$34*$B$7/1000000 -> #REF! | J34: ='Wskaźniki emisji, założenia'!H33*$C$34*$B$7/1000000 -> #REF! | K34: 0 | L34: 0 | M34: 0 | N34: 0 | O34: 0 | P34: 0 | Q34: 0
A35: Koza
A36: koza <80% | B36: ='Mieszkalne emisja, energia'!B60 -> #REF! | C36: =B36/$B$50 -> #REF! | D36: ='Wskaźniki emisji, założenia'!B37/1000000*$C$36*$B$7 -> #REF! | E36: ='Wskaźniki emisji, założenia'!C37/1000000*$C$36*$B$7 -> #REF! | F36: ='Wskaźniki emisji, założenia'!D37/1000000*$C$36*$B$7 -> #REF! | G36: ='Wskaźniki emisji, założenia'!E37/1000000*$C$36*$B$7 -> #REF! | H36: ='Wskaźniki emisji, założenia'!F37/1000000*$C$36*$B$7 -> #REF! | I36: ='Wskaźniki emisji, założenia'!G37/1000000*$C$36*$B$7 -> #REF! | J36: ='Wskaźniki emisji, założenia'!H37/1000000*$C$36*$B$7 -> #REF! | K36: ='Wskaźniki emisji, założenia'!B42/1000000*$B$8*$C$36 -> #REF! | L36: ='Wskaźniki emisji, założenia'!C42/1000000*$B$8*$C$36 -> #REF! | M36: ='Wskaźniki emisji, założenia'!D42/1000000*$B$8*$C$36 -> #REF! | N36: ='Wskaźniki emisji, założenia'!E42/1000000*$B$8*$C$36 -> #REF! | O36: ='Wskaźniki emisji, założenia'!F42/1000000*$B$8*$C$36 -> #REF! | P36: ='Wskaźniki emisji, założenia'!G42/1000000*$B$8*$C$36 -> #REF! | Q36: ='Wskaźniki emisji, założenia'!H42/1000000*$B$8*$C$36 -> #REF!
A37: koza >80% | B37: ='Mieszkalne emisja, energia'!B61 -> #REF! | C37: =B37/$B$50 -> #REF! | D37: ='Wskaźniki emisji, założenia'!B38/1000000*$C$37*$B$7 -> #REF! | E37: ='Wskaźniki emisji, założenia'!C38/1000000*$C$37*$B$7 -> #REF! | F37: ='Wskaźniki emisji, założenia'!D38/1000000*$C$37*$B$7 -> #REF! | G37: ='Wskaźniki emisji, założenia'!E38/1000000*$C$37*$B$7 -> #REF! | H37: ='Wskaźniki emisji, założenia'!F38/1000000*$C$37*$B$7 -> #REF! | I37: ='Wskaźniki emisji, założenia'!G38/1000000*$C$37*$B$7 -> #REF! | J37: ='Wskaźniki emisji, założenia'!H38/1000000*$C$37*$B$7 -> #REF! | K37: ='Wskaźniki emisji, założenia'!B43/1000000*$B$8*$C$37 -> #REF! | L37: ='Wskaźniki emisji, założenia'!C43/1000000*$B$8*$C$37 -> #REF! | M37: ='Wskaźniki emisji, założenia'!D43/1000000*$B$8*$C$37 -> #REF! | N37: ='Wskaźniki emisji, założenia'!E43/1000000*$B$8*$C$37 -> #REF! | O37: ='Wskaźniki emisji, założenia'!F43/1000000*$B$8*$C$37 -> #REF! | P37: ='Wskaźniki emisji, założenia'!G43/1000000*$B$8*$C$37 -> #REF! | Q37: ='Wskaźniki emisji, założenia'!H43/1000000*$B$8*$C$37 -> #REF!
A38: Kominek
A39: kominek <80% | B39: ='Mieszkalne emisja, energia'!B63 -> #REF! | C39: =B39/$B$50 -> #REF! | D39: 0 | E39: 0 | F39: 0 | G39: 0 | H39: 0 | I39: 0 | J39: 0 | K39: ='Wskaźniki emisji, założenia'!B47*$C$39*$B$8/1000000 -> #REF! | L39: ='Wskaźniki emisji, założenia'!C47*$C$39*$B$8/1000000 -> #REF! | M39: ='Wskaźniki emisji, założenia'!D47*$C$39*$B$8/1000000 -> #REF! | N39: ='Wskaźniki emisji, założenia'!E47*$C$39*$B$8/1000000 -> #REF! | O39: ='Wskaźniki emisji, założenia'!F47*$C$39*$B$8/1000000 -> #REF! | P39: ='Wskaźniki emisji, założenia'!G47*$C$39*$B$8/1000000 -> #REF! | Q39: ='Wskaźniki emisji, założenia'!H47*$C$39*$B$8/1000000 -> #REF!
A40: kominek >80% | B40: ='Mieszkalne emisja, energia'!B64 -> #REF! | C40: =B40/$B$50 -> #REF! | D40: 0 | E40: 0 | F40: 0 | G40: 0 | H40: 0 | I40: 0 | J40: 0 | K40: ='Wskaźniki emisji, założenia'!B48*$C$40*$B$8/1000000 -> #REF! | L40: ='Wskaźniki emisji, założenia'!C48*$C$40*$B$8/1000000 -> #REF! | M40: ='Wskaźniki emisji, założenia'!D48*$C$40*$B$8/1000000 -> #REF! | N40: ='Wskaźniki emisji, założenia'!E48*$C$40*$B$8/1000000 -> #REF! | O40: ='Wskaźniki emisji, założenia'!F48*$C$40*$B$8/1000000 -> #REF! | P40: ='Wskaźniki emisji, założenia'!G48*$C$40*$B$8/1000000 -> #REF! | Q40: ='Wskaźniki emisji, założenia'!H48*$C$40*$B$8/1000000 -> #REF!
A41: Trzon kuchenny, Paliwo stałe
A42: trzon kuchenny >80% | B42: ='Mieszkalne emisja, energia'!B66 -> #REF! | C42: =B42/$B$50 -> #REF! | D42: =$C$42*$B$7*'Wskaźniki emisji, założenia'!B52/1000000 -> #REF! | E42: =$C$42*$B$7*'Wskaźniki emisji, założenia'!C52/1000000 -> #REF! | F42: =$C$42*$B$7*'Wskaźniki emisji, założenia'!D52/1000000 -> #REF! | G42: =$C$42*$B$7*'Wskaźniki emisji, założenia'!E52/1000000 -> #REF! | H42: =$C$42*$B$7*'Wskaźniki emisji, założenia'!F52/1000000 -> #REF! | I42: =$C$42*$B$7*'Wskaźniki emisji, założenia'!G52/1000000 -> #REF! | J42: =$C$42*$B$7*'Wskaźniki emisji, założenia'!H52/1000000 -> #REF! | K42: ='Wskaźniki emisji, założenia'!B57/1000000*$C$42*$B$7 -> #REF! | L42: ='Wskaźniki emisji, założenia'!C57/1000000*$C$42*$B$7 -> #REF! | M42: ='Wskaźniki emisji, założenia'!D57/1000000*$C$42*$B$7 -> #REF! | N42: ='Wskaźniki emisji, założenia'!E57/1000000*$C$42*$B$7 -> #REF! | O42: ='Wskaźniki emisji, założenia'!F57/1000000*$C$42*$B$7 -> #REF! | P42: ='Wskaźniki emisji, założenia'!G57/1000000*$C$42*$B$7 -> #REF! | Q42: ='Wskaźniki emisji, założenia'!H57/1000000*$C$42*$B$7 -> #REF!
A43: trzon kuchenny <80% | B43: ='Mieszkalne emisja, energia'!B67 -> #REF! | C43: =B43/$B$50 -> #REF! | D43: =$C$43*$B$7*'Wskaźniki emisji, założenia'!B53/1000000 -> #REF! | E43: =$C$43*$B$7*'Wskaźniki emisji, założenia'!C53/1000000 -> #REF! | F43: =$C$43*$B$7*'Wskaźniki emisji, założenia'!D53/1000000 -> #REF! | G43: =$C$43*$B$7*'Wskaźniki emisji, założenia'!E53/1000000 -> #REF! | H43: =$C$43*$B$7*'Wskaźniki emisji, założenia'!F53/1000000 -> #REF! | I43: =$C$43*$B$7*'Wskaźniki emisji, założenia'!G53/1000000 -> #REF! | J43: =$C$43*$B$7*'Wskaźniki emisji, założenia'!H53/1000000 -> #REF! | K43: ='Wskaźniki emisji, założenia'!B58/1000000*$C$43*$B$8 -> #REF! | L43: ='Wskaźniki emisji, założenia'!C58/1000000*$C$43*$B$8 -> #REF! | M43: ='Wskaźniki emisji, założenia'!D58/1000000*$C$43*$B$8 -> #REF! | N43: ='Wskaźniki emisji, założenia'!E58/1000000*$C$43*$B$8 -> #REF! | O43: ='Wskaźniki emisji, założenia'!F58/1000000*$C$43*$B$8 -> #REF! | P43: ='Wskaźniki emisji, założenia'!G58/1000000*$C$43*$B$8 -> #REF! | Q43: ='Wskaźniki emisji, założenia'!H58/1000000*$C$43*$B$8 -> #REF!
D45: Emisja z paliw gazowych
A46: Ogrzewanie gazowe | D46: PM10 [g / GJ] | E46: PM2,5 [g / GJ] | F46: CO2 [g / GJ] | G46: BaP [g / GJ] | H46: SO2 [g / GJ] | I46: Nox [g / GJ] | J46: CO [g / GJ]
A47: kocioł gazowy | B47: ='Mieszkalne emisja, energia'!B71 -> #REF! | C47: =B47/$B$50 -> #REF! | D47: =$B$9*'Wskaźniki emisji, założenia'!B4/1000000 -> 0.00297928 | E47: =$B$9*'Wskaźniki emisji, założenia'!C4/1000000 -> 0.00297928 | F47: =$B$9*'Wskaźniki emisji, założenia'!D4/1000000 -> 129.10213 | G47: =$B$9*'Wskaźniki emisji, założenia'!E4/1000000 -> 1.3903306e-09 | H47: =$B$9*'Wskaźniki emisji, założenia'!F4/1000000 -> 0.00074481999 | I47: =$B$9*'Wskaźniki emisji, założenia'!G4/1000000 -> 0.1266194 | J47: =$B$9*'Wskaźniki emisji, założenia'!H4/1000000 -> 0.064551066
A48: Ogrzewanie olejowe | D48: Emisja z oleju opałowego
A49: kocioł na olej opałowy | B49: ='Mieszkalne emisja, energia'!B73 -> #REF! | C49: =B49/$B$50 -> #REF! | D49: =$B$10*'Wskaźniki emisji, założenia'!B5/1000000 -> 2.5498342e-05 | E49: =$B$10*'Wskaźniki emisji, założenia'!C5/1000000 -> 2.5498342e-05 | F49: =$B$10*'Wskaźniki emisji, założenia'!D5/1000000 -> 1.0199337 | G49: =$B$10*'Wskaźniki emisji, założenia'!E5/1000000 -> 1.0736144e-09 | H49: =$B$10*'Wskaźniki emisji, założenia'!F5/1000000 -> 0.0009394126 | I49: =$B$10*'Wskaźniki emisji, założenia'!G5/1000000 -> 0.00068442918 | J49: =$B$10*'Wskaźniki emisji, założenia'!H5/1000000 -> 0.00076495026
A50: Łącznie: | B50: =SUM(B22:B49) -> #REF! | C50: =SUM(C22:C49) -> #REF!

Sheet Przedsiębiorcy, przemysł
A1: Baza emisji zanieczyszczeń dla sektora produkcyjnego i przemysłowego (na podstawie ankiet od przedsiębiorców) | BH1: ODSETEK W LATACH I ODSETEK TERMO | BR1: co
A2: Lp | B2: spr | D2: Nazwa zakładu | E2: Wybierz | F2: Lokalizacja | G2: Rok budowy | H2: Powierzchnia ogrzewana (m2) | I2: Ociepl. ścian | J2: Ociepl. stropu | K2: Okna | L2: Liczba osób | N2: Wskażnik energo (kWh/m2*rok) | O2: termo | P2: Źródło ciepła lub ciepła technologicznego (nośnik) | Q2: Ilość zużywanego nośnika rocznie (technologia, c.o.) [Mg] w przyp. gazu i oleju [m3] | R2: Rok produkcji kotła | S2: Charakterystyka źródła ciepła | T2: Źródło cwu jeśli inne niż co | U2: Zużycie energii łącznie (technologia,ogrzewanie) [GJ] | V2: Zużycie energii na co [GJ] | W2: Zużycie energii na cwu [GJ] jeśli inne źródło | X2: Zużycie energii na co [GJ] | Y2: Emisja z CO lub CO+CWU | AF2: Emisja z CWU - oddzielne źródło | AM2: Produkcja energii pierwotnej [GJ] | AN2: Energii elektr. łącznie moc zamówiona [MW] | AO2: Zużycie energii elektr. łącznie [MWh/rok] | AP2: Oświetlenie [MWh/rok] | AQ2: Emisja łącznie | AX2: Czy jest OŹE | AY2: Jeśli tak wskaż typ | AZ2: Zaintere- sowanie wymianą źródła ciepła | BA2: Jeśli tak wskaż typ | BB2: Data planowanej inwestycji | BC2: Planowana termom. | BD2: Ciepło odpadowe (technologia) | BE2: Ciepło odpadowe [GJ] | BF2: Data planowanej inwestycji | BH2: do 1966 | BI2: % termo | BJ2: 1967-1985 | BK2: % termo | BL2: 1986-1992 | BM2: % termo | BN2: 1993-1996 | BO2: % termo | BP2: Od 1997 | BR2: węgiel | BS2: gaz | BT2: drewno | BU2: pelet | BV2: olej | BW2: prąd | BX2: sieć | BY2: węgiel | BZ2: gaz | CA2: drewno | CB2: pelet | CC2: olej | CD2: prąd | CE2: sieć | CF2: węgiel | CG2: sieć | CH2: gaz | CI2: drewno | CJ2: pelet | CK2: olej | CL2: prąd
Y3: PM 10 | Z3: PM 2,5 | AA3: Co2 | AB3: BaP | AC3: S02 | AD3: N0x | AE3: CO | AF3: PM 10 | AG3: PM 2,5 | AH3: Co2 | AI3: BaP | AJ3: S02 | AK3: N0x | AL3: CO | AQ3: PM 10 | AR3: PM 2,5 | AS3: CO2* | AT3: BaP | AU3: S02 | AV3: N0x | AW3: CO
A4: 1 | D4: 2 | F4: 3 | G4: 4 | H4: 5 | L4: 6 | N4: 5 | O4: 6 | P4: 7 | Q4: 8 | R4: 9 | S4: 10 | T4: 11 | U4: 12 | V4: 12 | W4: 13 | X4: 14 | Y4: 15 | Z4: 16 | AA4: 17 | AB4: 18 | AC4: 19 | AD4: 20 | AE4: 21 | AF4: 29 | AG4: 30 | AH4: 31 | AI4: 32 | AJ4: 33 | AK4: 34 | AL4: 35 | AM4: 13 | AN4: 14 | AO4: 15 | AP4: 13 | AQ4: 16 | AR4: =AQ4+1 -> 17 | AS4: =AR4+1 -> 18 | AT4: =AS4+1 -> 19 | AU4: =AT4+1 -> 20 | AV4: =AU4+1 -> 21 | AW4: =AV4+1 -> 22 | AX4: =AW4+1 -> 23 | AY4: =AX4+1 -> 24 | ... BC4: =BB4+1 -> 28 | BD4: 25 | BE4: 26 | BF4: 28
A5: 1 | C5: =IF(ISTEXT(D5),1) -> FALSE | N5: 290 | U5: =IF(V5>0,(W5+X5+V5)/2,W5+X5) -> 0 | V5: 0 | W5: 0 | X5: 0 | Y5: =IF(P5="węgiel",U5*#REF!,IF(P5="gaz",U5*#REF!,IF(P5="drewno",U5*#REF!,IF(P5="pelet",U5*#REF!,IF(P5="olej opałowy",U5*#REF!,IF(P5="sieć ciepłownicza",0,IF(P5="prąd",0,0))))))) -> 0 | Z5: =IF(P5="węgiel",U5*#REF!,IF(P5="gaz",U5*#REF!,IF(P5="drewno",U5*#REF!,IF(P5="pelet",U5*#REF!,IF(P5="olej opałowy",U5*#REF!,IF(P5="sieć ciepłownicza",0,IF(P5="prąd",0,0))))))) -> 0 | AA5: =IF(P5="węgiel",P5*#REF!,IF(P5="gaz",U5*#REF!,IF(P5="drewno",U5*#REF!,IF(P5="pelet",U5*#REF!,IF(P5="olej opałowy",U5*#REF!,IF(P5="sieć ciepłownicza",U5*#REF!,IF(P5="prąd",0,0))))))) -> 0 | AB5: =IF(P5="węgiel",U5*#REF!,IF(P5="gaz",U5*#REF!,IF(P5="drewno",U5*#REF!,IF(P5="pelet",U5*#REF!,IF(P5="olej opałowy",U5*#REF!,IF(P5="sieć ciepłownicza",0,IF(P5="prąd",0,0))))))) -> 0 | AC5: =IF(P5="węgiel",U5*#REF!, IF(P5="gaz",U5*#REF!,IF(P5="drewno",U5*#REF!,IF(P5="pelet",U5*#REF!,IF(P5="olej opałowy",U5*#REF!,IF(P5="sieć ciepłownicza",0,IF(P5="prąd",0,0))))))) -> 0 | AD5: =IF(P5="węgiel",U5*#REF!, IF(P5="gaz",U5*#REF!, IF(P5="drewno",U5*#REF!,IF(P5="pelet",U5*#REF!,IF(P5="olej opałowy",U5*#REF!,IF(P5="sieć ciepłownicza",0,IF(P5="prąd",0,0))))))) -> 0 | AE5: =IF(P5="węgiel",U5*#REF!,IF(P5="gaz",U5*#REF!, IF(P5="drewno",U5*#REF!,IF(P5="pelet",U5*#REF!,IF(P5="pelet",U5*#REF!,IF(P5="olej opałowy",U5*#REF!,IF(P5="sieć ciepłownicza",0,IF(P5="prąd",0,0)))))))) -> 0 | AF5: 0 | AG5: 0 | AH5: 0 | AI5: 0 | AJ5: 0 | AK5: 0 | AL5: 0 | AM5: =U5 -> 0 | AP5: FALSE | AQ5: =Y5 -> 0 | AR5: =Z5 -> 0 | AT5: =AB5 -> 0 | AU5: =AC5 -> 0 | AV5: =AD5 -> 0 | AW5: =AE5 -> 0 | BH5: =IF(G5<=1966,H5) -> 0 | BI5: =IF(O5="kompletna",BH5,IF(O5="częściowa",0.5*BH5)) -> FALSE | BJ5: =IF(G5>1966,IF(G5<=1985,H5)) -> FALSE | BK5: =IF(O5="kompletna",BJ5,IF(O5="częściowa",0.5*BJ5)) -> FALSE | BL5: =IF(G5>1985,IF(G5<=1992,H5)) -> FALSE | BM5: =IF(O5="kompletna",BL5,IF(O5="częściowa",0.5*BL5)) -> FALSE | BN5: =IF(G5>1992,IF(G5<=1996,H5)) -> FALSE | BO5: =IF(O5="kompletna",BN5,IF(O5="częściowa",0.5*BN5)) -> FALSE | BP5: =IF(G5>1996,IF(G5<=2014,H5)) -> FALSE | BQ5: =IF(O5="kompletna",BP5,IF(O5="częściowa",0.5*BP5)) -> FALSE | BR5: =IF(P5="węgiel",X5) -> FALSE | BS5: =IF(P5="gaz",U5) -> FALSE | BT5: =IF(P5="drewno",X5) -> FALSE | BU5: =IF(P5="pelet",X5) -> FALSE | BV5: =IF(P5="olej opałowy",X5) -> FALSE | BW5: =IF(P5="prąd",U5) -> FALSE | BX5: =IF(P5="sieć ciepłownicza",X5) -> FALSE | BY5: =IF(T5="węgiel",W5) -> FALSE | BZ5: =IF(T5="gaz",W5) -> FALSE | CA5: =IF(T5="drewno",W5) -> FALSE | CB5: =IF(T5="pelet",W5) -> FALSE | CC5: =IF(T5="olej opałowy",W5) -> FALSE | CD5: =IF(T5="prąd",W5) -> FALSE | CE5: =IF(P5="sieć ciepłownicza",W5) -> FALSE | CF5: =IF(P5="węgiel",U5) -> FALSE | CG5: =IF(P5="sieć ciepłownicza",U5) -> FALSE | CH5: =IF(P5="gaz",U5) -> FALSE | CI5: =IF(P5="drewno",U5) -> FALSE | CJ5: =IF(P5="pelet",U5) -> FALSE | CK5: =IF(P5="olej opałowy",U5) -> FALSE | CL5: =IF(P5="prąd",AO5) -> FALSE
A6: 2 | C6: =IF(ISTEXT(D6),1) -> FALSE | N6: 290 | U6: =IF(V6>0,(W6+X6+V6)/2,W6+X6) -> #REF! | V6: 0 | W6: =G6*#REF! -> #REF! | Y6: =IF(P6="węgiel",U6*#REF!,IF(P6="gaz",U6*#REF!,IF(P6="drewno",U6*#REF!,IF(P6="pelet",U6*#REF!,IF(P6="olej opałowy",U6*#REF!,IF(P6="sieć ciepłownicza",0,IF(P6="prąd",0,0))))))) -> 0 | Z6: =IF(P6="węgiel",U6*#REF!,IF(P6="gaz",U6*#REF!,IF(P6="drewno",U6*#REF!,IF(P6="pelet",U6*#REF!,IF(P6="olej opałowy",U6*#REF!,IF(P6="sieć ciepłownicza",0,IF(P6="prąd",0,0))))))) -> 0 | AA6: =U6*0.09 -> #REF! | AB6: =IF(P6="węgiel",U6*#REF!,IF(P6="gaz",U6*#REF!,IF(P6="drewno",U6*#REF!,IF(P6="pelet",U6*#REF!,IF(P6="olej opałowy",U6*#REF!,IF(P6="sieć ciepłownicza",0,IF(P6="prąd",0,0))))))) -> 0 | AC6: =IF(P6="węgiel",U6*#REF!, IF(P6="gaz",U6*#REF!,IF(P6="drewno",U6*#REF!,IF(P6="pelet",U6*#REF!,IF(P6="olej opałowy",U6*#REF!,IF(P6="sieć ciepłownicza",0,IF(P6="prąd",0,0))))))) -> 0 | AD6: =IF(P6="węgiel",U6*#REF!, IF(P6="gaz",U6*#REF!, IF(P6="drewno",U6*#REF!,IF(P6="pelet",U6*#REF!,IF(P6="olej opałowy",U6*#REF!,IF(P6="sieć ciepłownicza",0,IF(P6="prąd",0,0))))))) -> 0 | AE6: =IF(P6="węgiel",U6*#REF!,IF(P6="gaz",U6*#REF!, IF(P6="drewno",U6*#REF!,IF(P6="pelet",U6*#REF!,IF(P6="pelet",U6*#REF!,IF(P6="olej opałowy",U6*#REF!,IF(P6="sieć ciepłownicza",0,IF(P6="prąd",0,0)))))))) -> 0 | AF6: 0 | AG6: 0 | AH6: 0 | AI6: 0 | AJ6: 0 | AK6: 0 | AL6: 0 | AM6: =U6 -> #REF! | AP6: FALSE | AQ6: =Y6 -> 0 | AR6: =Z6 -> 0 | AT6: =AB6 -> 0 | AU6: =AC6 -> 0 | AV6: =AD6 -> 0 | AW6: =AE6 -> 0 | BH6: =IF(G6<=1966,H6) -> 0 | BI6: =IF(O6="kompletna",BH6,IF(O6="częściowa",0.5*BH6)) -> FALSE | BJ6: =IF(G6>1966,IF(G6<=1985,H6)) -> FALSE | BK6: =IF(O6="kompletna",BJ6,IF(O6="częściowa",0.5*BJ6)) -> FALSE | BL6: =IF(G6>1985,IF(G6<=1992,H6)) -> FALSE | BM6: =IF(O6="kompletna",BL6,IF(O6="częściowa",0.5*BL6)) -> FALSE | BN6: =IF(G6>1992,IF(G6<=1996,H6)) -> FALSE | BO6: =IF(O6="kompletna",BN6,IF(O6="częściowa",0.5*BN6)) -> FALSE | BP6: =IF(G6>1996,IF(G6<=2014,H6)) -> FALSE | BQ6: =IF(O6="kompletna",BP6,IF(O6="częściowa",0.5*BP6)) -> FALSE | BR6: =IF(P6="węgiel",X6) -> FALSE | BS6: =IF(P6="gaz",U6) -> FALSE | BT6: =IF(P6="drewno",X6) -> FALSE | BU6: =IF(P6="pelet",X6) -> FALSE | BV6: =IF(P6="olej opałowy",X6) -> FALSE | BW6: =IF(P6="prąd",U6) -> FALSE | BX6: =IF(P6="sieć ciepłownicza",X6) -> FALSE | BY6: =IF(T6="węgiel",W6) -> FALSE | BZ6: =IF(T6="gaz",W6) -> FALSE | CA6: =IF(T6="drewno",W6) -> FALSE | CB6: =IF(T6="pelet",W6) -> FALSE | CC6: =IF(T6="olej opałowy",W6) -> FALSE | CD6: =IF(T6="prąd",W6) -> FALSE | CE6: =IF(P6="sieć ciepłownicza",W6) -> FALSE | CF6: =IF(P6="węgiel",U6) -> FALSE | CG6: =IF(P6="sieć ciepłownicza",U6) -> FALSE | CH6: =IF(P6="gaz",U6) -> FALSE | CI6: =IF(P6="drewno",U6) -> FALSE | CJ6: =IF(P6="pelet",U6) -> FALSE | CK6: =IF(P6="olej opałowy",U6) -> FALSE | CL6: =IF(P6="prąd",AO6) -> FALSE
A7: 3 | C7: =IF(ISTEXT(D7),1) -> FALSE | N7: 290 | U7: =IF(V7>0,(W7+X7+V7)/2,W7+X7) -> #REF! | V7: =IF(O7="kompletna",N7*H7*0.0036*#REF!,0) -> 0 | W7: =G7*#REF! -> #REF! | Y7: =IF(P7="węgiel",U7*#REF!,IF(P7="gaz",U7*#REF!,IF(P7="drewno",U7*#REF!,IF(P7="pelet",U7*#REF!,IF(P7="olej opałowy",U7*#REF!,IF(P7="sieć ciepłownicza",0,IF(P7="prąd",0,0))))))) -> 0 | Z7: =IF(P7="węgiel",U7*#REF!,IF(P7="gaz",U7*#REF!,IF(P7="drewno",U7*#REF!,IF(P7="pelet",U7*#REF!,IF(P7="olej opałowy",U7*#REF!,IF(P7="sieć ciepłownicza",0,IF(P7="prąd",0,0))))))) -> 0 | AA7: =U7*0.09 -> #REF! | AB7: =IF(P7="węgiel",U7*#REF!,IF(P7="gaz",U7*#REF!,IF(P7="drewno",U7*#REF!,IF(P7="pelet",U7*#REF!,IF(P7="olej opałowy",U7*#REF!,IF(P7="sieć ciepłownicza",0,IF(P7="prąd",0,0))))))) -> 0 | AC7: =IF(P7="węgiel",U7*#REF!, IF(P7="gaz",U7*#REF!,IF(P7="drewno",U7*#REF!,IF(P7="pelet",U7*#REF!,IF(P7="olej opałowy",U7*#REF!,IF(P7="sieć ciepłownicza",0,IF(P7="prąd",0,0))))))) -> 0 | AD7: =IF(P7="węgiel",U7*#REF!, IF(P7="gaz",U7*#REF!, IF(P7="drewno",U7*#REF!,IF(P7="pelet",U7*#REF!,IF(P7="olej opałowy",U7*#REF!,IF(P7="sieć ciepłownicza",0,IF(P7="prąd",0,0))))))) -> 0 | AE7: =IF(P7="węgiel",U7*#REF!,IF(P7="gaz",U7*#REF!, IF(P7="drewno",U7*#REF!,IF(P7="pelet",U7*#REF!,IF(P7="pelet",U7*#REF!,IF(P7="olej opałowy",U7*#REF!,IF(P7="sieć ciepłownicza",0,IF(P7="prąd",0,0)))))))) -> 0 | AF7: 0 | AG7: 0 | AH7: 0 | AI7: 0 | AJ7: 0 | AK7: 0 | AL7: 0 | AM7: =U7 -> #REF! | AP7: FALSE | AQ7: =Y7 -> 0 | AR7: =Z7 -> 0 | AT7: =AB7 -> 0 | AU7: =AC7 -> 0 | AV7: =AD7 -> 0 | AW7: =AE7 -> 0 | BH7: =IF(G7<=1966,H7) -> 0 | BI7: =IF(O7="kompletna",BH7,IF(O7="częściowa",0.5*BH7)) -> FALSE | BJ7: =IF(G7>1966,IF(G7<=1985,H7)) -> FALSE | BK7: =IF(O7="kompletna",BJ7,IF(O7="częściowa",0.5*BJ7)) -> FALSE | BL7: =IF(G7>1985,IF(G7<=1992,H7)) -> FALSE | BM7: =IF(O7="kompletna",BL7,IF(O7="częściowa",0.5*BL7)) -> FALSE | BN7: =IF(G7>1992,IF(G7<=1996,H7)) -> FALSE | BO7: =IF(O7="kompletna",BN7,IF(O7="częściowa",0.5*BN7)) -> FALSE | BP7: =IF(G7>1996,IF(G7<=2014,H7)) -> FALSE | BQ7: =IF(O7="kompletna",BP7,IF(O7="częściowa",0.5*BP7)) -> FALSE | BR7: =IF(P7="węgiel",X7) -> FALSE | BS7: =IF(P7="gaz",U7) -> FALSE | BT7: =IF(P7="drewno",X7) -> FALSE | BU7: =IF(P7="pelet",X7) -> FALSE | BV7: =IF(P7="olej opałowy",X7) -> FALSE | BW7: =IF(P7="prąd",U7) -> FALSE | BX7: =IF(P7="sieć ciepłownicza",X7) -> FALSE | BY7: =IF(T7="węgiel",W7) -> FALSE | BZ7: =IF(T7="gaz",W7) -> FALSE | CA7: =IF(T7="drewno",W7) -> FALSE | CB7: =IF(T7="pelet",W7) -> FALSE | CC7: =IF(T7="olej opałowy",W7) -> FALSE | CD7: =IF(T7="prąd",W7) -> FALSE | CE7: =IF(P7="sieć ciepłownicza",W7) -> FALSE | CF7: =IF(P7="węgiel",U7) -> FALSE | CG7: =IF(P7="sieć ciepłownicza",U7) -> FALSE | CH7: =IF(P7="gaz",U7) -> FALSE | CI7: =IF(P7="drewno",U7) -> FALSE | CJ7: =IF(P7="pelet",U7) -> FALSE | CK7: =IF(P7="olej opałowy",U7) -> FALSE | CL7: =IF(P7="prąd",AO7) -> FALSE
C8: =IF(ISTEXT(D8),1) -> FALSE | N8: 290 | U8: =IF(V8>0,(W8+X8+V8)/2,W8+X8) -> #REF! | V8: =IF(O8="kompletna",N8*H8*0.0036*#REF!,0) -> 0 | W8: =G8*#REF! -> #REF! | Y8: =IF(P8="węgiel",U8*#REF!,IF(P8="gaz",U8*#REF!,IF(P8="drewno",U8*#REF!,IF(P8="pelet",U8*#REF!,IF(P8="olej opałowy",U8*#REF!,IF(P8="sieć ciepłownicza",0,IF(P8="prąd",0,0))))))) -> 0 | Z8: =IF(P8="węgiel",U8*#REF!,IF(P8="gaz",U8*#REF!,IF(P8="drewno",U8*#REF!,IF(P8="pelet",U8*#REF!,IF(P8="olej opałowy",U8*#REF!,IF(P8="sieć ciepłownicza",0,IF(P8="prąd",0,0))))))) -> 0 | AA8: =IF(P8="węgiel",P8*#REF!,IF(P8="gaz",U8*#REF!,IF(P8="drewno",U8*#REF!,IF(P8="pelet",U8*#REF!,IF(P8="olej opałowy",U8*#REF!,IF(P8="sieć ciepłownicza",U8*#REF!,IF(P8="prąd",0,0))))))) -> 0 | AB8: =IF(P8="węgiel",U8*#REF!,IF(P8="gaz",U8*#REF!,IF(P8="drewno",U8*#REF!,IF(P8="pelet",U8*#REF!,IF(P8="olej opałowy",U8*#REF!,IF(P8="sieć ciepłownicza",0,IF(P8="prąd",0,0))))))) -> 0 | AC8: =IF(P8="węgiel",U8*#REF!, IF(P8="gaz",U8*#REF!,IF(P8="drewno",U8*#REF!,IF(P8="pelet",U8*#REF!,IF(P8="olej opałowy",U8*#REF!,IF(P8="sieć ciepłownicza",0,IF(P8="prąd",0,0))))))) -> 0 | AD8: =IF(P8="węgiel",U8*#REF!, IF(P8="gaz",U8*#REF!, IF(P8="drewno",U8*#REF!,IF(P8="pelet",U8*#REF!,IF(P8="olej opałowy",U8*#REF!,IF(P8="sieć ciepłownicza",0,IF(P8="prąd",0,0))))))) -> 0 | AE8: =IF(P8="węgiel",U8*#REF!,IF(P8="gaz",U8*#REF!, IF(P8="drewno",U8*#REF!,IF(P8="pelet",U8*#REF!,IF(P8="pelet",U8*#REF!,IF(P8="olej opałowy",U8*#REF!,IF(P8="sieć ciepłownicza",0,IF(P8="prąd",0,0)))))))) -> 0 | AF8: 0 | AG8: 0 | AH8: 0 | AI8: 0 | AJ8: 0 | AK8: 0 | AL8: 0 | AM8: =U8 -> #REF! | AP8: FALSE | AQ8: =Y8 -> 0 | AR8: =Z8 -> 0 | AT8: =AB8 -> 0 | AU8: =AC8 -> 0 | AV8: =AD8 -> 0 | AW8: =AE8 -> 0 | BH8: =IF(G8<=1966,H8) -> 0 | BI8: =IF(O8="kompletna",BH8,IF(O8="częściowa",0.5*BH8)) -> FALSE | BJ8: =IF(G8>1966,IF(G8<=1985,H8)) -> FALSE | BK8: =IF(O8="kompletna",BJ8,IF(O8="częściowa",0.5*BJ8)) -> FALSE | BL8: =IF(G8>1985,IF(G8<=1992,H8)) -> FALSE | BM8: =IF(O8="kompletna",BL8,IF(O8="częściowa",0.5*BL8)) -> FALSE | BN8: =IF(G8>1992,IF(G8<=1996,H8)) -> FALSE | BO8: =IF(O8="kompletna",BN8,IF(O8="częściowa",0.5*BN8)) -> FALSE | BP8: =IF(G8>1996,IF(G8<=2014,H8)) -> FALSE | BQ8: =IF(O8="kompletna",BP8,IF(O8="częściowa",0.5*BP8)) -> FALSE | BR8: =IF(P8="węgiel",X8) -> FALSE | BS8: =IF(P8="gaz",U8) -> FALSE | BT8: =IF(P8="drewno",X8) -> FALSE | BU8: =IF(P8="pelet",X8) -> FALSE | BV8: =IF(P8="olej opałowy",X8) -> FALSE | BW8: =IF(P8="prąd",U8) -> FALSE | BX8: =IF(P8="sieć ciepłownicza",X8) -> FALSE | BY8: =IF(T8="węgiel",W8) -> FALSE | BZ8: =IF(T8="gaz",W8) -> FALSE | CA8: =IF(T8="drewno",W8) -> FALSE | CB8: =IF(T8="pelet",W8) -> FALSE | CC8: =IF(T8="olej opałowy",W8) -> FALSE | CD8: =IF(T8="prąd",W8) -> FALSE | CE8: =IF(P8="sieć ciepłownicza",W8) -> FALSE | CF8: =IF(P8="węgiel",U8) -> FALSE | CG8: =IF(P8="sieć ciepłownicza",U8) -> FALSE | CH8: =IF(P8="gaz",U8) -> FALSE | CI8: =IF(P8="drewno",U8) -> FALSE | CJ8: =IF(P8="pelet",U8) -> FALSE | CK8: =IF(P8="olej opałowy",U8) -> FALSE | CL8: =IF(P8="prąd",AO8) -> FALSE
A9: SUMA: | U9: =SUM(U5:U8) -> #REF! | V9: =SUM(V8:V8) -> 0 | W9: =SUM(W8:W8) -> #REF! | X9: =SUM(X8:X8) -> 0 | Y9: =SUM(Y5:Y8) -> 0 | Z9: =SUM(Z5:Z8) -> 0 | AA9: =SUM(AA5:AA8) -> #REF! | AB9: =SUM(AB5:AB8) -> 0 | AC9: =SUM(AC5:AC8) -> 0 | AD9: =SUM(AD5:AD8) -> 0 | AE9: =SUM(AE5:AE8) -> 0 | AF9: =SUM(AF8:AF8) -> 0 | AG9: =SUM(AG8:AG8) -> 0 | AH9: =SUM(AH8:AH8) -> 0 | AI9: =SUM(AI8:AI8) -> 0 | AJ9: =SUM(AJ8:AJ8) -> 0 | AK9: =SUM(AK8:AK8) -> 0 | AL9: =SUM(AL8:AL8) -> 0 | AM9: =SUM(AM8:AM8) -> #REF! | AO9: =SUM(AO5:AO8) -> 0 | AP9: =SUM(AP8:AP8) -> 0 | AQ9: =SUM(AQ5:AQ8) -> 0 | AR9: =SUM(AR5:AR8) -> 0 | AS9: =SUM(AS5:AS8) -> 0 | AT9: =SUM(AT5:AT8) -> 0 | AU9: =SUM(AU5:AU8) -> 0 | AV9: =SUM(AV5:AV8) -> 0 | AW9: =SUM(AW5:AW8) -> 0 | BH9: =SUM(BH8:BH8) -> 0 | BI9: =SUM(BI8:BI8) -> 0 | BJ9: =SUM(BJ8:BJ8) -> 0 | BK9: =SUM(BK8:BK8) -> 0 | BL9: =SUM(BL8:BL8) -> 0 | BM9: =SUM(BM8:BM8) -> 0 | BN9: =SUM(BN8:BN8) -> 0 | BO9: =SUM(BO8:BO8) -> 0 | ... CL9: =SUM(CL8:CL8) -> 0 | CM9: =SUM(CF9:CL9) -> 0
AQ10: =AQ9 -> 0 | AR10: =AR9 -> 0 | AS10: =AS9/100 -> 0 | AT10: =AT9*1000 -> 0 | AU10: =AU9 -> 0 | AV10: =AV9 -> 0 | AW10: =AW9 -> 0 | BH10: =BH9/$F$372 -> #DIV/0! | BI10: =BI9/BH9 -> #DIV/0! | BJ10: =BJ9/$F$372 -> #DIV/0! | BK10: =BK9/BJ9 -> #DIV/0! | BL10: =BL9/$F$372 -> #DIV/0! | BM10: =BM9/BL9 -> #DIV/0! | BN10: =BN9/$F$372 -> #DIV/0! | BO10: =BO9/BN9 -> #DIV/0! | BP10: =BP9/$F$372 -> #DIV/0! | BQ10: =BQ9/BP9 -> #DIV/0!
BH13: paliwa w gminie ankiety | BK13: uśrednione | BN13: wiek budynków | BQ13: odsetek termo | BR13: pow łącznie
BH14: węgiel | BI14: =CF9 -> 0 | BJ14: =BI14/$BI$22 -> 0 | BK14: =CF9 -> 0 | BN14: do 1966 | BO14: =BH9 -> 0 | BP14: =BO14/#REF! -> #REF! | BQ14: =BI10 -> #DIV/0! | BR14: =BO14/#REF! -> #REF!
BH15: sieć | BI15: =CG9 -> 0 | BJ15: =BI15/$BI$22 -> 0 | BK15: 0
BH16: gaz | BI16: =CH9 -> 0 | BJ16: =BI16/$BI$22 -> 0 | BK16: =CH9 -> 0 | BN16: 1967-1985 | BO16: =BJ9 -> 0 | BP16: =BO16/#REF! -> #REF! | BQ16: =BK10 -> #DIV/0! | BR16: =BO16/#REF! -> #REF!
BH17: drewno | BI17: =CI9 -> 0 | BJ17: =BI17/$BI$22 -> 0 | BK17: =BJ17*$BK$22 -> #REF! | BN17: 1986-1992 | BO17: =BL9 -> 0 | BP17: =BO17/#REF! -> #REF! | BQ17: =BM10 -> #DIV/0! | BR17: =BO17/#REF! -> #REF!
BH18: pelet | BI18: 0 | BJ18: =BI18/$BI$22 -> 0 | BK18: =BJ18*$BK$22 -> #REF! | BN18: 1993-1996 | BO18: =BN9 -> 0 | BP18: =BO18/#REF! -> #REF! | BQ18: =BO10 -> #DIV/0! | BR18: =BO18/#REF! -> #REF!
BH19: olej | BI19: 0 | BJ19: =BI19/$BI$22 -> 0 | BK19: =BJ19*$BK$22 -> #REF! | BN19: Od 1997 | BO19: =BP9 -> 0 | BP19: =BO19/#REF! -> #REF! | BQ19: =BQ10 -> #DIV/0! | BR19: =BO19/#REF! -> #REF!
BH20: prąd | BI20: =AO9*3.6 -> 0 | BJ20: =BI20/$BI$22 -> 0 | BK20: =BJ20*$BK$22 -> #REF! | BO20: =SUM(BO14:BO19) -> 0
BH21: kol.słon. | BI21: =5*520/1000*3.6*2 -> 18.72 | BJ21: =BI21/$BI$22 -> 1 | BK21: =BJ21*$BK$22 -> #REF! | BP21: =1-BO20 -> 1
BH22: łącznie | BI22: =SUM(BI14:BI21) -> 18.72 | BJ22: =SUM(BJ14:BJ21) -> 1 | BK22: =U9 -> #REF!
D32: *ilośc CO2 podana w setkach ton
K39: *CO2 podane w setkach ton

Sheet Przemy
K1: Baza emisji zanieczyszczeń dla sektora przemysłowego (na podstawie otrzymanych zwrotnie ankiet)
K2: Dane do obliczeń emisji | Y2: Emisja łącznie [Mg/rok]
A3: Lp | B3: Typ budynku | C3: Ulica | D3: nr | E3: Rok budowy | F3: Pow | G3: Liczba mieszkańców | I3: Wskażnik energo (kWh/m2*rok) | J3: termo | K3: Źródło ciepła | L3: Źródło cwu jeśli inne niż co | M3: Zużycie energii cieplnej łącznie [GJ] | N3: Zużycie energii na co [GJ] | O3: Zużycie energii na cwu [GJ] jeśli inne źródło | P3: Zużycie energii pierwotnej [GJ] | Q3: Zużycie energii elektrycznej cele inne niż co oraz cwu [MWh] | R3: Emisja z CO lub CO+CWU | AG3: Energia pierwotna w gminie pochodząca z danego nośnika wg ankiet
G4: oblicz | R4: PM 10 | S4: PM 2,5 | T4: Co2 | U4: BaP | V4: S02 | W4: N0x | X4: CO | Y4: PM 10 | Z4: PM 2,5 | AA4: CO2* | AB4: BaP | AC4: S02 | AD4: N0x | AE4: CO | AG4: Nośnik energii | AH4: [GJ] | AI4: [%]
A5: 1 | B5: 2 | C5: 3 | E5: 4 | F5: 4 | G5: 7 | I5: 5 | J5: 6 | K5: 1 | L5: 11 | M5: 11 | N5: 12 | O5: 13 | P5: 2 | Q5: 3 | R5: =Q5+1 -> 4 | S5: =R5+1 -> 5 | T5: =S5+1 -> 6 | U5: =T5+1 -> 7 | V5: =U5+1 -> 8 | W5: 20 | X5: 21 | Y5: =Q5+1 -> 4 | Z5: =R5+1 -> 5 | AA5: =S5+1 -> 6 | AB5: =T5+1 -> 7 | AC5: =U5+1 -> 8 | AD5: =V5+1 -> 9 | AE5: 10 | AG5: węgiel
A6: 1 | B6: wolnostojący | C6: Niwka | D6: 90 | E6: 1955 | F6: 80 | G6: 3 | I6: =IF(E6<=1966,#REF!,IF(E6>1966,IF(E6<=1985,#REF!,IF(E6>1985,IF(E6<=1992,#REF!,IF(E6>1992,IF(E6<=1996,#REF!,IF(E6>1996,IF(E6<=2013,#REF!))))))))) -> #REF! | J6: częściowa | K6: węgiel | P6: =55+4 -> 59 | Q6: =(14000+12000+1000)/1000 -> 27 | R6: =IF(K6="węgiel",P6*#REF!,IF(K6="gaz",P6*#REF!,IF(K6="drewno",P6*#REF!,IF(K6="pelet",P6*#REF!,IF(K6="olej opałowy",P6*#REF!,IF(K6="sieć ciepłownicza",0,IF(K6="prąd",0,0))))))) -> #REF! | S6: =IF(K6="węgiel",P6*#REF!,IF(K6="gaz",P6*#REF!,IF(K6="drewno",P6*#REF!,IF(K6="pelet",P6*#REF!,IF(K6="olej opałowy",P6*#REF!,IF(K6="sieć ciepłownicza",0,IF(K6="prąd",0,0))))))) -> #REF! | T6: =IF(K6="węgiel",P6*#REF!,IF(K6="gaz",P6*#REF!,IF(K6="drewno",P6*#REF!,IF(K6="pelet",P6*#REF!,IF(K6="olej opałowy",P6*#REF!,IF(K6="sieć ciepłownicza",P6*#REF!,IF(K6="prąd",0,0))))))) -> #REF! | U6: =IF(K6="węgiel",P6*#REF!,IF(K6="gaz",P6*#REF!,IF(K6="drewno",P6*#REF!,IF(K6="pelet",P6*#REF!,IF(K6="olej opałowy",P6*#REF!,IF(K6="sieć ciepłownicza",0,IF(K6="prąd",0,0))))))) -> #REF! | V6: =IF(K6="węgiel",P6*#REF!, IF(K6="gaz",P6*#REF!,IF(K6="drewno",P6*#REF!,IF(K6="pelet",P6*#REF!,IF(K6="olej opałowy",P6*#REF!,IF(K6="sieć ciepłownicza",0,IF(K6="prąd",0,0))))))) -> #REF! | W6: =IF(K6="węgiel",P6*#REF!, IF(K6="gaz",P6*#REF!, IF(K6="drewno",P6*#REF!,IF(K6="pelet",P6*#REF!,IF(K6="olej opałowy",P6*#REF!,IF(K6="sieć ciepłownicza",0,IF(K6="prąd",0,0))))))) -> #REF! | X6: =IF(K6="węgiel",P6*#REF!,IF(K6="gaz",P6*#REF!, IF(K6="drewno",P6*#REF!,IF(K6="pelet",P6*#REF!,IF(K6="pelet",P6*#REF!,IF(K6="olej opałowy",P6*#REF!,IF(K6="sieć ciepłownicza",0,IF(K6="prąd",0,0)))))))) -> #REF! | Y6: =R6 -> #REF! | Z6: =S6 -> #REF! | AA6: =T6+Q6*#REF! -> #REF! | AB6: =U6 -> #REF! | AC6: =V6 -> #REF! | AD6: =W6 -> #REF! | AE6: =X6 -> #REF! | AG6: gaz | AK6: 0.04 | AL6: GJ/m3 | AM6: 5400 | AN6: =AK6*AM6 -> 216
I7: =IF(E7<=1966,#REF!,IF(E7>1966,IF(E7<=1985,#REF!,IF(E7>1985,IF(E7<=1992,#REF!,IF(E7>1992,IF(E7<=1996,#REF!,IF(E7>1996,IF(E7<=2013,#REF!))))))))) -> #REF! | K7: gaz | P7: =5400*#REF! -> #REF! | R7: =IF(K7="węgiel",P7*#REF!,IF(K7="gaz",P7*#REF!,IF(K7="drewno",P7*#REF!,IF(K7="pelet",P7*#REF!,IF(K7="olej opałowy",P7*#REF!,IF(K7="sieć ciepłownicza",0,IF(K7="prąd",0,0))))))) -> #REF! | S7: =IF(K7="węgiel",P7*#REF!,IF(K7="gaz",P7*#REF!,IF(K7="drewno",P7*#REF!,IF(K7="pelet",P7*#REF!,IF(K7="olej opałowy",P7*#REF!,IF(K7="sieć ciepłownicza",0,IF(K7="prąd",0,0))))))) -> #REF! | T7: =IF(K7="węgiel",P7*#REF!,IF(K7="gaz",P7*#REF!,IF(K7="drewno",P7*#REF!,IF(K7="pelet",P7*#REF!,IF(K7="olej opałowy",P7*#REF!,IF(K7="sieć ciepłownicza",P7*#REF!,IF(K7="prąd",0,0))))))) -> #REF! | U7: =IF(K7="węgiel",P7*#REF!,IF(K7="gaz",P7*#REF!,IF(K7="drewno",P7*#REF!,IF(K7="pelet",P7*#REF!,IF(K7="olej opałowy",P7*#REF!,IF(K7="sieć ciepłownicza",0,IF(K7="prąd",0,0))))))) -> #REF! | V7: =IF(K7="węgiel",P7*#REF!, IF(K7="gaz",P7*#REF!,IF(K7="drewno",P7*#REF!,IF(K7="pelet",P7*#REF!,IF(K7="olej opałowy",P7*#REF!,IF(K7="sieć ciepłownicza",0,IF(K7="prąd",0,0))))))) -> #REF! | W7: =IF(K7="węgiel",P7*#REF!, IF(K7="gaz",P7*#REF!, IF(K7="drewno",P7*#REF!,IF(K7="pelet",P7*#REF!,IF(K7="olej opałowy",P7*#REF!,IF(K7="sieć ciepłownicza",0,IF(K7="prąd",0,0))))))) -> #REF! | X7: =IF(K7="węgiel",P7*#REF!,IF(K7="gaz",P7*#REF!, IF(K7="drewno",P7*#REF!,IF(K7="pelet",P7*#REF!,IF(K7="pelet",P7*#REF!,IF(K7="olej opałowy",P7*#REF!,IF(K7="sieć ciepłownicza",0,IF(K7="prąd",0,0)))))))) -> #REF! | Y7: =R7 -> #REF! | Z7: =S7 -> #REF! | AA7: =T7+Q7*#REF! -> #REF! | AB7: =U7 -> #REF! | AC7: =V7 -> #REF! | AD7: =W7 -> #REF! | AE7: =X7 -> #REF! | AG7: drewno
A8: 2 | B8: wolnostojący | C8: Zabawa | D8: 94 | E8: 1991 | F8: 200 | G8: 3 | I8: =IF(E8<=1966,#REF!,IF(E8>1966,IF(E8<=1985,#REF!,IF(E8>1985,IF(E8<=1992,#REF!,IF(E8>1992,IF(E8<=1996,#REF!,IF(E8>1996,IF(E8<=2013,#REF!))))))))) -> #REF! | J8: kompletna | K8: drewno | R8: =IF(K8="węgiel",P8*#REF!,IF(K8="gaz",P8*#REF!,IF(K8="drewno",P8*#REF!,IF(K8="pelet",P8*#REF!,IF(K8="olej opałowy",P8*#REF!,IF(K8="sieć ciepłownicza",0,IF(K8="prąd",0,0))))))) -> #REF! | S8: =IF(K8="węgiel",P8*#REF!,IF(K8="gaz",P8*#REF!,IF(K8="drewno",P8*#REF!,IF(K8="pelet",P8*#REF!,IF(K8="olej opałowy",P8*#REF!,IF(K8="sieć ciepłownicza",0,IF(K8="prąd",0,0))))))) -> #REF! | T8: =IF(K8="węgiel",P8*#REF!,IF(K8="gaz",P8*#REF!,IF(K8="drewno",P8*#REF!,IF(K8="pelet",P8*#REF!,IF(K8="olej opałowy",P8*#REF!,IF(K8="sieć ciepłownicza",P8*#REF!,IF(K8="prąd",0,0))))))) -> #REF! | U8: =IF(K8="węgiel",P8*#REF!,IF(K8="gaz",P8*#REF!,IF(K8="drewno",P8*#REF!,IF(K8="pelet",P8*#REF!,IF(K8="olej opałowy",P8*#REF!,IF(K8="sieć ciepłownicza",0,IF(K8="prąd",0,0))))))) -> #REF! | V8: =IF(K8="węgiel",P8*#REF!, IF(K8="gaz",P8*#REF!,IF(K8="drewno",P8*#REF!,IF(K8="pelet",P8*#REF!,IF(K8="olej opałowy",P8*#REF!,IF(K8="sieć ciepłownicza",0,IF(K8="prąd",0,0))))))) -> #REF! | W8: =IF(K8="węgiel",P8*#REF!, IF(K8="gaz",P8*#REF!, IF(K8="drewno",P8*#REF!,IF(K8="pelet",P8*#REF!,IF(K8="olej opałowy",P8*#REF!,IF(K8="sieć ciepłownicza",0,IF(K8="prąd",0,0))))))) -> #REF! | X8: =IF(K8="węgiel",P8*#REF!,IF(K8="gaz",P8*#REF!, IF(K8="drewno",P8*#REF!,IF(K8="pelet",P8*#REF!,IF(K8="pelet",P8*#REF!,IF(K8="olej opałowy",P8*#REF!,IF(K8="sieć ciepłownicza",0,IF(K8="prąd",0,0)))))))) -> #REF! | Y8: =R8 -> #REF! | Z8: =S8 -> #REF! | AA8: =T8+Q8*#REF! -> #REF! | AB8: =U8 -> #REF! | AC8: =V8 -> #REF! | AD8: =W8 -> #REF! | AE8: =X8 -> #REF! | AG8: pelet
I9: =IF(E9<=1966,#REF!,IF(E9>1966,IF(E9<=1985,#REF!,IF(E9>1985,IF(E9<=1992,#REF!,IF(E9>1992,IF(E9<=1996,#REF!,IF(E9>1996,IF(E9<=2013,#REF!))))))))) -> #REF! | K9: pelet | R9: =IF(K9="węgiel",P9*#REF!,IF(K9="gaz",P9*#REF!,IF(K9="drewno",P9*#REF!,IF(K9="pelet",P9*#REF!,IF(K9="olej opałowy",P9*#REF!,IF(K9="sieć ciepłownicza",0,IF(K9="prąd",0,0))))))) -> #REF! | S9: =IF(K9="węgiel",P9*#REF!,IF(K9="gaz",P9*#REF!,IF(K9="drewno",P9*#REF!,IF(K9="pelet",P9*#REF!,IF(K9="olej opałowy",P9*#REF!,IF(K9="sieć ciepłownicza",0,IF(K9="prąd",0,0))))))) -> #REF! | T9: =IF(K9="węgiel",P9*#REF!,IF(K9="gaz",P9*#REF!,IF(K9="drewno",P9*#REF!,IF(K9="pelet",P9*#REF!,IF(K9="olej opałowy",P9*#REF!,IF(K9="sieć ciepłownicza",P9*#REF!,IF(K9="prąd",0,0))))))) -> #REF! | U9: =IF(K9="węgiel",P9*#REF!,IF(K9="gaz",P9*#REF!,IF(K9="drewno",P9*#REF!,IF(K9="pelet",P9*#REF!,IF(K9="olej opałowy",P9*#REF!,IF(K9="sieć ciepłownicza",0,IF(K9="prąd",0,0))))))) -> #REF! | V9: =IF(K9="węgiel",P9*#REF!, IF(K9="gaz",P9*#REF!,IF(K9="drewno",P9*#REF!,IF(K9="pelet",P9*#REF!,IF(K9="olej opałowy",P9*#REF!,IF(K9="sieć ciepłownicza",0,IF(K9="prąd",0,0))))))) -> #REF! | W9: =IF(K9="węgiel",P9*#REF!, IF(K9="gaz",P9*#REF!, IF(K9="drewno",P9*#REF!,IF(K9="pelet",P9*#REF!,IF(K9="olej opałowy",P9*#REF!,IF(K9="sieć ciepłownicza",0,IF(K9="prąd",0,0))))))) -> #REF! | X9: =IF(K9="węgiel",P9*#REF!,IF(K9="gaz",P9*#REF!, IF(K9="drewno",P9*#REF!,IF(K9="pelet",P9*#REF!,IF(K9="pelet",P9*#REF!,IF(K9="olej opałowy",P9*#REF!,IF(K9="sieć ciepłownicza",0,IF(K9="prąd",0,0)))))))) -> #REF! | Y9: =R9 -> #REF! | Z9: =S9 -> #REF! | AA9: =T9+Q9*#REF! -> #REF! | AB9: =U9 -> #REF! | AC9: =V9 -> #REF! | AD9: =W9 -> #REF! | AE9: =X9 -> #REF! | AG9: olej
A10: 3 | B10: wolnostojący | C10: Biskupice Radłowskie Bohaterów Wrzesnia | D10: 21 | E10: 1960 | F10: 97 | G10: 3 | I10: =IF(E10<=1966,#REF!,IF(E10>1966,IF(E10<=1985,#REF!,IF(E10>1985,IF(E10<=1992,#REF!,IF(E10>1992,IF(E10<=1996,#REF!,IF(E10>1996,IF(E10<=2013,#REF!))))))))) -> #REF! | J10: kompletna | K10: olej opałowy | R10: =IF(K10="węgiel",P10*#REF!,IF(K10="gaz",P10*#REF!,IF(K10="drewno",P10*#REF!,IF(K10="pelet",P10*#REF!,IF(K10="olej opałowy",P10*#REF!,IF(K10="sieć ciepłownicza",0,IF(K10="prąd",0,0))))))) -> #REF! | S10: =IF(K10="węgiel",P10*#REF!,IF(K10="gaz",P10*#REF!,IF(K10="drewno",P10*#REF!,IF(K10="pelet",P10*#REF!,IF(K10="olej opałowy",P10*#REF!,IF(K10="sieć ciepłownicza",0,IF(K10="prąd",0,0))))))) -> #REF! | T10: =IF(K10="węgiel",P10*#REF!,IF(K10="gaz",P10*#REF!,IF(K10="drewno",P10*#REF!,IF(K10="pelet",P10*#REF!,IF(K10="olej opałowy",P10*#REF!,IF(K10="sieć ciepłownicza",P10*#REF!,IF(K10="prąd",0,0))))))) -> #REF! | U10: =IF(K10="węgiel",P10*#REF!,IF(K10="gaz",P10*#REF!,IF(K10="drewno",P10*#REF!,IF(K10="pelet",P10*#REF!,IF(K10="olej opałowy",P10*#REF!,IF(K10="sieć ciepłownicza",0,IF(K10="prąd",0,0))))))) -> #REF! | V10: =IF(K10="węgiel",P10*#REF!, IF(K10="gaz",P10*#REF!,IF(K10="drewno",P10*#REF!,IF(K10="pelet",P10*#REF!,IF(K10="olej opałowy",P10*#REF!,IF(K10="sieć ciepłownicza",0,IF(K10="prąd",0,0))))))) -> #REF! | W10: =IF(K10="węgiel",P10*#REF!, IF(K10="gaz",P10*#REF!, IF(K10="drewno",P10*#REF!,IF(K10="pelet",P10*#REF!,IF(K10="olej opałowy",P10*#REF!,IF(K10="sieć ciepłownicza",0,IF(K10="prąd",0,0))))))) -> #REF! | X10: =IF(K10="węgiel",P10*#REF!,IF(K10="gaz",P10*#REF!, IF(K10="drewno",P10*#REF!,IF(K10="pelet",P10*#REF!,IF(K10="pelet",P10*#REF!,IF(K10="olej opałowy",P10*#REF!,IF(K10="sieć ciepłownicza",0,IF(K10="prąd",0,0)))))))) -> #REF! | Y10: =R10 -> #REF! | Z10: =S10 -> #REF! | AA10: =T10+Q10*#REF! -> #REF! | AB10: =U10 -> #REF! | AC10: =V10 -> #REF! | AD10: =W10 -> #REF! | AE10: =X10 -> #REF! | AG10: prąd
I11: =IF(E11<=1966,#REF!,IF(E11>1966,IF(E11<=1985,#REF!,IF(E11>1985,IF(E11<=1992,#REF!,IF(E11>1992,IF(E11<=1996,#REF!,IF(E11>1996,IF(E11<=2013,#REF!))))))))) -> #REF! | K11: prąd | R11: =IF(K11="węgiel",P11*#REF!,IF(K11="gaz",P11*#REF!,IF(K11="drewno",P11*#REF!,IF(K11="pelet",P11*#REF!,IF(K11="olej opałowy",P11*#REF!,IF(K11="sieć ciepłownicza",0,IF(K11="prąd",0,0))))))) -> 0 | S11: =IF(K11="węgiel",P11*#REF!,IF(K11="gaz",P11*#REF!,IF(K11="drewno",P11*#REF!,IF(K11="pelet",P11*#REF!,IF(K11="olej opałowy",P11*#REF!,IF(K11="sieć ciepłownicza",0,IF(K11="prąd",0,0))))))) -> 0 | T11: =IF(K11="węgiel",P11*#REF!,IF(K11="gaz",P11*#REF!,IF(K11="drewno",P11*#REF!,IF(K11="pelet",P11*#REF!,IF(K11="olej opałowy",P11*#REF!,IF(K11="sieć ciepłownicza",P11*#REF!,IF(K11="prąd",0,0))))))) -> 0 | U11: =IF(K11="węgiel",P11*#REF!,IF(K11="gaz",P11*#REF!,IF(K11="drewno",P11*#REF!,IF(K11="pelet",P11*#REF!,IF(K11="olej opałowy",P11*#REF!,IF(K11="sieć ciepłownicza",0,IF(K11="prąd",0,0))))))) -> 0 | V11: =IF(K11="węgiel",P11*#REF!, IF(K11="gaz",P11*#REF!,IF(K11="drewno",P11*#REF!,IF(K11="pelet",P11*#REF!,IF(K11="olej opałowy",P11*#REF!,IF(K11="sieć ciepłownicza",0,IF(K11="prąd",0,0))))))) -> 0 | W11: =IF(K11="węgiel",P11*#REF!, IF(K11="gaz",P11*#REF!, IF(K11="drewno",P11*#REF!,IF(K11="pelet",P11*#REF!,IF(K11="olej opałowy",P11*#REF!,IF(K11="sieć ciepłownicza",0,IF(K11="prąd",0,0))))))) -> 0 | X11: =IF(K11="węgiel",P11*#REF!,IF(K11="gaz",P11*#REF!, IF(K11="drewno",P11*#REF!,IF(K11="pelet",P11*#REF!,IF(K11="pelet",P11*#REF!,IF(K11="olej opałowy",P11*#REF!,IF(K11="sieć ciepłownicza",0,IF(K11="prąd",0,0)))))))) -> 0 | Y11: =R11 -> 0 | Z11: =S11 -> 0 | AA11: =T11+Q11*#REF! -> #REF! | AB11: =U11 -> 0 | AC11: =V11 -> 0 | AD11: =W11 -> 0 | AE11: =X11 -> 0 | AG11: OŹE (kolektory sloneczne)
A12: 4 | B12: wolnostojący | C12: Biskupice Radłowskie Bohaterów Wrzesnia | D12: 23 | E12: 1920 | F12: 100 | G12: 3 | I12: =IF(E12<=1966,#REF!,IF(E12>1966,IF(E12<=1985,#REF!,IF(E12>1985,IF(E12<=1992,#REF!,IF(E12>1992,IF(E12<=1996,#REF!,IF(E12>1996,IF(E12<=2013,#REF!))))))))) -> #REF! | J12: częściowa | K12: OŹE kol. słon. | R12: =IF(K12="węgiel",P12*#REF!,IF(K12="gaz",P12*#REF!,IF(K12="drewno",P12*#REF!,IF(K12="pelet",P12*#REF!,IF(K12="olej opałowy",P12*#REF!,IF(K12="sieć ciepłownicza",0,IF(K12="prąd",0,0))))))) -> 0 | S12: =IF(K12="węgiel",P12*#REF!,IF(K12="gaz",P12*#REF!,IF(K12="drewno",P12*#REF!,IF(K12="pelet",P12*#REF!,IF(K12="olej opałowy",P12*#REF!,IF(K12="sieć ciepłownicza",0,IF(K12="prąd",0,0))))))) -> 0 | T12: =IF(K12="węgiel",P12*#REF!,IF(K12="gaz",P12*#REF!,IF(K12="drewno",P12*#REF!,IF(K12="pelet",P12*#REF!,IF(K12="olej opałowy",P12*#REF!,IF(K12="sieć ciepłownicza",P12*#REF!,IF(K12="prąd",0,0))))))) -> 0 | U12: =IF(K12="węgiel",P12*#REF!,IF(K12="gaz",P12*#REF!,IF(K12="drewno",P12*#REF!,IF(K12="pelet",P12*#REF!,IF(K12="olej opałowy",P12*#REF!,IF(K12="sieć ciepłownicza",0,IF(K12="prąd",0,0))))))) -> 0 | V12: =IF(K12="węgiel",P12*#REF!, IF(K12="gaz",P12*#REF!,IF(K12="drewno",P12*#REF!,IF(K12="pelet",P12*#REF!,IF(K12="olej opałowy",P12*#REF!,IF(K12="sieć ciepłownicza",0,IF(K12="prąd",0,0))))))) -> 0 | W12: =IF(K12="węgiel",P12*#REF!, IF(K12="gaz",P12*#REF!, IF(K12="drewno",P12*#REF!,IF(K12="pelet",P12*#REF!,IF(K12="olej opałowy",P12*#REF!,IF(K12="sieć ciepłownicza",0,IF(K12="prąd",0,0))))))) -> 0 | X12: =IF(K12="węgiel",P12*#REF!,IF(K12="gaz",P12*#REF!, IF(K12="drewno",P12*#REF!,IF(K12="pelet",P12*#REF!,IF(K12="pelet",P12*#REF!,IF(K12="olej opałowy",P12*#REF!,IF(K12="sieć ciepłownicza",0,IF(K12="prąd",0,0)))))))) -> 0 | Y12: =R12 -> 0 | Z12: =S12 -> 0 | AA12: =T12+Q12*#REF! -> #REF! | AB12: =U12 -> 0 | AC12: =V12 -> 0 | AD12: =W12 -> 0 | AE12: =X12 -> 0 | AG12: łącznie | AH12: =SUM(AH5:AH11) -> 0
G13: brak | H13: =J13/$J$14 -> #DIV/0! | I13: cz | J13: =COUNTIF(J6:J12,"brak") -> 0 | K13: Suma: | Q13: =Q6 -> 27 | Y13: =SUM(Y6:Y12) -> #REF! | Z13: =SUM(Z6:Z12) -> #REF! | AA13: =SUM(AA6:AA12) -> #REF! | AB13: =SUM(AB6:AB12) -> #REF! | AC13: =SUM(AC6:AC12) -> #REF! | AD13: =SUM(AD6:AD12) -> #REF! | AE13: =SUM(AE6:AE12) -> #REF!
J14: =SUM(J13:J13) -> 0 | Y14: =Y13 -> #REF! | Z14: =Z13 -> #REF! | AA14: =AA13/100 -> #REF! | AB14: =AB13 -> #REF! | AC14: =AC13 -> #REF! | AD14: =AD13 -> #REF! | AE14: =AE13 -> #REF!
D16: Energia elektryczna
D17: 850 | E17: szt | H17: efektywn z 1m2 kol sł
D18: 1584 | E18: MWh | H18: =520 -> 520 | J18: kWh
C19: 3.7 | D19: =D18/D17 -> 1.8635294 | E19: MWh/dom
C20: os/gosp | D20: =(#REF!+#REF!)/D21 -> #REF! | E20: =D20*E21/D21 -> #REF! | F20: MWh/os
C21: gospo | D21: 191 | E21: =D21*D19 -> 355.93412
G22: cała gmina
G23: mieszk | H23: 2707
G24: pow mieszk | H24: 241161
G25: GJ | H25: =H24/#REF!*#REF! -> #REF!
K29: *CO2 podane w setkach ton

Sheet Pozostałe
A1: Baza emisji zanieczyszczeń dla sektora produkcyjnego i przemysłowego (na podstawie ankiet od przedsiębiorców)
A2: Lp | B2: spr | D2: Nazwa budynku | E2: Lokalizacja | F2: Rok budowy | G2: Powierzchnia ogrzewana (m2) | H2: Ociepl. ścian | I2: Ociepl. stropu | J2: Okna i drzwi | K2: Liczba osób | M2: Wskażnik energo (kWh/m2*rok) | N2: termo | O2: Źródło ciepła | P2: Ilość zużywanego nośnika rocznie [Mg] w przyp. gazu i oleju [m3] | Q2: Rok produkcji kotła | R2: kW | S2: Moc kotła [kW] | T2: Źródło cwu jeśli inne niż co | U2: Zużycie energii cieplnej łącznie [GJ] | V2: Zużycie energii na co [GJ] | W2: Zużycie energii na cwu [GJ] jeśli inne źródło | X2: Zużycie energii na co [GJ] | Y2: Emisja z CO lub CO+CWU | AF2: 200 | AG2: >50 kW | AM2: Emisja z CWU - oddzielne źródło | AT2: Produkcja energii pierwotnej [GJ] | AU2: Zużycie energii elektr. łącznie [MWh/rok] | AV2: Emisja łącznie | BC2: Czy jest OŹE | BD2: Jeśli tak wskaż typ | BE2: Ilość paneli | BF2: Zaintere- sowanie wymianą źródła ciepła | BG2: Jeśli tak wskaż typ | BH2: Data planowanej inwestycji | BI2: Ilość energii odzyskiwanej | BJ2: Na cele | BK2: Opis systemu odzysku ciepła | BN2: do 1966 | BO2: % termo | BP2: 1967-1985 | BQ2: % termo | BR2: 1986-1992 | BS2: % termo | BT2: 1993-1996 | BU2: % termo | BV2: Od 1997 | BX2: węgiel | BY2: gaz | BZ2: drewno | CA2: pelet | CB2: olej | CC2: prąd | CD2: węgiel | CE2: gaz | CF2: drewno | CG2: pelet | CH2: olej | CI2: prąd
Y3: PM 10 | Z3: PM 2,5 | AA3: Co2 | AB3: BaP | AC3: S02 | AD3: N0x | AE3: CO | AF3: PM 10 | AG3: PM 2,5 | AH3: Co2 | AI3: BaP | AJ3: S02 | AK3: N0x | AL3: CO | AM3: PM 10 | AN3: PM 2,5 | AO3: Co2 | AP3: BaP | AQ3: S02 | AR3: N0x | AS3: CO | AV3: PM 10 | AW3: PM 2,5 | AX3: CO2 | AY3: BaP | AZ3: S02 | BA3: N0x | BB3: CO
A4: 1 | D4: 2 | E4: 3 | F4: 4 | G4: 5 | H4: 6 | I4: 7 | J4: 8 | K4: 6 | M4: 5 | N4: 10 | O4: 4 | P4: 5 | Q4: 6 | R4: 100 | S4: 7 | T4: 15 | U4: 7 | V4: 8 | W4: 9 | X4: 10 | Y4: 15 | Z4: 16 | AA4: 17 | AB4: 18 | AC4: 19 | AD4: 20 | AE4: 21 | AM4: 29 | AN4: 30 | AO4: 31 | AP4: 32 | AQ4: 33 | AR4: 34 | AS4: 35 | AT4: 9 | AU4: 8 | AV4: 9 | AW4: 10 | AX4: 11 | AY4: =AX4+1 -> 12 | AZ4: =AY4+1 -> 13 | BA4: =AZ4+1 -> 14 | BB4: =BA4+1 -> 15 | BC4: =BB4+1 -> 16 | BD4: =BC4+1 -> 17 | BE4: =BD4+1 -> 18 | BF4: =BE4+1 -> 19 | ... BK4: =BJ4+1 -> 24
A5: 1. | C5: =IF(ISTEXT(D5),1) -> FALSE | U5: =X5 -> 0 | V5: =IF(N5="kompletna",M5*G5*0.0036*'[2]Założenia,wskaźniki, listy'!$H$13,IF(N5="częściowa",M5*G5*0.0036*'[2]Założenia,wskaźniki, listy'!$H$14,IF(N5="brak",M5*G5*0.0036*'[2]Założenia,wskaźniki, listy'!$H$15,0))) -> 0 | W5: =K5*'[3]Założenia,wskaźniki, listy'!$L$16 -> 0 | X5: =IF(O5="węgiel",P5*'[3]Założenia,wskaźniki, listy'!$B$4,IF(O5="gaz",P5*'[3]Założenia,wskaźniki, listy'!$B$5,IF(O5="drewno",P5*'[3]Założenia,wskaźniki, listy'!$B$6,IF(O5="pelet",P5*'[3]Założenia,wskaźniki, listy'!$B$7,IF(O5="olej opałowy",P5*'[3]Założenia,wskaźniki, listy'!$B$8,IF(O5="sieć ciepłownicza",0,0)))))) -> 0 | Y5: =IF(O5="węgiel",W5*'[3]Założenia,wskaźniki, listy'!$C$44,IF(O5="gaz",W5*'[3]Założenia,wskaźniki, listy'!$D$44,IF(O5="drewno",W5*'[3]Założenia,wskaźniki, listy'!$E$44,IF(O5="pelet",W5*'[3]Założenia,wskaźniki, listy'!$F$44,IF(O5="olej opałowy",W5*'[3]Założenia,wskaźniki, listy'!$G$44,IF(O5="sieć ciepłownicza",0,IF(O5="prąd",0,0))))))) -> 0 | Z5: =IF(P5="węgiel",X5*'[4]Założenia,wskaźniki, listy'!$C$45,IF(P5="gaz",X5*'[4]Założenia,wskaźniki, listy'!$D$45,IF(P5="drewno",X5*'[4]Założenia,wskaźniki, listy'!$E$45,IF(P5="pelet",X5*'[4]Założenia,wskaźniki, listy'!$F$45,IF(P5="olej opałowy",X5*'[4]Założenia,wskaźniki, listy'!$G$45,IF(P5="sieć ciepłownicza",0,IF(P5="prąd",0,0))))))) -> 0 | AA5: =IF(P5="węgiel",X5*'[4]Założenia,wskaźniki, listy'!$C$46,IF(P5="gaz",X5*'[4]Założenia,wskaźniki, listy'!$D$46,IF(P5="drewno",X5*'[4]Założenia,wskaźniki, listy'!$E$46,IF(P5="pelet",X5*'[4]Założenia,wskaźniki, listy'!$F$46,IF(P5="olej opałowy",X5*'[4]Założenia,wskaźniki, listy'!$G$46,IF(P5="sieć ciepłownicza",0,IF(P5="prąd",0,0))))))) -> 0 | AB5: =IF(P5="węgiel",X5*'[4]Założenia,wskaźniki, listy'!$C$47,IF(P5="gaz",X5*'[4]Założenia,wskaźniki, listy'!$D$47,IF(P5="drewno",X5*'[4]Założenia,wskaźniki, listy'!$E$47,IF(P5="pelet",X5*'[4]Założenia,wskaźniki, listy'!$F$47,IF(P5="olej opałowy",X5*'[4]Założenia,wskaźniki, listy'!$G$47,IF(P5="sieć ciepłownicza",0,IF(P5="prąd",0,0))))))) -> 0 | AC5: =IF(P5="węgiel",X5*'[4]Założenia,wskaźniki, listy'!$C$48,IF(P5="gaz",X5*'[4]Założenia,wskaźniki, listy'!$D$48,IF(P5="drewno",X5*'[4]Założenia,wskaźniki, listy'!$E$48,IF(P5="pelet",X5*'[4]Założenia,wskaźniki, listy'!$F$48,IF(P5="olej opałowy",X5*'[4]Założenia,wskaźniki, listy'!$G$48,IF(P5="sieć ciepłownicza",0,IF(P5="prąd",0,0))))))) -> 0 | AD5: =IF(P5="węgiel",X5*'[4]Założenia,wskaźniki, listy'!$C$49,IF(P5="gaz",X5*'[4]Założenia,wskaźniki, listy'!$D$49,IF(P5="drewno",X5*'[4]Założenia,wskaźniki, listy'!$E$49,IF(P5="pelet",X5*'[4]Założenia,wskaźniki, listy'!$F$49,IF(P5="olej opałowy",X5*'[4]Założenia,wskaźniki, listy'!$G$49,IF(P5="sieć ciepłownicza",0,IF(P5="prąd",0,0))))))) -> 0 | AE5: =IF(P5="węgiel",X5*'[4]Założenia,wskaźniki, listy'!$C$50,IF(P5="gaz",X5*'[4]Założenia,wskaźniki, listy'!$D$50,IF(P5="drewno",X5*'[4]Założenia,wskaźniki, listy'!$E$50,IF(P5="pelet",X5*'[4]Założenia,wskaźniki, listy'!$F$50,IF(P5="olej opałowy",X5*'[4]Założenia,wskaźniki, listy'!$G$50,IF(P5="sieć ciepłownicza",0,IF(P5="prąd",0,0))))))) -> 0 | AF5: =IF(O5="węgiel",X5*[2]Z!$C$44,IF(O5="gaz",X5*[2]Z!$D$44,IF(O5="drewno",X5*[2]Z!$E$44,IF(O5="pelet",X5*[2]Z!$F$44,IF(O5="olej opałowy",X5*[2]Z!$G$44,IF(O5="sieć ciepłownicza",0,IF(O5="prąd",0,0))))))) -> 0 | AG5: =IF(O5="węgiel",X5*[2]Z!$C$45,IF(O5="gaz",X5*[2]Z!$D$45,IF(O5="drewno",X5*[2]Z!$E$45,IF(O5="pelet",X5*[2]Z!$F$45,IF(O5="olej opałowy",X5*[2]Z!$G$45,IF(O5="sieć ciepłownicza",0,IF(O5="prąd",0,0))))))) -> 0 | AH5: =IF(O5="węgiel",X5*[2]Z!$C$46,IF(O5="gaz",X5*[2]Z!$D$46,IF(O5="drewno",X5*[2]Z!$E$46,IF(O5="pelet",X5*[2]Z!$F$46,IF(O5="olej opałowy",X5*[2]Z!$G$46,IF(O5="sieć ciepłownicza",0,IF(O5="prąd",0,0))))))) -> 0 | AI5: =IF(O5="węgiel",X5*[2]Z!$C$47,IF(O5="gaz",X5*[2]Z!$D$47,IF(O5="drewno",X5*[2]Z!$E$47,IF(O5="pelet",X5*[2]Z!$F$47,IF(O5="olej opałowy",X5*[2]Z!$G$47,IF(O5="sieć ciepłownicza",0,IF(O5="prąd",0,0))))))) -> 0 | AJ5: =IF(O5="węgiel",X5*[2]Z!$C$48,IF(O5="gaz",X5*[2]Z!$D$48,IF(O5="drewno",X5*[2]Z!$E$48,IF(O5="pelet",X5*[2]Z!$F$48,IF(O5="olej opałowy",X5*[2]Z!$G$48,IF(O5="sieć ciepłownicza",0,IF(O5="prąd",0,0))))))) -> 0 | AK5: =IF(O5="węgiel",X5*[2]Z!$C$49,IF(O5="gaz",X5*[2]Z!$D$49,IF(O5="drewno",X5*[2]Z!$E$49,IF(O5="pelet",X5*[2]Z!$F$49,IF(O5="olej opałowy",X5*[2]Z!$G$49,IF(O5="sieć ciepłownicza",0,IF(O5="prąd",0,0))))))) -> 0 | AL5: =IF(O5="węgiel",X5*[2]Z!$C$50,IF(O5="gaz",X5*[2]Z!$D$50,IF(O5="drewno",X5*[2]Z!$E$50,IF(O5="pelet",X5*[2]Z!$F$50,IF(O5="olej opałowy",X5*[2]Z!$G$50,IF(O5="sieć ciepłownicza",0,IF(O5="prąd",0,0))))))) -> 0 | AM5: =IF(T5="węgiel",W5*'[2]Założenia,wskaźniki, listy'!$C$44,IF(T5="gaz",W5*'[2]Założenia,wskaźniki, listy'!$D$44,IF(T5="drewno",W5*'[2]Założenia,wskaźniki, listy'!$E$44,IF(T5="pelet",W5*'[2]Założenia,wskaźniki, listy'!$F$44,IF(T5="olej opałowy",W5*'[2]Założenia,wskaźniki, listy'!$G$44,IF(T5="sieć ciepłownicza",0,IF(T5="prąd",0,0))))))) -> 0 | AN5: =IF(U5="węgiel",X5*'[2]Założenia,wskaźniki, listy'!$C$45,IF(U5="gaz",X5*'[2]Założenia,wskaźniki, listy'!$D$45,IF(U5="drewno",X5*'[2]Założenia,wskaźniki, listy'!$E$45,IF(U5="pelet",X5*'[2]Założenia,wskaźniki, listy'!$F$45,IF(U5="olej opałowy",X5*'[2]Założenia,wskaźniki, listy'!$G$45,IF(U5="sieć ciepłownicza",0,IF(U5="prąd",0,0))))))) -> 0 | AO5: =IF(U5="węgiel",X5*'[2]Założenia,wskaźniki, listy'!$C$46,IF(U5="gaz",X5*'[2]Założenia,wskaźniki, listy'!$D$46,IF(U5="drewno",X5*'[2]Założenia,wskaźniki, listy'!$E$46,IF(U5="pelet",X5*'[2]Założenia,wskaźniki, listy'!$F$46,IF(U5="olej opałowy",X5*'[2]Założenia,wskaźniki, listy'!$G$46,IF(U5="sieć ciepłownicza",0,IF(U5="prąd",0,0))))))) -> 0 | AP5: =IF(U5="węgiel",X5*'[2]Założenia,wskaźniki, listy'!$C$47,IF(U5="gaz",X5*'[2]Założenia,wskaźniki, listy'!$D$47,IF(U5="drewno",X5*'[2]Założenia,wskaźniki, listy'!$E$47,IF(U5="pelet",X5*'[2]Założenia,wskaźniki, listy'!$F$47,IF(U5="olej opałowy",X5*'[2]Założenia,wskaźniki, listy'!$G$47,IF(U5="sieć ciepłownicza",0,IF(U5="prąd",0,0))))))) -> 0 | AQ5: =IF(U5="węgiel",X5*'[2]Założenia,wskaźniki, listy'!$C$48,IF(U5="gaz",X5*'[2]Założenia,wskaźniki, listy'!$D$48,IF(U5="drewno",X5*'[2]Założenia,wskaźniki, listy'!$E$48,IF(U5="pelet",X5*'[2]Założenia,wskaźniki, listy'!$F$48,IF(U5="olej opałowy",X5*'[2]Założenia,wskaźniki, listy'!$G$48,IF(U5="sieć ciepłownicza",0,IF(U5="prąd",0,0))))))) -> 0 | AR5: =IF(U5="węgiel",X5*'[2]Założenia,wskaźniki, listy'!$C$49,IF(U5="gaz",X5*'[2]Założenia,wskaźniki, listy'!$D$49,IF(U5="drewno",X5*'[2]Założenia,wskaźniki, listy'!$E$49,IF(U5="pelet",X5*'[2]Założenia,wskaźniki, listy'!$F$49,IF(U5="olej opałowy",X5*'[2]Założenia,wskaźniki, listy'!$G$49,IF(U5="sieć ciepłownicza",0,IF(U5="prąd",0,0))))))) -> 0 | AS5: =IF(U5="węgiel",X5*'[2]Założenia,wskaźniki, listy'!$C$50,IF(U5="gaz",X5*'[2]Założenia,wskaźniki, listy'!$D$50,IF(U5="drewno",X5*'[2]Założenia,wskaźniki, listy'!$E$50,IF(U5="pelet",X5*'[2]Założenia,wskaźniki, listy'!$F$50,IF(U5="olej opałowy",X5*'[2]Założenia,wskaźniki, listy'!$G$50,IF(U5="sieć ciepłownicza",0,IF(U5="prąd",0,0))))))) -> 0 | AT5: =U5 -> 0 | AV5: =IF(O5="węgiel",U5*$AX$61,IF(O5="gaz",U5*$AY$61,IF(O5="drewno",U5*$AZ$61,IF(O5="pelet",U5*$BA$61,IF(O5="olej opałowy",U5*$BB$61,IF(O5="sieć ciepłownicza",0,IF(O5="prąd",0,0))))))) -> 0 | AW5: =IF(O5="węgiel",U5*$AX$62,IF(O5="gaz",U5*$AY$62,IF(O5="drewno",U5*$AZ$62,IF(O5="pelet",U5*$BA$62,IF(O5="olej opałowy",U5*$BB$62,IF(O5="sieć ciepłownicza",0,IF(O5="prąd",0,0))))))) -> 0 | AX5: =IF(O5="węgiel",U5*$AX$63,IF(O5="gaz",U5*$AY$63,IF(O5="drewno",U5*$AZ$63,IF(O5="pelet",U5*$BA$63,IF(O5="olej opałowy",U5*$BB$63,IF(O5="sieć ciepłownicza",0,IF(O5="prąd",0,0)))))))+1.191*AU5 -> 0 | AY5: =IF(O5="węgiel",U5*$AX$64,IF(O5="gaz",U5*$AY$64,IF(O5="drewno",U5*$AZ$64,IF(O5="pelet",U5*$BA$64,IF(O5="olej opałowy",U5*$BB$64,IF(O5="sieć ciepłownicza",0,IF(O5="prąd",0,0))))))) -> 0 | AZ5: =IF(O5="węgiel",U5*$AX$65,IF(O5="gaz",U5*$AY$65,IF(O5="drewno",U5*$AZ$65,IF(O5="pelet",U5*$BA$65,IF(O5="olej opałowy",U5*$BB$65,IF(O5="sieć ciepłownicza",0,IF(O5="prąd",0,0))))))) -> 0 | BA5: =IF(O5="węgiel",U5*$AX$66,IF(O5="gaz",U5*$AY$66,IF(O5="drewno",U5*$AZ$66,IF(O5="pelet",U5*$BA$66,IF(O5="olej opałowy",U5*$BB$66,IF(O5="sieć ciepłownicza",0,IF(O5="prąd",0,0))))))) -> 0 | BB5: =IF(O5="węgiel",U5*$AX$67,IF(O5="gaz",U5*$AY$67,IF(O5="drewno",U5*$AZ$67,IF(O5="pelet",U5*$BA$67,IF(O5="olej opałowy",U5*$BB$67,IF(O5="sieć ciepłownicza",0,IF(O5="prąd",0,0))))))) -> 0 | BN5: =IF(F5<=1966,G5) -> 0 | BO5: =IF(N5="kompletna",BN5,IF(N5="częściowa",0.5*BN5)) -> FALSE | BP5: =IF(F5>1966,IF(F5<=1985,G5)) -> FALSE | BQ5: =IF(N5="kompletna",BP5,IF(N5="częściowa",0.5*BP5)) -> FALSE | BR5: =IF(F5>1985,IF(F5<=1992,G5)) -> FALSE | BS5: =IF(N5="kompletna",BR5,IF(N5="częściowa",0.5*BR5)) -> FALSE | BT5: =IF(F5>1992,IF(F5<=1996,G5)) -> FALSE | BU5: =IF(N5="kompletna",BT5,IF(N5="częściowa",0.5*BT5)) -> FALSE | BV5: =IF(F5>1996,IF(F5<=2014,G5)) -> FALSE | BW5: =IF(N5="kompletna",BV5,IF(N5="częściowa",0.5*BV5)) -> FALSE | BX5: =IF(O5="węgiel",X5) -> FALSE | BY5: =IF(O5="gaz",U5) -> FALSE | BZ5: =IF(O5="drewno",X5) -> FALSE | CA5: =IF(O5="pelet",X5) -> FALSE | CB5: =IF(O5="olej opałowy",X5) -> FALSE | CC5: =IF(O5="prąd",U5) -> FALSE | CD5: =IF(T5="węgiel",W5) -> FALSE | CE5: =IF(T5="gaz",W5) -> FALSE | CF5: =IF(T5="drewno",W5) -> FALSE | CG5: =IF(T5="pelet",W5) -> FALSE | CH5: =IF(T5="olej opałowy",W5) -> FALSE | CI5: =IF(T5="prąd",W5) -> FALSE
A6: 2 | B6: =SUM($C6:C$12) -> 0 | C6: =IF(ISTEXT(D6),1) -> FALSE | U6: =X6 -> 0 | V6: =IF(N6="kompletna",M6*G6*0.0036*'[2]Założenia,wskaźniki, listy'!$H$13,IF(N6="częściowa",M6*G6*0.0036*'[2]Założenia,wskaźniki, listy'!$H$14,IF(N6="brak",M6*G6*0.0036*'[2]Założenia,wskaźniki, listy'!$H$15,0))) -> 0 | W6: =K6*'[3]Założenia,wskaźniki, listy'!$L$16 -> 0 | X6: =IF(O6="węgiel",P6*'[3]Założenia,wskaźniki, listy'!$B$4,IF(O6="gaz",P6*'[3]Założenia,wskaźniki, listy'!$B$5,IF(O6="drewno",P6*'[3]Założenia,wskaźniki, listy'!$B$6,IF(O6="pelet",P6*'[3]Założenia,wskaźniki, listy'!$B$7,IF(O6="olej opałowy",P6*'[3]Założenia,wskaźniki, listy'!$B$8,IF(O6="sieć ciepłownicza",0,0)))))) -> 0 | Y6: =IF(O6="węgiel",X6*'[2]Założenia,wskaźniki, listy'!$C$44,IF(O6="gaz",X6*'[2]Założenia,wskaźniki, listy'!$D$44,IF(O6="drewno",X6*'[2]Założenia,wskaźniki, listy'!$E$44,IF(O6="pelet",X6*'[2]Założenia,wskaźniki, listy'!$F$44,IF(O6="olej opałowy",X6*'[2]Założenia,wskaźniki, listy'!$G$44,IF(O6="sieć ciepłownicza",0,IF(O6="prąd",0,0))))))) -> 0 | Z6: =IF(O6="węgiel",X6*'[2]Założenia,wskaźniki, listy'!$C$45,IF(O6="gaz",X6*'[2]Założenia,wskaźniki, listy'!$D$45,IF(O6="drewno",X6*'[2]Założenia,wskaźniki, listy'!$E$45,IF(O6="pelet",X6*'[2]Założenia,wskaźniki, listy'!$F$45,IF(O6="olej opałowy",X6*'[2]Założenia,wskaźniki, listy'!$G$45,IF(O6="sieć ciepłownicza",0,IF(O6="prąd",0,0))))))) -> 0 | AA6: =IF(O6="węgiel",X6*'[2]Założenia,wskaźniki, listy'!$C$46,IF(O6="gaz",X6*'[2]Założenia,wskaźniki, listy'!$D$46,IF(O6="drewno",X6*'[2]Założenia,wskaźniki, listy'!$E$46,IF(O6="pelet",X6*'[2]Założenia,wskaźniki, listy'!$F$46,IF(O6="olej opałowy",X6*'[2]Założenia,wskaźniki, listy'!$G$46,IF(O6="sieć ciepłownicza",0,IF(O6="prąd",0,0))))))) -> 0 | AB6: =IF(O6="węgiel",X6*'[2]Założenia,wskaźniki, listy'!$C$47,IF(O6="gaz",X6*'[2]Założenia,wskaźniki, listy'!$D$47,IF(O6="drewno",X6*'[2]Założenia,wskaźniki, listy'!$E$47,IF(O6="pelet",X6*'[2]Założenia,wskaźniki, listy'!$F$47,IF(O6="olej opałowy",X6*'[2]Założenia,wskaźniki, listy'!$G$47,IF(O6="sieć ciepłownicza",0,IF(O6="prąd",0,0))))))) -> 0 | AC6: =IF(O6="węgiel",X6*'[2]Założenia,wskaźniki, listy'!$C$48,IF(O6="gaz",X6*'[2]Założenia,wskaźniki, listy'!$D$48,IF(O6="drewno",X6*'[2]Założenia,wskaźniki, listy'!$E$48,IF(O6="pelet",X6*'[2]Założenia,wskaźniki, listy'!$F$48,IF(O6="olej opałowy",X6*'[2]Założenia,wskaźniki, listy'!$G$48,IF(O6="sieć ciepłownicza",0,IF(O6="prąd",0,0))))))) -> 0 | AD6: =IF(O6="węgiel",X6*'[2]Założenia,wskaźniki, listy'!$C$49,IF(O6="gaz",X6*'[2]Założenia,wskaźniki, listy'!$D$49,IF(O6="drewno",X6*'[2]Założenia,wskaźniki, listy'!$E$49,IF(O6="pelet",X6*'[2]Założenia,wskaźniki, listy'!$F$49,IF(O6="olej opałowy",X6*'[2]Założenia,wskaźniki, listy'!$G$49,IF(O6="sieć ciepłownicza",0,IF(O6="prąd",0,0))))))) -> 0 | AE6: =IF(O6="węgiel",X6*'[2]Założenia,wskaźniki, listy'!$C$50,IF(O6="gaz",X6*'[2]Założenia,wskaźniki, listy'!$D$50,IF(O6="drewno",X6*'[2]Założenia,wskaźniki, listy'!$E$50,IF(O6="pelet",X6*'[2]Założenia,wskaźniki, listy'!$F$50,IF(O6="olej opałowy",X6*'[2]Założenia,wskaźniki, listy'!$G$50,IF(O6="sieć ciepłownicza",0,IF(O6="prąd",0,0))))))) -> 0 | AF6: =IF(O6="węgiel",X6*[2]Z!$C$44,IF(O6="gaz",X6*[2]Z!$D$44,IF(O6="drewno",X6*[2]Z!$E$44,IF(O6="pelet",X6*[2]Z!$F$44,IF(O6="olej opałowy",X6*[2]Z!$G$44,IF(O6="sieć ciepłownicza",0,IF(O6="prąd",0,0))))))) -> 0 | AG6: =IF(O6="węgiel",X6*[2]Z!$C$45,IF(O6="gaz",X6*[2]Z!$D$45,IF(O6="drewno",X6*[2]Z!$E$45,IF(O6="pelet",X6*[2]Z!$F$45,IF(O6="olej opałowy",X6*[2]Z!$G$45,IF(O6="sieć ciepłownicza",0,IF(O6="prąd",0,0))))))) -> 0 | AH6: =IF(O6="węgiel",X6*[2]Z!$C$46,IF(O6="gaz",X6*[2]Z!$D$46,IF(O6="drewno",X6*[2]Z!$E$46,IF(O6="pelet",X6*[2]Z!$F$46,IF(O6="olej opałowy",X6*[2]Z!$G$46,IF(O6="sieć ciepłownicza",0,IF(O6="prąd",0,0))))))) -> 0 | AI6: =IF(O6="węgiel",X6*[2]Z!$C$47,IF(O6="gaz",X6*[2]Z!$D$47,IF(O6="drewno",X6*[2]Z!$E$47,IF(O6="pelet",X6*[2]Z!$F$47,IF(O6="olej opałowy",X6*[2]Z!$G$47,IF(O6="sieć ciepłownicza",0,IF(O6="prąd",0,0))))))) -> 0 | AJ6: =IF(O6="węgiel",X6*[2]Z!$C$48,IF(O6="gaz",X6*[2]Z!$D$48,IF(O6="drewno",X6*[2]Z!$E$48,IF(O6="pelet",X6*[2]Z!$F$48,IF(O6="olej opałowy",X6*[2]Z!$G$48,IF(O6="sieć ciepłownicza",0,IF(O6="prąd",0,0))))))) -> 0 | AK6: =IF(O6="węgiel",X6*[2]Z!$C$49,IF(O6="gaz",X6*[2]Z!$D$49,IF(O6="drewno",X6*[2]Z!$E$49,IF(O6="pelet",X6*[2]Z!$F$49,IF(O6="olej opałowy",X6*[2]Z!$G$49,IF(O6="sieć ciepłownicza",0,IF(O6="prąd",0,0))))))) -> 0 | AL6: =IF(O6="węgiel",X6*[2]Z!$C$50,IF(O6="gaz",X6*[2]Z!$D$50,IF(O6="drewno",X6*[2]Z!$E$50,IF(O6="pelet",X6*[2]Z!$F$50,IF(O6="olej opałowy",X6*[2]Z!$G$50,IF(O6="sieć ciepłownicza",0,IF(O6="prąd",0,0))))))) -> 0 | AM6: =IF(T6="węgiel",W6*'[2]Założenia,wskaźniki, listy'!$C$44,IF(T6="gaz",W6*'[2]Założenia,wskaźniki, listy'!$D$44,IF(T6="drewno",W6*'[2]Założenia,wskaźniki, listy'!$E$44,IF(T6="pelet",W6*'[2]Założenia,wskaźniki, listy'!$F$44,IF(T6="olej opałowy",W6*'[2]Założenia,wskaźniki, listy'!$G$44,IF(T6="sieć ciepłownicza",0,IF(T6="prąd",0,0))))))) -> 0 | AN6: =IF(U6="węgiel",X6*'[2]Założenia,wskaźniki, listy'!$C$45,IF(U6="gaz",X6*'[2]Założenia,wskaźniki, listy'!$D$45,IF(U6="drewno",X6*'[2]Założenia,wskaźniki, listy'!$E$45,IF(U6="pelet",X6*'[2]Założenia,wskaźniki, listy'!$F$45,IF(U6="olej opałowy",X6*'[2]Założenia,wskaźniki, listy'!$G$45,IF(U6="sieć ciepłownicza",0,IF(U6="prąd",0,0))))))) -> 0 | AO6: =IF(U6="węgiel",X6*'[2]Założenia,wskaźniki, listy'!$C$46,IF(U6="gaz",X6*'[2]Założenia,wskaźniki, listy'!$D$46,IF(U6="drewno",X6*'[2]Założenia,wskaźniki, listy'!$E$46,IF(U6="pelet",X6*'[2]Założenia,wskaźniki, listy'!$F$46,IF(U6="olej opałowy",X6*'[2]Założenia,wskaźniki, listy'!$G$46,IF(U6="sieć ciepłownicza",0,IF(U6="prąd",0,0))))))) -> 0 | AP6: =IF(U6="węgiel",X6*'[2]Założenia,wskaźniki, listy'!$C$47,IF(U6="gaz",X6*'[2]Założenia,wskaźniki, listy'!$D$47,IF(U6="drewno",X6*'[2]Założenia,wskaźniki, listy'!$E$47,IF(U6="pelet",X6*'[2]Założenia,wskaźniki, listy'!$F$47,IF(U6="olej opałowy",X6*'[2]Założenia,wskaźniki, listy'!$G$47,IF(U6="sieć ciepłownicza",0,IF(U6="prąd",0,0))))))) -> 0 | AQ6: =IF(U6="węgiel",X6*'[2]Założenia,wskaźniki, listy'!$C$48,IF(U6="gaz",X6*'[2]Założenia,wskaźniki, listy'!$D$48,IF(U6="drewno",X6*'[2]Założenia,wskaźniki, listy'!$E$48,IF(U6="pelet",X6*'[2]Założenia,wskaźniki, listy'!$F$48,IF(U6="olej opałowy",X6*'[2]Założenia,wskaźniki, listy'!$G$48,IF(U6="sieć ciepłownicza",0,IF(U6="prąd",0,0))))))) -> 0 | AR6: =IF(U6="węgiel",X6*'[2]Założenia,wskaźniki, listy'!$C$49,IF(U6="gaz",X6*'[2]Założenia,wskaźniki, listy'!$D$49,IF(U6="drewno",X6*'[2]Założenia,wskaźniki, listy'!$E$49,IF(U6="pelet",X6*'[2]Założenia,wskaźniki, listy'!$F$49,IF(U6="olej opałowy",X6*'[2]Założenia,wskaźniki, listy'!$G$49,IF(U6="sieć ciepłownicza",0,IF(U6="prąd",0,0))))))) -> 0 | AS6: =IF(U6="węgiel",X6*'[2]Założenia,wskaźniki, listy'!$C$50,IF(U6="gaz",X6*'[2]Założenia,wskaźniki, listy'!$D$50,IF(U6="drewno",X6*'[2]Założenia,wskaźniki, listy'!$E$50,IF(U6="pelet",X6*'[2]Założenia,wskaźniki, listy'!$F$50,IF(U6="olej opałowy",X6*'[2]Założenia,wskaźniki, listy'!$G$50,IF(U6="sieć ciepłownicza",0,IF(U6="prąd",0,0))))))) -> 0 | AT6: =U6 -> 0 | AV6: =IF(O6="węgiel",U6*$AX$61,IF(O6="gaz",U6*$AY$61,IF(O6="drewno",U6*$AZ$61,IF(O6="pelet",U6*$BA$61,IF(O6="olej opałowy",U6*$BB$61,IF(O6="sieć ciepłownicza",0,IF(O6="prąd",0,0))))))) -> 0 | AW6: =IF(O6="węgiel",U6*$AX$62,IF(O6="gaz",U6*$AY$62,IF(O6="drewno",U6*$AZ$62,IF(O6="pelet",U6*$BA$62,IF(O6="olej opałowy",U6*$BB$62,IF(O6="sieć ciepłownicza",0,IF(O6="prąd",0,0))))))) -> 0 | AX6: =IF(O6="węgiel",U6*$AX$63,IF(O6="gaz",U6*$AY$63,IF(O6="drewno",U6*$AZ$63,IF(O6="pelet",U6*$BA$63,IF(O6="olej opałowy",U6*$BB$63,IF(O6="sieć ciepłownicza",0,IF(O6="prąd",0,0)))))))+1.191*AU6 -> 0 | AY6: =IF(O6="węgiel",U6*$AX$64,IF(O6="gaz",U6*$AY$64,IF(O6="drewno",U6*$AZ$64,IF(O6="pelet",U6*$BA$64,IF(O6="olej opałowy",U6*$BB$64,IF(O6="sieć ciepłownicza",0,IF(O6="prąd",0,0))))))) -> 0 | AZ6: =IF(O6="węgiel",U6*$AX$65,IF(O6="gaz",U6*$AY$65,IF(O6="drewno",U6*$AZ$65,IF(O6="pelet",U6*$BA$65,IF(O6="olej opałowy",U6*$BB$65,IF(O6="sieć ciepłownicza",0,IF(O6="prąd",0,0))))))) -> 0 | BA6: =IF(O6="węgiel",U6*$AX$66,IF(O6="gaz",U6*$AY$66,IF(O6="drewno",U6*$AZ$66,IF(O6="pelet",U6*$BA$66,IF(O6="olej opałowy",U6*$BB$66,IF(O6="sieć ciepłownicza",0,IF(O6="prąd",0,0))))))) -> 0 | BB6: =IF(O6="węgiel",U6*$AX$67,IF(O6="gaz",U6*$AY$67,IF(O6="drewno",U6*$AZ$67,IF(O6="pelet",U6*$BA$67,IF(O6="olej opałowy",U6*$BB$67,IF(O6="sieć ciepłownicza",0,IF(O6="prąd",0,0))))))) -> 0 | BN6: =IF(F6<=1966,G6) -> 0 | BO6: =IF(N6="kompletna",BN6,IF(N6="częściowa",0.5*BN6)) -> FALSE | BP6: =IF(F6>1966,IF(F6<=1985,G6)) -> FALSE | BQ6: =IF(N6="kompletna",BP6,IF(N6="częściowa",0.5*BP6)) -> FALSE | BR6: =IF(F6>1985,IF(F6<=1992,G6)) -> FALSE | BS6: =IF(N6="kompletna",BR6,IF(N6="częściowa",0.5*BR6)) -> FALSE | BT6: =IF(F6>1992,IF(F6<=1996,G6)) -> FALSE | BU6: =IF(N6="kompletna",BT6,IF(N6="częściowa",0.5*BT6)) -> FALSE | BV6: =IF(F6>1996,IF(F6<=2014,G6)) -> FALSE | BW6: =IF(N6="kompletna",BV6,IF(N6="częściowa",0.5*BV6)) -> FALSE | BX6: =IF(O6="węgiel",X6) -> FALSE | BY6: =IF(O6="gaz",U6) -> FALSE | BZ6: =IF(O6="drewno",X6) -> FALSE | CA6: =IF(O6="pelet",X6) -> FALSE | CB6: =IF(O6="olej opałowy",X6) -> FALSE | CC6: =IF(O6="prąd",U6) -> FALSE | CD6: =IF(T6="węgiel",W6) -> FALSE | CE6: =IF(T6="gaz",W6) -> FALSE | CF6: =IF(T6="drewno",W6) -> FALSE | CG6: =IF(T6="pelet",W6) -> FALSE | CH6: =IF(T6="olej opałowy",W6) -> FALSE | CI6: =IF(T6="prąd",W6) -> FALSE
A7: 3 | B7: =SUM($C7:C$12) -> 0 | C7: =IF(ISTEXT(D7),1) -> FALSE | U7: =IF(V7>0,(W7+X7+V7)/2,W7+X7) -> 0 | V7: =IF(N7="kompletna",M7*G7*0.0036*'[2]Założenia,wskaźniki, listy'!$H$13,IF(N7="częściowa",M7*G7*0.0036*'[2]Założenia,wskaźniki, listy'!$H$14,IF(N7="brak",M7*G7*0.0036*'[2]Założenia,wskaźniki, listy'!$H$15,0))) -> 0 | W7: =K7*'[3]Założenia,wskaźniki, listy'!$L$16 -> 0 | X7: =IF(O7="węgiel",P7*'[3]Założenia,wskaźniki, listy'!$B$4,IF(O7="gaz",P7*'[3]Założenia,wskaźniki, listy'!$B$5,IF(O7="drewno",P7*'[3]Założenia,wskaźniki, listy'!$B$6,IF(O7="pelet",P7*'[3]Założenia,wskaźniki, listy'!$B$7,IF(O7="olej opałowy",P7*'[3]Założenia,wskaźniki, listy'!$B$8,IF(O7="sieć ciepłownicza",0,0)))))) -> 0 | Y7: =IF(O7="węgiel",X7*'[2]Założenia,wskaźniki, listy'!$C$44,IF(O7="gaz",X7*'[2]Założenia,wskaźniki, listy'!$D$44,IF(O7="drewno",X7*'[2]Założenia,wskaźniki, listy'!$E$44,IF(O7="pelet",X7*'[2]Założenia,wskaźniki, listy'!$F$44,IF(O7="olej opałowy",X7*'[2]Założenia,wskaźniki, listy'!$G$44,IF(O7="sieć ciepłownicza",0,IF(O7="prąd",0,0))))))) -> 0 | Z7: =IF(O7="węgiel",X7*'[2]Założenia,wskaźniki, listy'!$C$45,IF(O7="gaz",X7*'[2]Założenia,wskaźniki, listy'!$D$45,IF(O7="drewno",X7*'[2]Założenia,wskaźniki, listy'!$E$45,IF(O7="pelet",X7*'[2]Założenia,wskaźniki, listy'!$F$45,IF(O7="olej opałowy",X7*'[2]Założenia,wskaźniki, listy'!$G$45,IF(O7="sieć ciepłownicza",0,IF(O7="prąd",0,0))))))) -> 0 | AA7: =IF(O7="węgiel",X7*'[2]Założenia,wskaźniki, listy'!$C$46,IF(O7="gaz",X7*'[2]Założenia,wskaźniki, listy'!$D$46,IF(O7="drewno",X7*'[2]Założenia,wskaźniki, listy'!$E$46,IF(O7="pelet",X7*'[2]Założenia,wskaźniki, listy'!$F$46,IF(O7="olej opałowy",X7*'[2]Założenia,wskaźniki, listy'!$G$46,IF(O7="sieć ciepłownicza",0,IF(O7="prąd",0,0))))))) -> 0 | AB7: =IF(O7="węgiel",X7*'[2]Założenia,wskaźniki, listy'!$C$47,IF(O7="gaz",X7*'[2]Założenia,wskaźniki, listy'!$D$47,IF(O7="drewno",X7*'[2]Założenia,wskaźniki, listy'!$E$47,IF(O7="pelet",X7*'[2]Założenia,wskaźniki, listy'!$F$47,IF(O7="olej opałowy",X7*'[2]Założenia,wskaźniki, listy'!$G$47,IF(O7="sieć ciepłownicza",0,IF(O7="prąd",0,0))))))) -> 0 | AC7: =IF(O7="węgiel",X7*'[2]Założenia,wskaźniki, listy'!$C$48,IF(O7="gaz",X7*'[2]Założenia,wskaźniki, listy'!$D$48,IF(O7="drewno",X7*'[2]Założenia,wskaźniki, listy'!$E$48,IF(O7="pelet",X7*'[2]Założenia,wskaźniki, listy'!$F$48,IF(O7="olej opałowy",X7*'[2]Założenia,wskaźniki, listy'!$G$48,IF(O7="sieć ciepłownicza",0,IF(O7="prąd",0,0))))))) -> 0 | AD7: =IF(O7="węgiel",X7*'[2]Założenia,wskaźniki, listy'!$C$49,IF(O7="gaz",X7*'[2]Założenia,wskaźniki, listy'!$D$49,IF(O7="drewno",X7*'[2]Założenia,wskaźniki, listy'!$E$49,IF(O7="pelet",X7*'[2]Założenia,wskaźniki, listy'!$F$49,IF(O7="olej opałowy",X7*'[2]Założenia,wskaźniki, listy'!$G$49,IF(O7="sieć ciepłownicza",0,IF(O7="prąd",0,0))))))) -> 0 | AE7: =IF(O7="węgiel",X7*'[2]Założenia,wskaźniki, listy'!$C$50,IF(O7="gaz",X7*'[2]Założenia,wskaźniki, listy'!$D$50,IF(O7="drewno",X7*'[2]Założenia,wskaźniki, listy'!$E$50,IF(O7="pelet",X7*'[2]Założenia,wskaźniki, listy'!$F$50,IF(O7="olej opałowy",X7*'[2]Założenia,wskaźniki, listy'!$G$50,IF(O7="sieć ciepłownicza",0,IF(O7="prąd",0,0))))))) -> 0 | AF7: =IF(O7="węgiel",X7*[2]Z!$C$44,IF(O7="gaz",X7*[2]Z!$D$44,IF(O7="drewno",X7*[2]Z!$E$44,IF(O7="pelet",X7*[2]Z!$F$44,IF(O7="olej opałowy",X7*[2]Z!$G$44,IF(O7="sieć ciepłownicza",0,IF(O7="prąd",0,0))))))) -> 0 | AG7: =IF(O7="węgiel",X7*[2]Z!$C$45,IF(O7="gaz",X7*[2]Z!$D$45,IF(O7="drewno",X7*[2]Z!$E$45,IF(O7="pelet",X7*[2]Z!$F$45,IF(O7="olej opałowy",X7*[2]Z!$G$45,IF(O7="sieć ciepłownicza",0,IF(O7="prąd",0,0))))))) -> 0 | AH7: =IF(O7="węgiel",X7*[2]Z!$C$46,IF(O7="gaz",X7*[2]Z!$D$46,IF(O7="drewno",X7*[2]Z!$E$46,IF(O7="pelet",X7*[2]Z!$F$46,IF(O7="olej opałowy",X7*[2]Z!$G$46,IF(O7="sieć ciepłownicza",0,IF(O7="prąd",0,0))))))) -> 0 | AI7: =IF(O7="węgiel",X7*[2]Z!$C$47,IF(O7="gaz",X7*[2]Z!$D$47,IF(O7="drewno",X7*[2]Z!$E$47,IF(O7="pelet",X7*[2]Z!$F$47,IF(O7="olej opałowy",X7*[2]Z!$G$47,IF(O7="sieć ciepłownicza",0,IF(O7="prąd",0,0))))))) -> 0 | AJ7: =IF(O7="węgiel",X7*[2]Z!$C$48,IF(O7="gaz",X7*[2]Z!$D$48,IF(O7="drewno",X7*[2]Z!$E$48,IF(O7="pelet",X7*[2]Z!$F$48,IF(O7="olej opałowy",X7*[2]Z!$G$48,IF(O7="sieć ciepłownicza",0,IF(O7="prąd",0,0))))))) -> 0 | AK7: =IF(O7="węgiel",X7*[2]Z!$C$49,IF(O7="gaz",X7*[2]Z!$D$49,IF(O7="drewno",X7*[2]Z!$E$49,IF(O7="pelet",X7*[2]Z!$F$49,IF(O7="olej opałowy",X7*[2]Z!$G$49,IF(O7="sieć ciepłownicza",0,IF(O7="prąd",0,0))))))) -> 0 | AL7: =IF(O7="węgiel",X7*[2]Z!$C$50,IF(O7="gaz",X7*[2]Z!$D$50,IF(O7="drewno",X7*[2]Z!$E$50,IF(O7="pelet",X7*[2]Z!$F$50,IF(O7="olej opałowy",X7*[2]Z!$G$50,IF(O7="sieć ciepłownicza",0,IF(O7="prąd",0,0))))))) -> 0 | AM7: =IF(T7="węgiel",W7*'[2]Założenia,wskaźniki, listy'!$C$44,IF(T7="gaz",W7*'[2]Założenia,wskaźniki, listy'!$D$44,IF(T7="drewno",W7*'[2]Założenia,wskaźniki, listy'!$E$44,IF(T7="pelet",W7*'[2]Założenia,wskaźniki, listy'!$F$44,IF(T7="olej opałowy",W7*'[2]Założenia,wskaźniki, listy'!$G$44,IF(T7="sieć ciepłownicza",0,IF(T7="prąd",0,0))))))) -> 0 | AN7: =IF(U7="węgiel",X7*'[2]Założenia,wskaźniki, listy'!$C$45,IF(U7="gaz",X7*'[2]Założenia,wskaźniki, listy'!$D$45,IF(U7="drewno",X7*'[2]Założenia,wskaźniki, listy'!$E$45,IF(U7="pelet",X7*'[2]Założenia,wskaźniki, listy'!$F$45,IF(U7="olej opałowy",X7*'[2]Założenia,wskaźniki, listy'!$G$45,IF(U7="sieć ciepłownicza",0,IF(U7="prąd",0,0))))))) -> 0 | AO7: =IF(U7="węgiel",X7*'[2]Założenia,wskaźniki, listy'!$C$46,IF(U7="gaz",X7*'[2]Założenia,wskaźniki, listy'!$D$46,IF(U7="drewno",X7*'[2]Założenia,wskaźniki, listy'!$E$46,IF(U7="pelet",X7*'[2]Założenia,wskaźniki, listy'!$F$46,IF(U7="olej opałowy",X7*'[2]Założenia,wskaźniki, listy'!$G$46,IF(U7="sieć ciepłownicza",0,IF(U7="prąd",0,0))))))) -> 0 | AP7: =IF(U7="węgiel",X7*'[2]Założenia,wskaźniki, listy'!$C$47,IF(U7="gaz",X7*'[2]Założenia,wskaźniki, listy'!$D$47,IF(U7="drewno",X7*'[2]Założenia,wskaźniki, listy'!$E$47,IF(U7="pelet",X7*'[2]Założenia,wskaźniki, listy'!$F$47,IF(U7="olej opałowy",X7*'[2]Założenia,wskaźniki, listy'!$G$47,IF(U7="sieć ciepłownicza",0,IF(U7="prąd",0,0))))))) -> 0 | AQ7: =IF(U7="węgiel",X7*'[2]Założenia,wskaźniki, listy'!$C$48,IF(U7="gaz",X7*'[2]Założenia,wskaźniki, listy'!$D$48,IF(U7="drewno",X7*'[2]Założenia,wskaźniki, listy'!$E$48,IF(U7="pelet",X7*'[2]Założenia,wskaźniki, listy'!$F$48,IF(U7="olej opałowy",X7*'[2]Założenia,wskaźniki, listy'!$G$48,IF(U7="sieć ciepłownicza",0,IF(U7="prąd",0,0))))))) -> 0 | AR7: =IF(U7="węgiel",X7*'[2]Założenia,wskaźniki, listy'!$C$49,IF(U7="gaz",X7*'[2]Założenia,wskaźniki, listy'!$D$49,IF(U7="drewno",X7*'[2]Założenia,wskaźniki, listy'!$E$49,IF(U7="pelet",X7*'[2]Założenia,wskaźniki, listy'!$F$49,IF(U7="olej opałowy",X7*'[2]Założenia,wskaźniki, listy'!$G$49,IF(U7="sieć ciepłownicza",0,IF(U7="prąd",0,0))))))) -> 0 | AS7: =IF(U7="węgiel",X7*'[2]Założenia,wskaźniki, listy'!$C$50,IF(U7="gaz",X7*'[2]Założenia,wskaźniki, listy'!$D$50,IF(U7="drewno",X7*'[2]Założenia,wskaźniki, listy'!$E$50,IF(U7="pelet",X7*'[2]Założenia,wskaźniki, listy'!$F$50,IF(U7="olej opałowy",X7*'[2]Założenia,wskaźniki, listy'!$G$50,IF(U7="sieć ciepłownicza",0,IF(U7="prąd",0,0))))))) -> 0 | AT7: =U7 -> 0 | AV7: =IF(O7="węgiel",U7*$AX$61,IF(O7="gaz",U7*$AY$61,IF(O7="drewno",U7*$AZ$61,IF(O7="pelet",U7*$BA$61,IF(O7="olej opałowy",U7*$BB$61,IF(O7="sieć ciepłownicza",0,IF(O7="prąd",0,0))))))) -> 0 | AW7: =IF(O7="węgiel",U7*$AX$62,IF(O7="gaz",U7*$AY$62,IF(O7="drewno",U7*$AZ$62,IF(O7="pelet",U7*$BA$62,IF(O7="olej opałowy",U7*$BB$62,IF(O7="sieć ciepłownicza",0,IF(O7="prąd",0,0))))))) -> 0 | AX7: =IF(O7="węgiel",U7*$AX$63,IF(O7="gaz",U7*$AY$63,IF(O7="drewno",U7*$AZ$63,IF(O7="pelet",U7*$BA$63,IF(O7="olej opałowy",U7*$BB$63,IF(O7="sieć ciepłownicza",0,IF(O7="prąd",0,0)))))))+1.191*AU7 -> 0 | AY7: =IF(O7="węgiel",U7*$AX$64,IF(O7="gaz",U7*$AY$64,IF(O7="drewno",U7*$AZ$64,IF(O7="pelet",U7*$BA$64,IF(O7="olej opałowy",U7*$BB$64,IF(O7="sieć ciepłownicza",0,IF(O7="prąd",0,0))))))) -> 0 | AZ7: =IF(O7="węgiel",U7*$AX$65,IF(O7="gaz",U7*$AY$65,IF(O7="drewno",U7*$AZ$65,IF(O7="pelet",U7*$BA$65,IF(O7="olej opałowy",U7*$BB$65,IF(O7="sieć ciepłownicza",0,IF(O7="prąd",0,0))))))) -> 0 | BA7: =IF(O7="węgiel",U7*$AX$66,IF(O7="gaz",U7*$AY$66,IF(O7="drewno",U7*$AZ$66,IF(O7="pelet",U7*$BA$66,IF(O7="olej opałowy",U7*$BB$66,IF(O7="sieć ciepłownicza",0,IF(O7="prąd",0,0))))))) -> 0 | BB7: =IF(O7="węgiel",U7*$AX$67,IF(O7="gaz",U7*$AY$67,IF(O7="drewno",U7*$AZ$67,IF(O7="pelet",U7*$BA$67,IF(O7="olej opałowy",U7*$BB$67,IF(O7="sieć ciepłownicza",0,IF(O7="prąd",0,0))))))) -> 0 | BN7: =IF(F7<=1966,G7) -> 0 | BO7: =IF(N7="kompletna",BN7,IF(N7="częściowa",0.5*BN7)) -> FALSE | BP7: =IF(F7>1966,IF(F7<=1985,G7)) -> FALSE | BQ7: =IF(N7="kompletna",BP7,IF(N7="częściowa",0.5*BP7)) -> FALSE | BR7: =IF(F7>1985,IF(F7<=1992,G7)) -> FALSE | BS7: =IF(N7="kompletna",BR7,IF(N7="częściowa",0.5*BR7)) -> FALSE | BT7: =IF(F7>1992,IF(F7<=1996,G7)) -> FALSE | BU7: =IF(N7="kompletna",BT7,IF(N7="częściowa",0.5*BT7)) -> FALSE | BV7: =IF(F7>1996,IF(F7<=2014,G7)) -> FALSE | BW7: =IF(N7="kompletna",BV7,IF(N7="częściowa",0.5*BV7)) -> FALSE | BX7: =IF(O7="węgiel",X7) -> FALSE | BY7: =IF(O7="gaz",U7) -> FALSE | BZ7: =IF(O7="drewno",X7) -> FALSE | CA7: =IF(O7="pelet",X7) -> FALSE | CB7: =IF(O7="olej opałowy",X7) -> FALSE | CC7: =IF(O7="prąd",U7) -> FALSE | CD7: =IF(T7="węgiel",W7) -> FALSE | CE7: =IF(T7="gaz",W7) -> FALSE | CF7: =IF(T7="drewno",W7) -> FALSE | CG7: =IF(T7="pelet",W7) -> FALSE | CH7: =IF(T7="olej opałowy",W7) -> FALSE | CI7: =IF(T7="prąd",W7) -> FALSE
A8: 4 | U8: =IF(V8>0,(W8+X8+V8)/2,W8+X8) -> 0 | V8: =IF(N8="kompletna",M8*G8*0.0036*'[2]Założenia,wskaźniki, listy'!$H$13,IF(N8="częściowa",M8*G8*0.0036*'[2]Założenia,wskaźniki, listy'!$H$14,IF(N8="brak",M8*G8*0.0036*'[2]Założenia,wskaźniki, listy'!$H$15,0))) -> 0 | W8: =K8*'[3]Założenia,wskaźniki, listy'!$L$16 -> 0 | X8: =IF(O8="węgiel",P8*'[3]Założenia,wskaźniki, listy'!$B$4,IF(O8="gaz",P8*'[3]Założenia,wskaźniki, listy'!$B$5,IF(O8="drewno",P8*'[3]Założenia,wskaźniki, listy'!$B$6,IF(O8="pelet",P8*'[3]Założenia,wskaźniki, listy'!$B$7,IF(O8="olej opałowy",P8*'[3]Założenia,wskaźniki, listy'!$B$8,IF(O8="sieć ciepłownicza",0,0)))))) -> 0 | Y8: =IF(O8="węgiel",X8*'[2]Założenia,wskaźniki, listy'!$C$44,IF(O8="gaz",X8*'[2]Założenia,wskaźniki, listy'!$D$44,IF(O8="drewno",X8*'[2]Założenia,wskaźniki, listy'!$E$44,IF(O8="pelet",X8*'[2]Założenia,wskaźniki, listy'!$F$44,IF(O8="olej opałowy",X8*'[2]Założenia,wskaźniki, listy'!$G$44,IF(O8="sieć ciepłownicza",0,IF(O8="prąd",0,0))))))) -> 0 | Z8: =IF(O8="węgiel",X8*'[2]Założenia,wskaźniki, listy'!$C$45,IF(O8="gaz",X8*'[2]Założenia,wskaźniki, listy'!$D$45,IF(O8="drewno",X8*'[2]Założenia,wskaźniki, listy'!$E$45,IF(O8="pelet",X8*'[2]Założenia,wskaźniki, listy'!$F$45,IF(O8="olej opałowy",X8*'[2]Założenia,wskaźniki, listy'!$G$45,IF(O8="sieć ciepłownicza",0,IF(O8="prąd",0,0))))))) -> 0 | AA8: =IF(O8="węgiel",X8*'[2]Założenia,wskaźniki, listy'!$C$46,IF(O8="gaz",X8*'[2]Założenia,wskaźniki, listy'!$D$46,IF(O8="drewno",X8*'[2]Założenia,wskaźniki, listy'!$E$46,IF(O8="pelet",X8*'[2]Założenia,wskaźniki, listy'!$F$46,IF(O8="olej opałowy",X8*'[2]Założenia,wskaźniki, listy'!$G$46,IF(O8="sieć ciepłownicza",0,IF(O8="prąd",0,0))))))) -> 0 | AB8: =IF(O8="węgiel",X8*'[2]Założenia,wskaźniki, listy'!$C$47,IF(O8="gaz",X8*'[2]Założenia,wskaźniki, listy'!$D$47,IF(O8="drewno",X8*'[2]Założenia,wskaźniki, listy'!$E$47,IF(O8="pelet",X8*'[2]Założenia,wskaźniki, listy'!$F$47,IF(O8="olej opałowy",X8*'[2]Założenia,wskaźniki, listy'!$G$47,IF(O8="sieć ciepłownicza",0,IF(O8="prąd",0,0))))))) -> 0 | AC8: =IF(O8="węgiel",X8*'[2]Założenia,wskaźniki, listy'!$C$48,IF(O8="gaz",X8*'[2]Założenia,wskaźniki, listy'!$D$48,IF(O8="drewno",X8*'[2]Założenia,wskaźniki, listy'!$E$48,IF(O8="pelet",X8*'[2]Założenia,wskaźniki, listy'!$F$48,IF(O8="olej opałowy",X8*'[2]Założenia,wskaźniki, listy'!$G$48,IF(O8="sieć ciepłownicza",0,IF(O8="prąd",0,0))))))) -> 0 | AD8: =IF(O8="węgiel",X8*'[2]Założenia,wskaźniki, listy'!$C$49,IF(O8="gaz",X8*'[2]Założenia,wskaźniki, listy'!$D$49,IF(O8="drewno",X8*'[2]Założenia,wskaźniki, listy'!$E$49,IF(O8="pelet",X8*'[2]Założenia,wskaźniki, listy'!$F$49,IF(O8="olej opałowy",X8*'[2]Założenia,wskaźniki, listy'!$G$49,IF(O8="sieć ciepłownicza",0,IF(O8="prąd",0,0))))))) -> 0 | AE8: =IF(O8="węgiel",X8*'[2]Założenia,wskaźniki, listy'!$C$50,IF(O8="gaz",X8*'[2]Założenia,wskaźniki, listy'!$D$50,IF(O8="drewno",X8*'[2]Założenia,wskaźniki, listy'!$E$50,IF(O8="pelet",X8*'[2]Założenia,wskaźniki, listy'!$F$50,IF(O8="olej opałowy",X8*'[2]Założenia,wskaźniki, listy'!$G$50,IF(O8="sieć ciepłownicza",0,IF(O8="prąd",0,0))))))) -> 0 | AF8: =IF(O8="węgiel",X8*[2]Z!$C$44,IF(O8="gaz",X8*[2]Z!$D$44,IF(O8="drewno",X8*[2]Z!$E$44,IF(O8="pelet",X8*[2]Z!$F$44,IF(O8="olej opałowy",X8*[2]Z!$G$44,IF(O8="sieć ciepłownicza",0,IF(O8="prąd",0,0))))))) -> 0 | AG8: =IF(O8="węgiel",X8*[2]Z!$C$45,IF(O8="gaz",X8*[2]Z!$D$45,IF(O8="drewno",X8*[2]Z!$E$45,IF(O8="pelet",X8*[2]Z!$F$45,IF(O8="olej opałowy",X8*[2]Z!$G$45,IF(O8="sieć ciepłownicza",0,IF(O8="prąd",0,0))))))) -> 0 | AH8: =IF(O8="węgiel",X8*[2]Z!$C$46,IF(O8="gaz",X8*[2]Z!$D$46,IF(O8="drewno",X8*[2]Z!$E$46,IF(O8="pelet",X8*[2]Z!$F$46,IF(O8="olej opałowy",X8*[2]Z!$G$46,IF(O8="sieć ciepłownicza",0,IF(O8="prąd",0,0))))))) -> 0 | AI8: =IF(O8="węgiel",X8*[2]Z!$C$47,IF(O8="gaz",X8*[2]Z!$D$47,IF(O8="drewno",X8*[2]Z!$E$47,IF(O8="pelet",X8*[2]Z!$F$47,IF(O8="olej opałowy",X8*[2]Z!$G$47,IF(O8="sieć ciepłownicza",0,IF(O8="prąd",0,0))))))) -> 0 | AJ8: =IF(O8="węgiel",X8*[2]Z!$C$48,IF(O8="gaz",X8*[2]Z!$D$48,IF(O8="drewno",X8*[2]Z!$E$48,IF(O8="pelet",X8*[2]Z!$F$48,IF(O8="olej opałowy",X8*[2]Z!$G$48,IF(O8="sieć ciepłownicza",0,IF(O8="prąd",0,0))))))) -> 0 | AK8: =IF(O8="węgiel",X8*[2]Z!$C$49,IF(O8="gaz",X8*[2]Z!$D$49,IF(O8="drewno",X8*[2]Z!$E$49,IF(O8="pelet",X8*[2]Z!$F$49,IF(O8="olej opałowy",X8*[2]Z!$G$49,IF(O8="sieć ciepłownicza",0,IF(O8="prąd",0,0))))))) -> 0 | AL8: =IF(O8="węgiel",X8*[2]Z!$C$50,IF(O8="gaz",X8*[2]Z!$D$50,IF(O8="drewno",X8*[2]Z!$E$50,IF(O8="pelet",X8*[2]Z!$F$50,IF(O8="olej opałowy",X8*[2]Z!$G$50,IF(O8="sieć ciepłownicza",0,IF(O8="prąd",0,0))))))) -> 0 | AM8: =IF(T8="węgiel",W8*'[2]Założenia,wskaźniki, listy'!$C$44,IF(T8="gaz",W8*'[2]Założenia,wskaźniki, listy'!$D$44,IF(T8="drewno",W8*'[2]Założenia,wskaźniki, listy'!$E$44,IF(T8="pelet",W8*'[2]Założenia,wskaźniki, listy'!$F$44,IF(T8="olej opałowy",W8*'[2]Założenia,wskaźniki, listy'!$G$44,IF(T8="sieć ciepłownicza",0,IF(T8="prąd",0,0))))))) -> 0 | AN8: =IF(U8="węgiel",X8*'[2]Założenia,wskaźniki, listy'!$C$45,IF(U8="gaz",X8*'[2]Założenia,wskaźniki, listy'!$D$45,IF(U8="drewno",X8*'[2]Założenia,wskaźniki, listy'!$E$45,IF(U8="pelet",X8*'[2]Założenia,wskaźniki, listy'!$F$45,IF(U8="olej opałowy",X8*'[2]Założenia,wskaźniki, listy'!$G$45,IF(U8="sieć ciepłownicza",0,IF(U8="prąd",0,0))))))) -> 0 | AO8: =IF(U8="węgiel",X8*'[2]Założenia,wskaźniki, listy'!$C$46,IF(U8="gaz",X8*'[2]Założenia,wskaźniki, listy'!$D$46,IF(U8="drewno",X8*'[2]Założenia,wskaźniki, listy'!$E$46,IF(U8="pelet",X8*'[2]Założenia,wskaźniki, listy'!$F$46,IF(U8="olej opałowy",X8*'[2]Założenia,wskaźniki, listy'!$G$46,IF(U8="sieć ciepłownicza",0,IF(U8="prąd",0,0))))))) -> 0 | AP8: =IF(U8="węgiel",X8*'[2]Założenia,wskaźniki, listy'!$C$47,IF(U8="gaz",X8*'[2]Założenia,wskaźniki, listy'!$D$47,IF(U8="drewno",X8*'[2]Założenia,wskaźniki, listy'!$E$47,IF(U8="pelet",X8*'[2]Założenia,wskaźniki, listy'!$F$47,IF(U8="olej opałowy",X8*'[2]Założenia,wskaźniki, listy'!$G$47,IF(U8="sieć ciepłownicza",0,IF(U8="prąd",0,0))))))) -> 0 | AQ8: =IF(U8="węgiel",X8*'[2]Założenia,wskaźniki, listy'!$C$48,IF(U8="gaz",X8*'[2]Założenia,wskaźniki, listy'!$D$48,IF(U8="drewno",X8*'[2]Założenia,wskaźniki, listy'!$E$48,IF(U8="pelet",X8*'[2]Założenia,wskaźniki, listy'!$F$48,IF(U8="olej opałowy",X8*'[2]Założenia,wskaźniki, listy'!$G$48,IF(U8="sieć ciepłownicza",0,IF(U8="prąd",0,0))))))) -> 0 | AR8: =IF(U8="węgiel",X8*'[2]Założenia,wskaźniki, listy'!$C$49,IF(U8="gaz",X8*'[2]Założenia,wskaźniki, listy'!$D$49,IF(U8="drewno",X8*'[2]Założenia,wskaźniki, listy'!$E$49,IF(U8="pelet",X8*'[2]Założenia,wskaźniki, listy'!$F$49,IF(U8="olej opałowy",X8*'[2]Założenia,wskaźniki, listy'!$G$49,IF(U8="sieć ciepłownicza",0,IF(U8="prąd",0,0))))))) -> 0 | AS8: =IF(U8="węgiel",X8*'[2]Założenia,wskaźniki, listy'!$C$50,IF(U8="gaz",X8*'[2]Założenia,wskaźniki, listy'!$D$50,IF(U8="drewno",X8*'[2]Założenia,wskaźniki, listy'!$E$50,IF(U8="pelet",X8*'[2]Założenia,wskaźniki, listy'!$F$50,IF(U8="olej opałowy",X8*'[2]Założenia,wskaźniki, listy'!$G$50,IF(U8="sieć ciepłownicza",0,IF(U8="prąd",0,0))))))) -> 0 | AT8: =U8 -> 0 | AV8: =IF(O8="węgiel",U8*$AX$61,IF(O8="gaz",U8*$AY$61,IF(O8="drewno",U8*$AZ$61,IF(O8="pelet",U8*$BA$61,IF(O8="olej opałowy",U8*$BB$61,IF(O8="sieć ciepłownicza",0,IF(O8="prąd",0,0))))))) -> 0 | AW8: =IF(O8="węgiel",U8*$AX$62,IF(O8="gaz",U8*$AY$62,IF(O8="drewno",U8*$AZ$62,IF(O8="pelet",U8*$BA$62,IF(O8="olej opałowy",U8*$BB$62,IF(O8="sieć ciepłownicza",0,IF(O8="prąd",0,0))))))) -> 0 | AX8: =IF(O8="węgiel",U8*$AX$63,IF(O8="gaz",U8*$AY$63,IF(O8="drewno",U8*$AZ$63,IF(O8="pelet",U8*$BA$63,IF(O8="olej opałowy",U8*$BB$63,IF(O8="sieć ciepłownicza",0,IF(O8="prąd",0,0)))))))+1.191*AU8 -> 0 | AY8: =IF(O8="węgiel",U8*$AX$64,IF(O8="gaz",U8*$AY$64,IF(O8="drewno",U8*$AZ$64,IF(O8="pelet",U8*$BA$64,IF(O8="olej opałowy",U8*$BB$64,IF(O8="sieć ciepłownicza",0,IF(O8="prąd",0,0))))))) -> 0 | AZ8: =IF(O8="węgiel",U8*$AX$65,IF(O8="gaz",U8*$AY$65,IF(O8="drewno",U8*$AZ$65,IF(O8="pelet",U8*$BA$65,IF(O8="olej opałowy",U8*$BB$65,IF(O8="sieć ciepłownicza",0,IF(O8="prąd",0,0))))))) -> 0 | BA8: =IF(O8="węgiel",U8*$AX$66,IF(O8="gaz",U8*$AY$66,IF(O8="drewno",U8*$AZ$66,IF(O8="pelet",U8*$BA$66,IF(O8="olej opałowy",U8*$BB$66,IF(O8="sieć ciepłownicza",0,IF(O8="prąd",0,0))))))) -> 0 | BB8: =IF(O8="węgiel",U8*$AX$67,IF(O8="gaz",U8*$AY$67,IF(O8="drewno",U8*$AZ$67,IF(O8="pelet",U8*$BA$67,IF(O8="olej opałowy",U8*$BB$67,IF(O8="sieć ciepłownicza",0,IF(O8="prąd",0,0))))))) -> 0 | BN8: =IF(F8<=1966,G8) -> 0 | BO8: =IF(N8="kompletna",BN8,IF(N8="częściowa",0.5*BN8)) -> FALSE | BP8: =IF(F8>1966,IF(F8<=1985,G8)) -> FALSE | BQ8: =IF(N8="kompletna",BP8,IF(N8="częściowa",0.5*BP8)) -> FALSE | BR8: =IF(F8>1985,IF(F8<=1992,G8)) -> FALSE | BS8: =IF(N8="kompletna",BR8,IF(N8="częściowa",0.5*BR8)) -> FALSE | BT8: =IF(F8>1992,IF(F8<=1996,G8)) -> FALSE | BU8: =IF(N8="kompletna",BT8,IF(N8="częściowa",0.5*BT8)) -> FALSE | BV8: =IF(F8>1996,IF(F8<=2014,G8)) -> FALSE | BW8: =IF(N8="kompletna",BV8,IF(N8="częściowa",0.5*BV8)) -> FALSE | BX8: =IF(O8="węgiel",X8) -> FALSE | BY8: =IF(O8="gaz",U8) -> FALSE | BZ8: =IF(O8="drewno",X8) -> FALSE | CA8: =IF(O8="pelet",X8) -> FALSE | CB8: =IF(O8="olej opałowy",X8) -> FALSE | CC8: =IF(O8="prąd",U8) -> FALSE | CD8: =IF(T8="węgiel",W8) -> FALSE | CE8: =IF(T8="gaz",W8) -> FALSE | CF8: =IF(T8="drewno",W8) -> FALSE | CG8: =IF(T8="pelet",W8) -> FALSE | CH8: =IF(T8="olej opałowy",W8) -> FALSE | CI8: =IF(T8="prąd",W8) -> FALSE
